{"text_format":"1","workbook":"xlsx","n_sheets":64,"sheets":["START","Instructions","Template names","Lookup and lists","Org structure","Contacts","A1-Sum","A2-FinPerf SC","A2A","A3-FinPerf V","A3A","A4-FinPerf RE","A5-Capex","A5A","A6-FinPos","A7-CFlow","A8-ResRecon","A9-Asset","A10-SerDel","SA1","SA2","SA3","SA4","SA5","SA6","SA7","SA8","SA9","SA10","SA11","SA12a","SA12b","SA13a","SA13b","SA14","SA15","SA16","SA17","SA18","SA19","SA20","SA21","SA22","SA23","SA24","SA25","SA26","SA27","SA28","SA29","SA30","SA31","SA32","SA33","SA34a","SA34b","SA34c","SA34d","SA35","SA36","SA37","NERF","MSCOA","Compliance assessment"],"not_rendered":{"charts":0,"images":17,"macros":1,"external_links":5,"defined_names":1405,"comments":0,"pivot_tables":0},"unopened":[],"bounds":{"document_bytes":16777216,"sheet_cells":100000,"rows_first":2000,"rows_last":500,"rows_between":2000,"halvings":0,"cell_chars":16384,"cell_head_chars":4096},"cells_cut":0,"cells_raw":0,"read":"whole","date_system":"1900"}

{"sheet":"START","index":0,"n_rows":0,"n_cols":0,"rows_kept":0,"cut":false,"hidden":false,"merged":[]}

{"sheet":"Instructions","index":1,"n_rows":36,"n_cols":24,"rows_kept":36,"cut":false,"hidden":false,"merged":[]}
[]
[null,null,null,2020]
[]
[null,null,null,null,null,null,null,null,null,null,null,null,null,null,null,null,null,null,null,null,null,null,null,"Yes"]
[null,null,null,null,null,null,null,null,null,null,null,null,null,null,null,null,null,null,null,null,null,null,null,"No"]
[]
[null,null,null,null,null,null,null,null,null,null,null,null,null,null,null,null,null,null,null,null,null,null,"Type of Entities Range:","Parent Municipality"]
[null,null,null,null,null,null,null,null,null,null,null,null,null,null,null,null,null,null,null,null,null,null,null,"Consolidated Information"]
[]
[]
[]
[]
[]
[]
[]
[]
[null,null,null,null,null,null,null,null,null,null,null,null,null,null,null,null,null,null,null,null,null,null,"MTREF Range:",2008]
[null,null,null,null,null,null,null,null,null,null,null,null,null,null,null,null,null,null,null,null,null,null,null,2009]
[null,null,null,null,null,null,null,null,null,null,null,null,null,null,null,null,null,null,null,null,null,null,null,2010]
[null,null,null,null,null,null,null,null,null,null,null,null,null,null,null,null,null,null,null,null,null,null,null,2011]
[null,null,null,null,null,null,null,null,null,null,null,null,null,null,null,null,null,null,null,null,null,null,null,2012]
[null,null,null,null,null,null,null,null,null,null,null,null,null,null,null,null,null,null,null,null,null,null,null,2013]
[null,null,null,null,null,null,null,null,null,null,null,null,null,null,null,null,null,null,null,null,null,null,null,2014]
[null,null,null,null,null,null,null,null,null,null,null,null,null,null,null,null,null,null,null,null,null,null,null,2015]
[null,null,null,null,null,null,null,null,null,null,null,null,null,null,null,null,null,null,null,null,null,null,null,2016]
[null,null,null,null,null,null,null,null,null,null,null,null,null,null,null,null,null,null,null,null,null,null,null,2017]
[null,null,null,null,null,null,null,null,null,null,null,null,null,null,null,null,null,null,null,null,null,null,null,2018]
[null,null,null,null,null,null,null,null,null,null,null,null,null,null,null,null,null,null,null,null,null,null,null,2019]
[null,null,null,null,null,null,null,null,null,null,null,null,null,null,null,null,null,null,null,null,null,null,null,2020]
[null,null,null,null,null,null,null,null,null,null,null,null,null,null,null,null,null,null,null,null,null,null,null,2021]
[null,null,null,null,null,null,null,null,null,null,null,null,null,null,null,null,null,null,null,null,null,null,null,2022]
[]
[null,null,null,null,null,null,null,null,null,null,null,null,null,null,null,null,null,null,null,null,null,null,"MTREF Linked:",7]
[null,null,null,null,null,null,null,null,null,null,null,null,null,null,null,null,null,null,null,null,null,null,"MTREF:",{"$f":"INDEX(X17:X31,X33,1)","v":2014}]
[]
[null,null,null,null,null,null,null,null,null,null,null,null,null,null,null,null,null,null,null,null,null,null,"Fin Year:",{"$f":"MTREF&\"/\"&RIGHT(MTREF,2)+1","v":"2014/15"}]

{"sheet":"Template names","index":2,"n_rows":177,"n_cols":6,"rows_kept":177,"cut":false,"hidden":true,"merged":[[0,0,0,3],[86,0,86,1],[109,0,109,1],[98,0,98,1],[91,0,91,3]]}
["Common sheet headings"]
["Head1",{"$f":"HLOOKUP(MTREF,Headings,2)","v":"2012/13"},"Prior year -1"]
["Head1A",{"$f":"HLOOKUP(MTREF,Headings,3)","v":"2011/12"},"Prior year -2"]
["Head1B",{"$f":"HLOOKUP(MTREF,Headings,4)","v":"2010/11"},"Prior year -3"]
["Head2",{"$f":"HLOOKUP(MTREF,Headings,5)","v":"Current Year 2013/14"},"Year in which budget is being prepared"]
["Head2A",{"$f":"HLOOKUP(MTREF,Headings,6)","v":"2013/14"},"Year in which budget is being prepared"]
["Head3",{"$f":"HLOOKUP(MTREF,Headings,7)","v":"2014/15 Medium Term Revenue & Expenditure Framework"},"MTREF name"]
["Head4","LTFS","Long term financial strategy"]
["Head5","Audited Outcome"]
["Head5A","Outcome"]
["Head5B","Pre-audit outcome"]
["Head6","Original Budget"]
["Head7","Adjusted Budget"]
["Head8","Full Year Forecast"]
["Head9",{"$f":"HLOOKUP(MTREF,Headings,8)","v":"Budget Year 2014/15"},"1st year of MTREF","Year1"]
["Head10",{"$f":"HLOOKUP(MTREF,Headings,9)","v":"Budget Year +1 2015/16"},"2nd year of MTREF","Year2"]
["Head11",{"$f":"HLOOKUP(MTREF,Headings,10)","v":"Budget Year +2 2016/17"},"3rd year of MTREF","Year3"]
["Head12",{"$f":"HLOOKUP(MTREF,Headings,11)","v":"Forecast 2017/18"},"1st yr of long term forecast","Year4"]
["Head13",{"$f":"HLOOKUP(MTREF,Headings,12)","v":"Forecast 2018/19"},"Next yr of long term forecast","Year5"]
["Head14",{"$f":"HLOOKUP(MTREF,Headings,13)","v":"Forecast 2019/20"},"Next yr of long term forecast","Year6"]
["Head15",{"$f":"HLOOKUP(MTREF,Headings,14)","v":"Forecast 2020/21"},"Next yr of long term forecast","Year7"]
["Head16",{"$f":"HLOOKUP(MTREF,Headings,15)","v":"Forecast 2021/22"},"Next yr of long term forecast","Year8"]
["Head17",{"$f":"HLOOKUP(MTREF,Headings,16)","v":"Forecast 2022/23"},"Next yr of long term forecast","Year9"]
["Head18",{"$f":"HLOOKUP(MTREF,Headings,17)","v":"Forecast 2023/24"},"Next yr of long term forecast","Year10"]
["Head19",{"$f":"HLOOKUP(MTREF,Headings,18)","v":"Forecast 2024/25"},"Next yr of long term forecast","Year11"]
["Head20",{"$f":"HLOOKUP(MTREF,Headings,19)","v":"Forecast 2025/26"},"Next yr of long term forecast","Year12"]
["Head21",{"$f":"HLOOKUP(MTREF,Headings,20)","v":"Forecast 2026/27"},"Next yr of long term forecast","Year13"]
["Head22",{"$f":"HLOOKUP(MTREF,Headings,21)","v":"Forecast 2027/28"},"Next yr of long term forecast","Year14"]
["Head23",{"$f":"HLOOKUP(MTREF,Headings,22)","v":"Forecast 2028/29"},"Next yr of long term forecast","Year15"]
["Head24","Description"]
["Head25"]
["Head26","Vote Description"]
["Head27","Ref"]
["Head27a","References"]
["Head28","Surplus/(Deficit) for the year",null,"Result"]
["Head29",{"$f":"HLOOKUP(MTREF,Headings,23)","v":"Annual target 2014/15"}]
["Head30",{"$f":"HLOOKUP(MTREF,Headings,24)","v":"Revised target 2014/15"}]
["Head31","Quarter ended 30 September"]
["Head32","Quarter ended 31 December"]
["Head33","Quarter ended 31 March"]
["Head34","Quarter ended 30 June"]
["Head35","Variance explanation"]
["Head36","YTD  Actual 31 Dec"]
["Head37","YTD  Budget 31 Dec"]
["Head38","Monthly actual"]
["Head39","YTD actual"]
["Head40","YTD budget"]
["Head41","YTD variance"]
["Head42","Surplus/ (Deficit) for the yr/period"]
["Head43",{"$f":"Head3&\" Summary\"","v":"2014/15 Medium Term Revenue & Expenditure Framework Summary"}]
["Head44","2001 Census"]
["Head45","2011 Census"]
["Head46"," - Adjustments Budget - January 2007"]
["Head47","Previous target year to complete"]
["Head48","Present value"]
["Head49"]
["Head50","Other Adjusts."]
["Head51","Accum. Funds"]
["Head52","Multi-year capital"]
["Head53","Unfore. Unavoid."]
["Head54","Prior Adjusted"]
["Head55","Nat. or Prov. Govt"]
["Head56","Total Adjusts."]
["SFPerf1","Budgeted Financial Performance"]
["SFPerf2","Forecast Financial Performance"]
["SFPos1","Budgeted Financial Position"]
["SFPos2","Forecast Financial Position"]
["Cash1","Budget Cash Flow"]
["Cash2","Forecast Cash Flow"]
["RandM","Expenditure includes repairs & maintenance of R'000"]
["Depart1","Department 1 - ",null,"DEP1"]
["Depart2","Department 2 - ",null,"DEP2"]
["Depart3","Department 3 - ",null,"DEP3"]
["Depart4","Department 4 - ",null,"DEP4"]
["Depart5","Department 5 - ",null,"DEP5"]
["Depart6","Department 6 - ",null,"DEP6"]
["Depart7","Department 7 - ",null,"DEP7"]
["Depart8","Department 8 - ",null,"DEP8"]
["Depart9","Department 9 - ",null,"DEP9"]
["Depart10","Department 10 - ",null,"DEP10"]
["Depart11","Department 11 - ",null,"DEP11"]
["Depart12","Department 12 - ",null,"DEP12"]
["Depart13","Department 13 - ",null,"DEP13"]
["Depart14","Department 14 - ",null,"DEP14"]
[]
[]
["Base year of forecast column selection names"]
["Choose","ACT"]
[null,"APP"]
[null,"ADJ"]
[]
["Standard nomenclature"]
["Muni",{"$f":"'Lookup and lists'!B28","v":"DC16 Xhariep"}]
["Municipal Entities",2,"Type of report:",2]
[{"$f":"IF((MuniEntities=1)*(MuniType=2),\"YES\",\"NO\")","v":"NO"},"Does this municipality have entities (consolidated budget and entity budgets required)? YES/NO"]
["Entity 1","(Pty) Ltd Example 1 - Municipal entity - ",null,"Ent1"]
["Entity 2","(Pty) Ltd Example 2 - Municipal entity - ",null,"Ent2"]
["Entity 3","Municipal Entity Example 3",null,"Ent3"]
["Budget approval tables",null,"Chart x-ref","Sch/Tab/Ch","Alternative for municipalities without entities","Alternative for municipalities without entities"]
[null,{"$f":"IF(Consolques=\"YES\",E100,F100)","v":"Table A1 Budget Summary"},null,"Table A1 ",{"$f":"D100&\"Consolidated Budget Summary\"","v":"Table A1 Consolidated Budget Summary"},{"$f":"D100&\"Budget Summary\"","v":"Table A1 Budget Summary"}]
[null,"Table A2 Budgeted Financial Performance (revenue and expenditure by standard classification)","Charts 5, 6","Table A2 ",{"$f":"D101&\"Consolidated Budgeted Financial Performance (revenue and expenditure by standard classification)\"","v":"Table A2 Consolidated Budgeted Financial Performance (revenue and expenditure by standard classification)"},{"$f":"D101&\"Budgeted Financial Performance (revenue and expenditure by standard classification)\"","v":"Table A2 Budgeted Financial Performance (revenue and expenditure by standard classification)"}]
[null,"Table A3 Budgeted Financial Performance (revenue and expenditure by municipal vote)",null,"Table A3 ",{"$f":"D102&\"Consolidated Budgeted Financial Performance (revenue and expenditure by municipal vote)\"","v":"Table A3 Consolidated Budgeted Financial Performance (revenue and expenditure by municipal vote)"},{"$f":"D102&\"Budgeted Financial Performance (revenue and expenditure by municipal vote)\"","v":"Table A3 Budgeted Financial Performance (revenue and expenditure by municipal vote)"}]
[null,"Table A4 Budgeted Financial Performance (revenue and expenditure)","Charts 1, 2, 3, 4","Table A4 ",{"$f":"D103&\"Consolidated Budgeted Financial Performance (revenue and expenditure)\"","v":"Table A4 Consolidated Budgeted Financial Performance (revenue and expenditure)"},{"$f":"D103&\"Budgeted Financial Performance (revenue and expenditure)\"","v":"Table A4 Budgeted Financial Performance (revenue and expenditure)"}]
[null,"Table A5 Budgeted Capital Expenditure by vote, standard classification and funding","Charts 7, 8, 9, 10, 20","Table A5 ",{"$f":"D104&\"Consolidated Budgeted Capital Expenditure by vote, standard classification and funding\"","v":"Table A5 Consolidated Budgeted Capital Expenditure by vote, standard classification and funding"},{"$f":"D104&\"Budgeted Capital Expenditure by vote, standard classification and funding\"","v":"Table A5 Budgeted Capital Expenditure by vote, standard classification and funding"}]
[null,"Table A6 Budgeted Financial Position",null,"Table A6 ",{"$f":"D105&\"Consolidated Budgeted Financial Position\"","v":"Table A6 Consolidated Budgeted Financial Position"},{"$f":"D105&\"Budgeted Financial Position\"","v":"Table A6 Budgeted Financial Position"}]
[null,"Table A7 Budgeted Cash Flows",null,"Table A7 ",{"$f":"D106&\"Consolidated Budgeted Cash Flows\"","v":"Table A7 Consolidated Budgeted Cash Flows"},{"$f":"D106&\"Budgeted Cash Flows\"","v":"Table A7 Budgeted Cash Flows"}]
[null,"Table A8 Cash backed reserves/accumulated surplus reconciliation",null,"Table A8 ",{"$f":"D107&\"Consolidated Cash backed reserves/accumulated surplus reconciliation\"","v":"Table A8 Consolidated Cash backed reserves/accumulated surplus reconciliation"},{"$f":"D107&\"Cash backed reserves/accumulated surplus reconciliation\"","v":"Table A8 Cash backed reserves/accumulated surplus reconciliation"}]
[null,"Table A9 Asset Management",null,"Table A9 ",{"$f":"D108&\"Consolidated Asset Management\"","v":"Table A9 Consolidated Asset Management"},{"$f":"D108&\"Asset Management\"","v":"Table A9 Asset Management"}]
[null,"Table A10 Basic service delivery measurement",null,"Table A10 ",{"$f":"D109&\"Consolidated basic service delivery measurement\"","v":"Table A10 Consolidated basic service delivery measurement"},{"$f":"D109&\"Basic service delivery measurement\"","v":"Table A10 Basic service delivery measurement"}]
["Supportinging Tables to the Budget Approval Tables",null,{"$f":"$C$99","v":"Chart x-ref"},{"$f":"$D$99","v":"Sch/Tab/Ch"}]
["Supporting Table SA1",{"$f":"A111&\" Supportinging detail to 'Budgeted Financial Performance'\"","v":"Supporting Table SA1 Supportinging detail to 'Budgeted Financial Performance'"}]
["Supporting Table SA2 ",{"$f":"IF(Consolques=\"YES\",E112,F112)","v":"Supporting Table SA2 Matrix Financial Performance Budget (revenue source/expenditure type and dept.)"},null,null,{"$f":"A112&\"Consolidated Matrix Financial Performance Budget (revenue source/expenditure type & dept.)\"","v":"Supporting Table SA2 Consolidated Matrix Financial Performance Budget (revenue source/expenditure type & dept.)"},{"$f":"A112&\"Matrix Financial Performance Budget (revenue source/expenditure type and dept.)\"","v":"Supporting Table SA2 Matrix Financial Performance Budget (revenue source/expenditure type and dept.)"}]
["Supporting Table SA3 ",{"$f":"A113&\"Supportinging detail to 'Budgeted Financial Position'\"","v":"Supporting Table SA3 Supportinging detail to 'Budgeted Financial Position'"}]
["Supporting Table SA4 ",{"$f":"A114&\"Reconciliation of IDP strategic objectives and budget (revenue)\"","v":"Supporting Table SA4 Reconciliation of IDP strategic objectives and budget (revenue)"},"Chart 11"]
["Supporting Table SA5 ",{"$f":"A115&\"Reconciliation of IDP strategic objectives and budget (operating expenditure)\"","v":"Supporting Table SA5 Reconciliation of IDP strategic objectives and budget (operating expenditure)"},"Chart 12"]
["Supporting Table SA6 ",{"$f":"A116&\"Reconciliation of IDP strategic objectives and budget (capital expenditure)\"","v":"Supporting Table SA6 Reconciliation of IDP strategic objectives and budget (capital expenditure)"},"Chart 13"]
["Supporting Table SA7",{"$f":"A117&\" Measureable performance objectives\"","v":"Supporting Table SA7 Measureable performance objectives"}]
["Supporting Table SA8",{"$f":"A118&\" Performance indicators and benchmarks\"","v":"Supporting Table SA8 Performance indicators and benchmarks"},"Chts 15-19"]
["Supporting Table SA9",{"$f":"A119&\" Social, economic and demographic statistics and assumptions\"","v":"Supporting Table SA9 Social, economic and demographic statistics and assumptions"}]
["Supporting Table SA10",{"$f":"A120&\" Funding measurement\"","v":"Supporting Table SA10 Funding measurement"},"Chart 14"]
["Supporting Table SA11",{"$f":"A121&\" Property rates summary\"","v":"Supporting Table SA11 Property rates summary"}]
["Supporting Table SA12a",{"$f":"A122&\" Property rates by category (current year)\"","v":"Supporting Table SA12a Property rates by category (current year)"}]
["Supporting Table SA12b",{"$f":"A123&\" Property rates by category (budget year)\"","v":"Supporting Table SA12b Property rates by category (budget year)"}]
["Supporting Table SA13a",{"$f":"A124&\" Service Tariffs by category\"","v":"Supporting Table SA13a Service Tariffs by category"}]
["Supporting Table SA13b",{"$f":"A125&\" Service Tariffs by category - explanatory\"","v":"Supporting Table SA13b Service Tariffs by category - explanatory"}]
["Supporting Table SA14",{"$f":"A126&\" Household bills\"","v":"Supporting Table SA14 Household bills"}]
["Supporting Table SA15",{"$f":"A127&\" Investment particulars by type\"","v":"Supporting Table SA15 Investment particulars by type"}]
["Supporting Table SA16",{"$f":"A128&\" Investment particulars by maturity\"","v":"Supporting Table SA16 Investment particulars by maturity"}]
["Supporting Table SA17",{"$f":"A129&\" Borrowing\"","v":"Supporting Table SA17 Borrowing"}]
["Supporting Table SA18",{"$f":"A130&\" Transfers and grant receipts\"","v":"Supporting Table SA18 Transfers and grant receipts"}]
["Supporting Table SA19",{"$f":"A131&\" Expenditure on transfers and grant programme\"","v":"Supporting Table SA19 Expenditure on transfers and grant programme"}]
["Supporting Table SA20",{"$f":"A132&\" Reconciliation of transfers, grant receipts and unspent funds\"","v":"Supporting Table SA20 Reconciliation of transfers, grant receipts and unspent funds"}]
["Supporting Table SA21",{"$f":"A133&\" Transfers and grants made by the municipality\"","v":"Supporting Table SA21 Transfers and grants made by the municipality"}]
["Supporting Table SA22",{"$f":"A134&\" Summary councillor and staff benefits\"","v":"Supporting Table SA22 Summary councillor and staff benefits"}]
["Supporting Table SA23",{"$f":"A135&\" Salaries, allowances & benefits (political office bearers/councillors/senior managers)\"","v":"Supporting Table SA23 Salaries, allowances & benefits (political office bearers/councillors/senior managers)"}]
["Supporting Table SA24",{"$f":"A136&\" Summary of personnel numbers\"","v":"Supporting Table SA24 Summary of personnel numbers"}]
["Supporting Table SA25",{"$f":"IF(Consolques=\"YES\",E137,F137)","v":"Supporting Table SA25 Budgeted monthly revenue and expenditure"},null,null,{"$f":"A137&\" Consolidated budgeted monthly revenue and expenditure\"","v":"Supporting Table SA25 Consolidated budgeted monthly revenue and expenditure"},{"$f":"A137&\" Budgeted monthly revenue and expenditure\"","v":"Supporting Table SA25 Budgeted monthly revenue and expenditure"}]
["Supporting Table SA26","Supporting Table SA26 Budgeted monthly revenue and expenditure (municipal vote)",null,null,{"$f":"A138&\" Consolidated budgeted monthly revenue and expenditure (municipal vote)\"","v":"Supporting Table SA26 Consolidated budgeted monthly revenue and expenditure (municipal vote)"},{"$f":"A138&\" Budgeted monthly revenue and expenditure (municipal vote)\"","v":"Supporting Table SA26 Budgeted monthly revenue and expenditure (municipal vote)"}]
["Supporting Table SA27","Supporting Table SA27 Budgeted monthly revenue and expenditure (standard classification)",null,null,{"$f":"A139&\" Consolidated budgeted monthly revenue and expenditure (standard classification)\"","v":"Supporting Table SA27 Consolidated budgeted monthly revenue and expenditure (standard classification)"},{"$f":"A139&\" Budgeted monthly revenue and expenditure (standard classification)\"","v":"Supporting Table SA27 Budgeted monthly revenue and expenditure (standard classification)"}]
["Supporting Table SA28","Supporting Table SA28 Budgeted monthly capital expenditure (municipal vote)",null,null,{"$f":"A140&\" Consolidated budgeted monthly capital expenditure (municipal vote)\"","v":"Supporting Table SA28 Consolidated budgeted monthly capital expenditure (municipal vote)"},{"$f":"A140&\" Budgeted monthly capital expenditure (municipal vote)\"","v":"Supporting Table SA28 Budgeted monthly capital expenditure (municipal vote)"}]
["Supporting Table SA29","Supporting Table SA29 Budgeted monthly capital expenditure (standard classification)",null,null,{"$f":"A141&\" Consolidated budgeted monthly capital expenditure (standard classification)\"","v":"Supporting Table SA29 Consolidated budgeted monthly capital expenditure (standard classification)"},{"$f":"A141&\" Budgeted monthly capital expenditure (standard classification)\"","v":"Supporting Table SA29 Budgeted monthly capital expenditure (standard classification)"}]
["Supporting Table SA30","Supporting Table SA30 Budgeted monthly cash flow",null,null,{"$f":"A142&\" Consolidated budgeted monthly cash flow\"","v":"Supporting Table SA30 Consolidated budgeted monthly cash flow"},{"$f":"A142&\" Budgeted monthly cash flow\"","v":"Supporting Table SA30 Budgeted monthly cash flow"}]
["Supporting Table SA31","NOT REQUIRED - municipality does not have entities",null,null,{"$f":"A143&\" Aggregated entity budget\"","v":"Supporting Table SA31 Aggregated entity budget"},"NOT REQUIRED - municipality does not have entities"]
["Supporting Table SA32",{"$f":"A144&\" List of external mechanisms\"","v":"Supporting Table SA32 List of external mechanisms"}]
["Supporting Table SA33",{"$f":"A145&\" Contracts having future budgetary implications\"","v":"Supporting Table SA33 Contracts having future budgetary implications"}]
["Supporting Table SA34a",{"$f":"IF(Consolques=\"YES\",E146,F146)","v":"Supporting Table SA34a Capital expenditure on new assets by asset class"},null,null,{"$f":"A146&\" Consolidated capital expenditure on new assets by asset class\"","v":"Supporting Table SA34a Consolidated capital expenditure on new assets by asset class"},{"$f":"A146&\" Capital expenditure on new assets by asset class\"","v":"Supporting Table SA34a Capital expenditure on new assets by asset class"}]
["Supporting Table SA34b","Supporting Table SA34b Capital expenditure on the renewal of existing assets by asset class",null,null,{"$f":"A147&\" Consolidated capital expenditure on existing assets by asset class\"","v":"Supporting Table SA34b Consolidated capital expenditure on existing assets by asset class"},{"$f":"A147&\" Capital expenditure on the renewal of existing assets by asset class\"","v":"Supporting Table SA34b Capital expenditure on the renewal of existing assets by asset class"}]
["Supporting Table SA34c","Supporting Table SA34c Repairs and maintenance expenditure by asset class",null,null,{"$f":"A148&\" Consolidated repairs and maintenance by asset class\"","v":"Supporting Table SA34c Consolidated repairs and maintenance by asset class"},{"$f":"A148&\" Repairs and maintenance expenditure by asset class\"","v":"Supporting Table SA34c Repairs and maintenance expenditure by asset class"}]
["Supporting Table SA34d",{"$f":"IF(Consolques=\"YES\",E149,F149)","v":"Supporting Table SA34d Depreciation by asset class"},null,null,{"$f":"A149&\" Consolidated Depreciation by asset class\"","v":"Supporting Table SA34d Consolidated Depreciation by asset class"},{"$f":"A149&\" Depreciation by asset class\"","v":"Supporting Table SA34d Depreciation by asset class"}]
["Supporting Table SA35","Supporting Table SA35 Future financial implications of the capital budget",null,null,{"$f":"A150&\" Consolidated future financial implications of the capital budget\"","v":"Supporting Table SA35 Consolidated future financial implications of the capital budget"},{"$f":"A150& \" Future financial implications of the capital budget\"","v":"Supporting Table SA35 Future financial implications of the capital budget"}]
["Supporting Table SA36","Supporting Table SA36 Detailed capital budget",null,null,{"$f":"A151&\" Consolidated detailed capital budget\"","v":"Supporting Table SA36 Consolidated detailed capital budget"},{"$f":"A151& \" Detailed capital budget\"","v":"Supporting Table SA36 Detailed capital budget"}]
["Supporting Table SA37","Supporting Table SA37 Projects delayed from previous financial year/s",null,null,{"$f":"A152&\" Consolidated projects delayed from previous financial year/s\"","v":"Supporting Table SA37 Consolidated projects delayed from previous financial year/s"},{"$f":"A152& \" Projects delayed from previous financial year/s\"","v":"Supporting Table SA37 Projects delayed from previous financial year/s"}]
[]
["Budget Charts","Charts","Cross reference"]
["Chart A1 ",{"$f":"A155&\"Revenue by Municipal Vote\"","v":"Chart A1 Revenue by Municipal Vote"}]
["Chart A2 ",{"$f":"A156&\"Expenditure by Municipal Vote\"","v":"Chart A2 Expenditure by Municipal Vote"}]
["Chart A3 ",{"$f":"A157&\"Revenue by Standard Classification\"","v":"Chart A3 Revenue by Standard Classification"},"A2"]
["Chart A4 ",{"$f":"A158&\"Expenditure by Standard Classification\"","v":"Chart A4 Expenditure by Standard Classification"},"A2"]
["Chart A5 ",{"$f":"A159&\"Revenue by Major Source (refer 'Minor' source for 'Other Revenue' allocation\"","v":"Chart A5 Revenue by Major Source (refer 'Minor' source for 'Other Revenue' allocation"},"A3"]
["Chart A6 ",{"$f":"A160&\"Revenue by Minor Source (Other)\"","v":"Chart A6 Revenue by Minor Source (Other)"},"A3"]
["Chart A7 ",{"$f":"A161&\"Expenditure by Major Type\"","v":"Chart A7 Expenditure by Major Type"},"A3"]
["Chart A8 ",{"$f":"A162&\"Expenditure by Minor Type (Other)\"","v":"Chart A8 Expenditure by Minor Type (Other)"},"A3"]
["Chart A9 ",{"$f":"A163&\"Capital Expenditure by Municipal Vote/Appropriation (Major)\"","v":"Chart A9 Capital Expenditure by Municipal Vote/Appropriation (Major)"},"A5"]
["Chart A10 ",{"$f":"A164&\"Capital Expenditure by Municipal Vote/Appropriation (Minor)\"","v":"Chart A10 Capital Expenditure by Municipal Vote/Appropriation (Minor)"},"A5"]
["Chart A11 ",{"$f":"A164&\"Capital Expenditure by Standard Classification\"","v":"Chart A10 Capital Expenditure by Standard Classification"},"A5"]
["Chart A12 ",{"$f":"A166&\"Capital expenditure performance trend\"","v":"Chart A12 Capital expenditure performance trend"},"A5"]
["Chart A13 ",{"$f":"A167&\"Capital funding by Source\"","v":"Chart A13 Capital funding by Source"},"A5"]
["Chart A14 ",{"$f":"A168&\"Cash flow trend\"","v":"Chart A14 Cash flow trend"},"A7"]
["Chart A15 ",{"$f":"A169&\"IDP Strategic Objective - Revenue\"","v":"Chart A15 IDP Strategic Objective - Revenue"},"Table A4"]
["Chart A16 ",{"$f":"A170&\"IDP Strategic Objective - Expenditure\"","v":"Chart A16 IDP Strategic Objective - Expenditure"},"Table A5"]
["Chart A17 ",{"$f":"A171&\"IDP Strategic Objective - Capital Expenditure\"","v":"Chart A17 IDP Strategic Objective - Capital Expenditure"},"Table A6"]
["Chart A18 ",{"$f":"A172&\"Debt (borrowing to Total Revenue)\"","v":"Chart A18 Debt (borrowing to Total Revenue)"},"Table A8"]
["Chart A19 ",{"$f":"A173&\"Debtors' trend analysis\"","v":"Chart A19 Debtors' trend analysis"},"Table A8"]
["Chart A20 ",{"$f":"A174&\"Distribution losses\"","v":"Chart A20 Distribution losses"},"Table A8"]
["Chart A21 ",{"$f":"A175&\"Borrowed funding of capital expenditure\"","v":"Chart A21 Borrowed funding of capital expenditure"},"Table A8"]
["Chart A22 ",{"$f":"A176&\"Expenditure analysis (% of Revenue)\"","v":"Chart A22 Expenditure analysis (% of Revenue)"},"Table A8"]
["Chart A23 ",{"$f":"A177&\"Increases in service charges\"","v":"Chart A23 Increases in service charges"},"Table A10"]

{"sheet":"Lookup and lists","index":3,"n_rows":308,"n_cols":29,"rows_kept":308,"cut":false,"hidden":true,"merged":[]}
["Description",2007,2008,2009,2010,2011,2012,2013,2014,2015,2016,2017,2018,2019,2020,null,"Lists",null,null,null,null,null,null,null,"Grants:","National - opex","Provincial - opex","National - capex","Provincial - capex"]
[{"$f":"'Template names'!C2","v":"Prior year -1"},"2005/06","2006/07","2007/08",{"$f":"E1-2&\"/\"&RIGHT(E1,2)-1","v":"2008/9"},"2009/10","2010/11","2011/12","2012/13","2013/14","2014/15","2015/16","2016/17","2017/18","2018/19",null,"Yes","<1","<4","Market","Land & impr.","Yes","Uniform","Yrs",null,"Local Government Equitable Share","Health subsidy"," Municipal Infrastructure Grant (MIG)","Agriculture"]
[{"$f":"'Template names'!C3","v":"Prior year -2"},"2004/05","2005/06","2006/07",{"$f":"E1-3&\"/\"&RIGHT(E1,2)-2","v":"2007/8"},"2008/9","2009/10","2010/11","2011/12","2012/13","2013/14","2014/15","2015/16","2016/17","2017/18",null,"No",1,4,"Dep.Replace","Land only","No","Variable","Mths",null,"RSC Levy Replacement ","Ambulance subsidy"," Public Transport and Systems","Education"]
[{"$f":"'Template names'!C4","v":"Prior year -3"},"2003/04","2004/05","2005/06",{"$f":"E1-4&\"/\"&RIGHT(E1,2)-3","v":"2006/7"},"2007/8","2008/9","2009/10","2010/11","2011/12","2012/13","2013/14","2014/15","2015/16","2016/17",null,null,2,5,"Other","Other",null,null,null,null,"Finance Management ","Housing","Rural Transport Services and Infrastructure","Health"]
[{"$f":"'Template names'!C5","v":"Year in which budget is being prepared"},"Current Year 2006/07","Current Year 2007/08","Current Year 2008/09",{"$f":"\"Current Year \"& E1-1&\"/\"&RIGHT(E1,2)","v":"Current Year 2009/10"},"Current Year 2010/11","Current Year 2011/12","Current Year 2012/13","Current Year 2013/14","Current Year 2014/15","Current Year 2015/16","Current Year 2016/17","Current Year 2017/18","Current Year 2018/19","Current Year 2019/20",null,null,3,6,null,null,null,null,null,null,"Municipal Systems Improvement","Sport and Recreation","Regional Bulk Infrastructure","Housing and Local Government "]
[{"$f":"'Template names'!C6","v":"Year in which budget is being prepared"},"2006/07","2007/08","2008/09",{"$f":"E1-1&\"/\"&RIGHT(E1,2)","v":"2009/10"},"2010/11","2011/12","2012/13","2013/14","2014/15","2015/16","2016/17","2017/18","2018/19","2019/20",null,null,4,"6-10",null,null,null,null,null,null,"Water Services Operating Subsidy ",null,"Rural Households Infrastructure ","Other Departments"]
[{"$f":"'Template names'!C7","v":"MTREF name"},"2007/08 Medium Term Revenue & Expenditure Framework","2008/09 Medium Term Revenue & Expenditure Framework","2009/10 Medium Term Revenue & Expenditure Framework",{"$f":"E1&\"/\"&RIGHT(E1,2)+1&\" Medium Term Revenue & Expenditure Framework\"","v":"2010/11 Medium Term Revenue & Expenditure Framework"},"2011/12 Medium Term Revenue & Expenditure Framework","2012/13 Medium Term Revenue & Expenditure Framework","2013/14 Medium Term Revenue & Expenditure Framework","2014/15 Medium Term Revenue & Expenditure Framework","2015/16 Medium Term Revenue & Expenditure Framework","2016/17 Medium Term Revenue & Expenditure Framework","2017/18 Medium Term Revenue & Expenditure Framework","2018/19 Medium Term Revenue & Expenditure Framework","2019/20 Medium Term Revenue & Expenditure Framework","2020/21 Medium Term Revenue & Expenditure Framework",null,null,5,">10",null,null,null,null,null,null,"Energy Efficiency  and Demand Management",null,"Neighbourhood Development Partnership","Public Works, Roads, Transport "]
[{"$f":"'Template names'!C15","v":"1st year of MTREF"},"Budget Year 2007/08","Budget Year 2008/09","Budget Year 2009/10",{"$f":"\"Budget Year \"&E1&\"/\"&RIGHT(E1,2)+1","v":"Budget Year 2010/11"},"Budget Year 2011/12","Budget Year 2012/13","Budget Year 2013/14","Budget Year 2014/15","Budget Year 2015/16","Budget Year 2016/17","Budget Year 2017/18","Budget Year 2018/19","Budget Year 2019/20","Budget Year 2020/21",null,null,">5",null,null,null,null,null,null,null,"Integrated National Electrification Programme",null,"2010 FIFA World Cup Stadiums Development","Sport and Recreation"]
[{"$f":"'Template names'!C16","v":"2nd year of MTREF"},"Budget Year +1 2008/09","Budget Year +1 2009/10","Budget Year +1 2010/11",{"$f":"\"Budget Year +1 \"&E1+1&\"/\"&RIGHT(E1,2)+2","v":"Budget Year +1 2011/12"},"Budget Year +1 2012/13","Budget Year +1 2013/14","Budget Year +1 2014/15","Budget Year +1 2015/16","Budget Year +1 2016/17","Budget Year +1 2017/18","Budget Year +1 2018/19","Budget Year +1 2019/20","Budget Year +1 2020/21","Budget Year +1 2021/22",null,null,null,null,null,null,null,null,null,null,"Municipal Drought Relief "]
[{"$f":"'Template names'!C17","v":"3rd year of MTREF"},"Budget Year +2 2009/10","Budget Year +2 2010/11","Budget Year +2 2011/12",{"$f":"\"Budget Year +2 \"&E1+2&\"/\"&RIGHT(E1,2)+3","v":"Budget Year +2 2012/13"},"Budget Year +2 2013/14","Budget Year +2 2014/15","Budget Year +2 2015/16","Budget Year +2 2016/17","Budget Year +2 2017/18","Budget Year +2 2018/19","Budget Year +2 2019/20","Budget Year +2 2020/21","Budget Year +2 2021/22","Budget Year +2 2022/23",null,null,null,null,null,null,null,null,null,null,"2010 FIFA World Cup Operating"]
[{"$f":"'Template names'!C18","v":"1st yr of long term forecast"},"Forecast 2010/11","Forecast 2011/12","Forecast 2012/13",{"$f":"\"Forecast \"&E1+3&\"/\"&RIGHT(E1,2)+4","v":"Forecast 2013/14"},"Forecast 2014/15","Forecast 2015/16","Forecast 2016/17","Forecast 2017/18","Forecast 2018/19","Forecast 2019/20","Forecast 2020/21","Forecast 2021/22","Forecast 2022/23","Forecast 2023/24",null,null,null,null,null,null,null,null,null,null,"Electricity Demand Side Management"]
[{"$f":"'Template names'!C19","v":"Next yr of long term forecast"},"Forecast 2011/12","Forecast 2012/13","Forecast 2013/14",{"$f":"\"Forecast \"&E1+4&\"/\"&RIGHT(E1,2)+5","v":"Forecast 2014/15"},"Forecast 2015/16","Forecast 2016/17","Forecast 2017/18","Forecast 2018/19","Forecast 2019/20","Forecast 2020/21","Forecast 2021/22","Forecast 2022/23","Forecast 2023/24","Forecast 2024/25",null,null,null,null,null,null,null,null,null,null,"EPWP Incentive"]
[{"$f":"'Template names'!C20","v":"Next yr of long term forecast"},"Forecast 2012/13","Forecast 2013/14","Forecast 2014/15",{"$f":"\"Forecast \"&E1+5&\"/\"&RIGHT(E1,2)+6","v":"Forecast 2015/16"},"Forecast 2016/17","Forecast 2017/18","Forecast 2018/19","Forecast 2019/20","Forecast 2020/21","Forecast 2021/22","Forecast 2022/23","Forecast 2023/24","Forecast 2024/25","Forecast 2025/26"]
[{"$f":"'Template names'!C21","v":"Next yr of long term forecast"},"Forecast 2013/14","Forecast 2014/15","Forecast 2015/16",{"$f":"\"Forecast \"&E1+6&\"/\"&RIGHT(E1,2)+7","v":"Forecast 2016/17"},"Forecast 2017/18","Forecast 2018/19","Forecast 2019/20","Forecast 2020/21","Forecast 2021/22","Forecast 2022/23","Forecast 2023/24","Forecast 2024/25","Forecast 2025/26","Forecast 2026/27",null,null,null,null,null,null,null,null,null,null,"Asset Class","Asset sub-class"]
[{"$f":"'Template names'!C22","v":"Next yr of long term forecast"},"Forecast 2014/15","Forecast 2015/16","Forecast 2016/17",{"$f":"\"Forecast \"&E1+7&\"/\"&RIGHT(E1,2)+8","v":"Forecast 2017/18"},"Forecast 2018/19","Forecast 2019/20","Forecast 2020/21","Forecast 2021/22","Forecast 2022/23","Forecast 2023/24","Forecast 2024/25","Forecast 2025/26","Forecast 2026/27","Forecast 2027/28"]
[{"$f":"'Template names'!C23","v":"Next yr of long term forecast"},"Forecast 2015/16","Forecast 2016/17","Forecast 2017/18",{"$f":"\"Forecast \"&E1+8&\"/\"&RIGHT(E1,2)+9","v":"Forecast 2018/19"},"Forecast 2019/20","Forecast 2020/21","Forecast 2021/22","Forecast 2022/23","Forecast 2023/24","Forecast 2024/25","Forecast 2025/26","Forecast 2026/27","Forecast 2027/28","Forecast 2028/29",null,null,null,null,null,null,null,null,null,null,"Infrastructure - Road transport","Roads, Pavements & Bridges"]
[{"$f":"'Template names'!C24","v":"Next yr of long term forecast"},"Forecast 2016/17","Forecast 2017/18","Forecast 2018/19",{"$f":"\"Forecast \"&E1+9&\"/\"&RIGHT(E1,2)+10","v":"Forecast 2019/20"},"Forecast 2020/21","Forecast 2021/22","Forecast 2022/23","Forecast 2023/24","Forecast 2024/25","Forecast 2025/26","Forecast 2026/27","Forecast 2027/28","Forecast 2028/29","Forecast 2029/30",null,null,null,null,null,null,null,null,null,null,"Infrastructure - Electricity","Storm water"]
[{"$f":"'Template names'!C25","v":"Next yr of long term forecast"},"Forecast 2017/18","Forecast 2018/19","Forecast 2019/20",{"$f":"\"Forecast \"&E1+10&\"/\"&RIGHT(E1,2)+11","v":"Forecast 2020/21"},"Forecast 2021/22","Forecast 2022/23","Forecast 2023/24","Forecast 2024/25","Forecast 2025/26","Forecast 2026/27","Forecast 2027/28","Forecast 2028/29","Forecast 2029/30","Forecast 2030/31",null,null,null,null,null,null,null,null,null,null,"Infrastructure - Water","Generation"]
[{"$f":"'Template names'!C26","v":"Next yr of long term forecast"},"Forecast 2018/19","Forecast 2019/20","Forecast 2020/21",{"$f":"\"Forecast \"&E1+11&\"/\"&RIGHT(E1,2)+12","v":"Forecast 2021/22"},"Forecast 2022/23","Forecast 2023/24","Forecast 2024/25","Forecast 2025/26","Forecast 2026/27","Forecast 2027/28","Forecast 2028/29","Forecast 2029/30","Forecast 2030/31","Forecast 2031/32",null,null,null,null,null,null,null,null,null,null,"Infrastructure - Sanitation","Transmission & Reticulation"]
[{"$f":"'Template names'!C27","v":"Next yr of long term forecast"},"Forecast 2019/20","Forecast 2020/21","Forecast 2021/22",{"$f":"\"Forecast \"&E1+12&\"/\"&RIGHT(E1,2)+13","v":"Forecast 2022/23"},"Forecast 2023/24","Forecast 2024/25","Forecast 2025/26","Forecast 2026/27","Forecast 2027/28","Forecast 2028/29","Forecast 2029/30","Forecast 2030/31","Forecast 2031/32","Forecast 2032/33",null,null,null,null,null,null,null,null,null,null,"Infrastructure - Other","Street Lighting"]
[{"$f":"'Template names'!C28","v":"Next yr of long term forecast"},"Forecast 2020/21","Forecast 2021/22","Forecast 2022/23",{"$f":"\"Forecast \"&E1+13&\"/\"&RIGHT(E1,2)+14","v":"Forecast 2023/24"},"Forecast 2024/25","Forecast 2025/26","Forecast 2026/27","Forecast 2027/28","Forecast 2028/29","Forecast 2029/30","Forecast 2030/31","Forecast 2031/32","Forecast 2032/33","Forecast 2033/34",null,null,null,null,null,null,null,null,null,null,"Community","Dams & Reservoirs"]
[{"$f":"'Template names'!C29","v":"Next yr of long term forecast"},"Forecast 2021/22","Forecast 2022/23","Forecast 2023/24",{"$f":"\"Forecast \"&E1+14&\"/\"&RIGHT(E1,2)+15","v":"Forecast 2024/25"},"Forecast 2025/26","Forecast 2026/27","Forecast 2027/28","Forecast 2028/29","Forecast 2029/30","Forecast 2030/31","Forecast 2031/32","Forecast 2032/33","Forecast 2033/34","Forecast 2034/35",null,null,null,null,null,null,null,null,null,null,"Heritage Assets","Water purification"]
["Adjustments Budget","Annual target 2007/08","Annual target 2008/09","Annual target 2009/10",{"$f":"\"Annual target \" & E1&\"/\"&RIGHT(E1,2)+1","v":"Annual target 2010/11"},"Annual target 2011/12","Annual target 2012/13","Annual target 2013/14","Annual target 2014/15","Annual target 2015/16","Annual target 2016/17","Annual target 2017/18","Annual target 2018/19","Annual target 2019/20","Annual target 2020/21",null,null,null,null,null,null,null,null,null,null,"Investment Properties","Reticulation"]
[{"$f":"A23","v":"Adjustments Budget"},"Revised target 2007/08","Revised target 2008/09","Revised target 2009/10",{"$f":"\"Revised target \"& E1&\"/\"&RIGHT(E1,2)+1","v":"Revised target 2010/11"},"Revised target 2011/12","Revised target 2012/13","Revised target 2013/14","Revised target 2014/15","Revised target 2015/16","Revised target 2016/17","Revised target 2017/18","Revised target 2018/19","Revised target 2019/20","Revised target 2020/21",null,null,null,null,null,null,null,null,null,null,"Other Assets","Sewerage purification"]
["NOTE: This sheet should not be directly amended - select headings from sheet 'S'",null,null,null,null,null,null,null,null,null,null,null,null,null,null,null,null,null,null,null,null,null,null,null,null,"Agricultural assets","Waste Management"]
[null,null,null,null,null,null,null,null,null,null,null,null,null,null,null,null,null,null,null,null,null,null,null,null,null,"Biological assets","Transportation"]
["Name link",52,null,null,null,null,null,null,null,null,null,null,null,null,null,null,null,null,null,null,null,null,null,null,null,"Intangibles","Gas"]
["Name of Muni",{"$f":"INDEX(B29:B307,B27,1)","v":"DC16 Xhariep"},null,null,null,null,null,null,null,null,null,null,null,null,null,null,null,null,null,null,null,null,null,null,null,"Other","Parks & gardens"]
[null,"Choose name from list","Set name on 'Instructions' sheet",null,null,null,null,null,null,null,null,null,null,null,null,null,null,null,null,null,null,null,null,null,null,null,"Sportsfields & stadia"]
[null,"BUF Buffalo City","EC EASTERN CAPE",null,null,null,null,null,null,null,null,null,null,null,null,null,null,null,null,null,null,null,null,null,null,null,"Swimming pools"]
[null,"NMA Nelson Mandela Bay","EC EASTERN CAPE",null,null,null,null,null,null,null,null,null,null,null,null,null,null,null,null,null,null,null,null,null,null,null,"Community halls"]
[null,"EC101 Camdeboo","EC EASTERN CAPE",null,null,null,null,null,null,null,null,null,null,null,null,null,null,null,null,null,null,null,null,null,null,null,"Libraries"]
[null,"EC102 Blue Crane Route","EC EASTERN CAPE",null,null,null,null,null,null,null,null,null,null,null,null,null,null,null,null,null,null,null,null,null,null,null,"Recreational facilities"]
[null,"EC103 Ikwezi","EC EASTERN CAPE",null,null,null,null,null,null,null,null,null,null,null,null,null,null,null,null,null,null,null,null,null,null,null,"Fire, safety & emergency"]
[null,"EC104 Makana","EC EASTERN CAPE",null,null,null,null,null,null,null,null,null,null,null,null,null,null,null,null,null,null,null,null,null,null,null,"Security and policing"]
[null,"EC105 Ndlambe","EC EASTERN CAPE",null,null,null,null,null,null,null,null,null,null,null,null,null,null,null,null,null,null,null,null,null,null,null,"Buses"]
[null,"EC106 Sundays River Valley","EC EASTERN CAPE",null,null,null,null,null,null,null,null,null,null,null,null,null,null,null,null,null,null,null,null,null,null,null,"Clinics"]
[null,"EC107 Baviaans","EC EASTERN CAPE",null,null,null,null,null,null,null,null,null,null,null,null,null,null,null,null,null,null,null,null,null,null,null,"Museums & Art Galleries"]
[null,"EC108 Kouga","EC EASTERN CAPE",null,null,null,null,null,null,null,null,null,null,null,null,null,null,null,null,null,null,null,null,null,null,null,"Cemeteries"]
[null,"EC109 Kou-Kamma","EC EASTERN CAPE",null,null,null,null,null,null,null,null,null,null,null,null,null,null,null,null,null,null,null,null,null,null,null,"Social rental housing"]
[null,"DC10 Cacadu","EC EASTERN CAPE",null,null,null,null,null,null,null,null,null,null,null,null,null,null,null,null,null,null,null,null,null,null,null,"Buildings"]
[null,"EC121 Mbhashe","EC EASTERN CAPE",null,null,null,null,null,null,null,null,null,null,null,null,null,null,null,null,null,null,null,null,null,null,null,"Housing development"]
[null,"EC122 Mnquma","EC EASTERN CAPE",null,null,null,null,null,null,null,null,null,null,null,null,null,null,null,null,null,null,null,null,null,null,null,"General vehicles"]
[null,"EC123 Great Kei","EC EASTERN CAPE",null,null,null,null,null,null,null,null,null,null,null,null,null,null,null,null,null,null,null,null,null,null,null,"Specialised vehicles - Refuse"]
[null,"EC124 Amahlathi","EC EASTERN CAPE",null,null,null,null,null,null,null,null,null,null,null,null,null,null,null,null,null,null,null,null,null,null,null,"Specialised vehicles - Fire"]
[null,"EC126 Ngqushwa","EC EASTERN CAPE",null,null,null,null,null,null,null,null,null,null,null,null,null,null,null,null,null,null,null,null,null,null,null,"Specialised vehicles - Conservancy"]
[null,"EC127 Nkonkobe","EC EASTERN CAPE",null,null,null,null,null,null,null,null,null,null,null,null,null,null,null,null,null,null,null,null,null,null,null,"Specialised vehicles - Ambulances"]
[null,"EC128 Nxuba","EC EASTERN CAPE",null,null,null,null,null,null,null,null,null,null,null,null,null,null,null,null,null,null,null,null,null,null,null,"Plant & equipment"]
[null,"DC12 Amathole","EC EASTERN CAPE",null,null,null,null,null,null,null,null,null,null,null,null,null,null,null,null,null,null,null,null,null,null,null,"Computers - hardware/equipment"]
[null,"EC131 Inxuba Yethemba","EC EASTERN CAPE",null,null,null,null,null,null,null,null,null,null,null,null,null,null,null,null,null,null,null,null,null,null,null,"Furniture and other office equipment"]
[null,"EC132 Tsolwana","EC EASTERN CAPE",null,null,null,null,null,null,null,null,null,null,null,null,null,null,null,null,null,null,null,null,null,null,null,"Abattoirs"]
[null,"EC133 Inkwanca","EC EASTERN CAPE",null,null,null,null,null,null,null,null,null,null,null,null,null,null,null,null,null,null,null,null,null,null,null,"Markets"]
[null,"EC134 Lukhanji","EC EASTERN CAPE",null,null,null,null,null,null,null,null,null,null,null,null,null,null,null,null,null,null,null,null,null,null,null,"Civic Land and Buildings"]
[null,"EC135 Intsika Yethu","EC EASTERN CAPE",null,null,null,null,null,null,null,null,null,null,null,null,null,null,null,null,null,null,null,null,null,null,null,"Other Buildings"]
[null,"EC136 Emalahleni (EC)","EC EASTERN CAPE",null,null,null,null,null,null,null,null,null,null,null,null,null,null,null,null,null,null,null,null,null,null,null,"Other Land"]
[null,"EC137 Engcobo","EC EASTERN CAPE",null,null,null,null,null,null,null,null,null,null,null,null,null,null,null,null,null,null,null,null,null,null,null,"Surplus Assets - (Investment or Inventory)"]
[null,"EC138 Sakhisizwe","EC EASTERN CAPE",null,null,null,null,null,null,null,null,null,null,null,null,null,null,null,null,null,null,null,null,null,null,null,"Computers - software & programming"]
[null,"DC13 Chris Hani","EC EASTERN CAPE",null,null,null,null,null,null,null,null,null,null,null,null,null,null,null,null,null,null,null,null,null,null,null,"Other"]
[null,"EC141 Elundini","EC EASTERN CAPE"]
[null,"EC142 Senqu","EC EASTERN CAPE",null,null,null,null,null,null,null,null,null,null,null,null,null,null,null,null,null,null,null,null,null,null,"SA16 - Investments"]
[null,"EC143 Maletswai","EC EASTERN CAPE",null,null,null,null,null,null,null,null,null,null,null,null,null,null,null,null,null,null,null,null,null,null,"Security","Interest rate"]
[null,"EC144 Gariep","EC EASTERN CAPE",null,null,null,null,null,null,null,null,null,null,null,null,null,null,null,null,null,null,null,null,null,null,"Yes","Fixed"]
[null,"DC14 Joe Gqabi","EC EASTERN CAPE",null,null,null,null,null,null,null,null,null,null,null,null,null,null,null,null,null,null,null,null,null,null,"No","Variable"]
[null,"EC153 Ngquza Hills","EC EASTERN CAPE"]
[null,"EC154 Port St Johns","EC EASTERN CAPE"]
[null,"EC155 Nyandeni","EC EASTERN CAPE",null,null,null,null,null,null,null,null,null,null,null,null,null,null,null,null,null,null,null,null,null,null,"SA36, SA37 - Capital projects"]
[null,"EC156 Mhlontlo","EC EASTERN CAPE",null,null,null,null,null,null,null,null,null,null,null,null,null,null,null,null,null,null,null,null,null,null,"Yes"]
[null,"EC157 King Sabata Dalindyebo","EC EASTERN CAPE",null,null,null,null,null,null,null,null,null,null,null,null,null,null,null,null,null,null,null,null,null,null,"No"]
[null,"DC15 O .R. Tambo","EC EASTERN CAPE"]
[null,"EC441 Matatiele","EC EASTERN CAPE"]
[null,"EC442 Umzimvubu","EC EASTERN CAPE"]
[null,"EC443 Mbizana","EC EASTERN CAPE"]
[null,"EC444 Ntabankulu","EC EASTERN CAPE"]
[null,"DC44 Alfred Nzo","EC EASTERN CAPE"]
[null,"MAN Mangaung","FS FREE STATE"]
[null,"FS161 Letsemeng","FS FREE STATE"]
[null,"FS162 Kopanong","FS FREE STATE"]
[null,"FS163 Mohokare","FS FREE STATE"]
[null,"FS164 Naledi (Fs)","FS FREE STATE"]
[null,"DC16 Xhariep","FS FREE STATE"]
[null,"FS181 Masilonyana","FS FREE STATE"]
[null,"FS182 Tokologo","FS FREE STATE"]
[null,"FS183 Tswelopele","FS FREE STATE"]
[null,"FS184 Matjhabeng","FS FREE STATE"]
[null,"FS185 Nala","FS FREE STATE"]
[null,"DC18 Lejweleputswa","FS FREE STATE"]
[null,"FS191 Setsoto","FS FREE STATE"]
[null,"FS192 Dihlabeng","FS FREE STATE"]
[null,"FS193 Nketoana","FS FREE STATE"]
[null,"FS194 Maluti-a-Phofung","FS FREE STATE"]
[null,"FS195 Phumelela","FS FREE STATE"]
[null,"FS196 Mantsopa","FS FREE STATE"]
[null,"DC19 Thabo Mofutsanyana","FS FREE STATE"]
[null,"FS201 Moqhaka","FS FREE STATE"]
[null,"FS203 Ngwathe","FS FREE STATE"]
[null,"FS204 Metsimaholo","FS FREE STATE"]
[null,"FS205 Mafube","FS FREE STATE"]
[null,"DC20 Fezile Dabi","FS FREE STATE"]
[null,"EKU Ekurhuleni Metro","GT GAUTENG"]
[null,"JHB City Of Johannesburg","GT GAUTENG"]
[null,"TSH City Of Tshwane","GT GAUTENG"]
[null,"GT421 Emfuleni","GT GAUTENG"]
[null,"GT422 Midvaal","GT GAUTENG"]
[null,"GT423 Lesedi","GT GAUTENG"]
[null,"DC42 Sedibeng","GT GAUTENG"]
[null,"GT481 Mogale City","GT GAUTENG"]
[null,"GT482 Randfontein","GT GAUTENG"]
[null,"GT483 Westonaria","GT GAUTENG"]
[null,"GT484 Merafong City","GT GAUTENG"]
[null,"DC48 West Rand","GT GAUTENG"]
[null,"ETH eThekwini","KZN KWAZULU-NATAL"]
[null,"KZN211 Vulamehlo","KZN KWAZULU-NATAL"]
[null,"KZN212 Umdoni","KZN KWAZULU-NATAL"]
[null,"KZN213 Umzumbe","KZN KWAZULU-NATAL"]
[null,"KZN214 uMuziwabantu","KZN KWAZULU-NATAL"]
[null,"KZN215 Ezinqoleni","KZN KWAZULU-NATAL"]
[null,"KZN216 Hibiscus Coast","KZN KWAZULU-NATAL"]
[null,"DC21 Ugu","KZN KWAZULU-NATAL"]
[null,"KZN221 uMshwathi","KZN KWAZULU-NATAL"]
[null,"KZN222 uMngeni","KZN KWAZULU-NATAL"]
[null,"KZN223 Mpofana","KZN KWAZULU-NATAL"]
[null,"KZN224 Impendle","KZN KWAZULU-NATAL"]
[null,"KZN225 Msunduzi","KZN KWAZULU-NATAL"]
[null,"KZN226 Mkhambathini","KZN KWAZULU-NATAL"]
[null,"KZN227 Richmond","KZN KWAZULU-NATAL"]
[null,"DC22 uMgungundlovu","KZN KWAZULU-NATAL"]
[null,"KZN232 Emnambithi/Ladysmith","KZN KWAZULU-NATAL"]
[null,"KZN233 Indaka","KZN KWAZULU-NATAL"]
[null,"KZN234 Umtshezi","KZN KWAZULU-NATAL"]
[null,"KZN235 Okhahlamba","KZN KWAZULU-NATAL"]
[null,"KZN236 Imbabazane","KZN KWAZULU-NATAL"]
[null,"DC23 Uthukela","KZN KWAZULU-NATAL"]
[null,"KZN241 Endumeni","KZN KWAZULU-NATAL"]
[null,"KZN242 Nquthu","KZN KWAZULU-NATAL"]
[null,"KZN244 Msinga","KZN KWAZULU-NATAL"]
[null,"KZN245 Umvoti","KZN KWAZULU-NATAL"]
[null,"DC24 Umzinyathi","KZN KWAZULU-NATAL"]
[null,"KZN252 Newcastle","KZN KWAZULU-NATAL"]
[null,"KZN253 eMadlangeni","KZN KWAZULU-NATAL"]
[null,"KZN254 Dannhauser","KZN KWAZULU-NATAL"]
[null,"DC25 Amajuba","KZN KWAZULU-NATAL"]
[null,"KZN261 eDumbe","KZN KWAZULU-NATAL"]
[null,"KZN262 uPhongolo","KZN KWAZULU-NATAL"]
[null,"KZN263 Abaqulusi","KZN KWAZULU-NATAL"]
[null,"KZN265 Nongoma","KZN KWAZULU-NATAL"]
[null,"KZN266 Ulundi","KZN KWAZULU-NATAL"]
[null,"DC26 Zululand","KZN KWAZULU-NATAL"]
[null,"KZN271 Umhlabuyalingana","KZN KWAZULU-NATAL"]
[null,"KZN272 Jozini","KZN KWAZULU-NATAL"]
[null,"KZN273 The Big 5 False Bay","KZN KWAZULU-NATAL"]
[null,"KZN274 Hlabisa","KZN KWAZULU-NATAL"]
[null,"KZN275 Mtubatuba","KZN KWAZULU-NATAL"]
[null,"DC27 Umkhanyakude","KZN KWAZULU-NATAL"]
[null,"KZN281 Mfolozi","KZN KWAZULU-NATAL"]
[null,"KZN282 uMhlathuze","KZN KWAZULU-NATAL"]
[null,"KZN283 Ntambanana","KZN KWAZULU-NATAL"]
[null,"KZN284 uMlalazi","KZN KWAZULU-NATAL"]
[null,"KZN285 Mthonjaneni","KZN KWAZULU-NATAL"]
[null,"KZN286 Nkandla","KZN KWAZULU-NATAL"]
[null,"DC28 uThungulu","KZN KWAZULU-NATAL"]
[null,"KZN291 Mandeni","KZN KWAZULU-NATAL"]
[null,"KZN292 KwaDukuza","KZN KWAZULU-NATAL"]
[null,"KZN293 Ndwedwe","KZN KWAZULU-NATAL"]
[null,"KZN294 Maphumulo","KZN KWAZULU-NATAL"]
[null,"DC29 iLembe","KZN KWAZULU-NATAL"]
[null,"KZN431 Ingwe","KZN KWAZULU-NATAL"]
[null,"KZN432 Kwa Sani","KZN KWAZULU-NATAL"]
[null,"KZN433 Greater Kokstad","KZN KWAZULU-NATAL"]
[null,"KZN434 Ubuhlebezwe","KZN KWAZULU-NATAL"]
[null,"KZN435 Umzimkhulu","KZN KWAZULU-NATAL"]
[null,"DC43 Sisonke","KZN KWAZULU-NATAL"]
[null,"LIM331 Greater Giyani","LIM LIMPOPO"]
[null,"LIM332 Greater Letaba","LIM LIMPOPO"]
[null,"LIM333 Greater Tzaneen","LIM LIMPOPO"]
[null,"LIM334 Ba-Phalaborwa","LIM LIMPOPO"]
[null,"LIM335 Maruleng","LIM LIMPOPO"]
[null,"DC33 Mopani","LIM LIMPOPO"]
[null,"LIM341 Musina","LIM LIMPOPO"]
[null,"LIM342 Mutale","LIM LIMPOPO"]
[null,"LIM343 Thulamela","LIM LIMPOPO"]
[null,"LIM344 Makhado","LIM LIMPOPO"]
[null,"DC34 Vhembe","LIM LIMPOPO"]
[null,"LIM351 Blouberg","LIM LIMPOPO"]
[null,"LIM352 Aganang","LIM LIMPOPO"]
[null,"LIM353 Molemole","LIM LIMPOPO"]
[null,"LIM354 Polokwane","LIM LIMPOPO"]
[null,"LIM355 Lepelle-Nkumpi","LIM LIMPOPO"]
[null,"DC35 Capricorn","LIM LIMPOPO"]
[null,"LIM361 Thabazimbi","LIM LIMPOPO"]
[null,"LIM362 Lephalale","LIM LIMPOPO"]
[null,"LIM364 Mookgopong","LIM LIMPOPO"]
[null,"LIM365 Modimolle","LIM LIMPOPO"]
[null,"LIM366 Bela Bela","LIM LIMPOPO"]
[null,"LIM367 Mogalakwena","LIM LIMPOPO"]
[null,"DC36 Waterberg","LIM LIMPOPO"]
[null,"LIM471 Ephraim Mogale","LIM LIMPOPO"]
[null,"LIM472 Elias Motsoaledi","LIM LIMPOPO"]
[null,"LIM473 Makhuduthamaga","LIM LIMPOPO"]
[null,"LIM474 Fetakgomo","LIM LIMPOPO"]
[null,"LIM475 Greater Tubatse","LIM LIMPOPO"]
[null,"DC47 Sekhukhune","LIM LIMPOPO"]
[null,"MP301 Albert Luthuli","MP MPUMALANGA"]
[null,"MP302 Msukaligwa","MP MPUMALANGA"]
[null,"MP303 Mkhondo","MP MPUMALANGA"]
[null,"MP304 Pixley Ka Seme (MP)","MP MPUMALANGA"]
[null,"MP305 Lekwa","MP MPUMALANGA"]
[null,"MP306 Dipaleseng","MP MPUMALANGA"]
[null,"MP307 Govan Mbeki","MP MPUMALANGA"]
[null,"DC30 Gert Sibande","MP MPUMALANGA"]
[null,"MP311 Victor Khanye","MP MPUMALANGA"]
[null,"MP312 Emalahleni (Mp)","MP MPUMALANGA"]
[null,"MP313 Steve Tshwete","MP MPUMALANGA"]
[null,"MP314 Emakhazeni","MP MPUMALANGA"]
[null,"MP315 Thembisile Hani","MP MPUMALANGA"]
[null,"MP316 Dr J.S. Moroka","MP MPUMALANGA"]
[null,"DC31 Nkangala","MP MPUMALANGA"]
[null,"MP321 Thaba Chweu","MP MPUMALANGA"]
[null,"MP322 Mbombela","MP MPUMALANGA"]
[null,"MP323 Umjindi","MP MPUMALANGA"]
[null,"MP324 Nkomazi","MP MPUMALANGA"]
[null,"MP325 Bushbuckridge","MP MPUMALANGA"]
[null,"DC32 Ehlanzeni","MP MPUMALANGA"]
[null,"NW371 Moretele","NW NORTH WEST"]
[null,"NW372 Madibeng","NW NORTH WEST"]
[null,"NW373 Rustenburg","NW NORTH WEST"]
[null,"NW374 Kgetlengrivier","NW NORTH WEST"]
[null,"NW375 Moses Kotane","NW NORTH WEST"]
[null,"DC37 Bojanala Platinum","NW NORTH WEST"]
[null,"NW381 Ratlou","NW NORTH WEST"]
[null,"NW382 Tswaing","NW NORTH WEST"]
[null,"NW383 Mafikeng","NW NORTH WEST"]
[null,"NW384 Ditsobotla","NW NORTH WEST"]
[null,"NW385 Ramotshere Moiloa","NW NORTH WEST"]
[null,"DC38 Ngaka Modiri Molema","NW NORTH WEST"]
[null,"NW392 Naledi (Nw)","NW NORTH WEST"]
[null,"NW393 Mamusa","NW NORTH WEST"]
[null,"NW394 Greater Taung","NW NORTH WEST"]
[null,"NW396 Lekwa-Teemane","NW NORTH WEST"]
[null,"NW397 Molopo-Kagisano","NW NORTH WEST"]
[null,"DC39 Dr Ruth Segomotsi Mompati","NW NORTH WEST"]
[null,"NW401 Ventersdorp","NW NORTH WEST"]
[null,"NW402 Tlokwe","NW NORTH WEST"]
[null,"NW403 City Of Matlosana","NW NORTH WEST"]
[null,"NW404 Maquassi Hills","NW NORTH WEST"]
[null,"DC40 Dr Kenneth Kaunda","NW NORTH WEST"]
[null,"NC451 Joe Morolong","NC NORTHERN CAPE"]
[null,"NC452 Ga-Segonyana","NC NORTHERN CAPE"]
[null,"NC453 Gamagara","NC NORTHERN CAPE"]
[null,"DC45 John Taolo Gaetsewe","NC NORTHERN CAPE"]
[null,"NC061 Richtersveld","NC NORTHERN CAPE"]
[null,"NC062 Nama Khoi","NC NORTHERN CAPE"]
[null,"NC064 Kamiesberg","NC NORTHERN CAPE"]
[null,"NC065 Hantam","NC NORTHERN CAPE"]
[null,"NC066 Karoo Hoogland","NC NORTHERN CAPE"]
[null,"NC067 Khai-Ma","NC NORTHERN CAPE"]
[null,"DC6 Namakwa","NC NORTHERN CAPE"]
[null,"NC071 Ubuntu","NC NORTHERN CAPE"]
[null,"NC072 Umsobomvu","NC NORTHERN CAPE"]
[null,"NC073 Emthanjeni","NC NORTHERN CAPE"]
[null,"NC074 Kareeberg","NC NORTHERN CAPE"]
[null,"NC075 Renosterberg","NC NORTHERN CAPE"]
[null,"NC076 Thembelihle","NC NORTHERN CAPE"]
[null,"NC077 Siyathemba","NC NORTHERN CAPE"]
[null,"NC078 Siyancuma","NC NORTHERN CAPE"]
[null,"DC7 Pixley Ka Seme (Nc)","NC NORTHERN CAPE"]
[null,"NC081 Mier","NC NORTHERN CAPE"]
[null,"NC082 !Kai! Garib","NC NORTHERN CAPE"]
[null,"NC083 //Khara Hais","NC NORTHERN CAPE"]
[null,"NC084 !Kheis","NC NORTHERN CAPE"]
[null,"NC085 Tsantsabane","NC NORTHERN CAPE"]
[null,"NC086 Kgatelopele","NC NORTHERN CAPE"]
[null,"DC8 Siyanda","NC NORTHERN CAPE"]
[null,"NC091 Sol Plaatje","NC NORTHERN CAPE"]
[null,"NC092 Dikgatlong","NC NORTHERN CAPE"]
[null,"NC093 Magareng","NC NORTHERN CAPE"]
[null,"NC094 Phokwane","NC NORTHERN CAPE"]
[null,"DC9 Frances Baard","NC NORTHERN CAPE"]
[null,"CPT Cape Town","WC WESTERN CAPE"]
[null,"WC011 Matzikama","WC WESTERN CAPE"]
[null,"WC012 Cederberg","WC WESTERN CAPE"]
[null,"WC013 Bergrivier","WC WESTERN CAPE"]
[null,"WC014 Saldanha Bay","WC WESTERN CAPE"]
[null,"WC015 Swartland","WC WESTERN CAPE"]
[null,"DC1 West Coast","WC WESTERN CAPE"]
[null,"WC022 Witzenberg","WC WESTERN CAPE"]
[null,"WC023 Drakenstein","WC WESTERN CAPE"]
[null,"WC024 Stellenbosch","WC WESTERN CAPE"]
[null,"WC025 Breede Valley","WC WESTERN CAPE"]
[null,"WC026 Langeberg","WC WESTERN CAPE"]
[null,"DC2 Cape Winelands DM","WC WESTERN CAPE"]
[null,"WC031 Theewaterskloof","WC WESTERN CAPE"]
[null,"WC032 Overstrand","WC WESTERN CAPE"]
[null,"WC033 Cape Agulhas","WC WESTERN CAPE"]
[null,"WC034 Swellendam","WC WESTERN CAPE"]
[null,"DC3 Overberg","WC WESTERN CAPE"]
[null,"WC041 Kannaland","WC WESTERN CAPE"]
[null,"WC042 Hessequa","WC WESTERN CAPE"]
[null,"WC043 Mossel Bay","WC WESTERN CAPE"]
[null,"WC044 George","WC WESTERN CAPE"]
[null,"WC045 Oudtshoorn","WC WESTERN CAPE"]
[null,"WC047 Bitou","WC WESTERN CAPE"]
[null,"WC048 Knysna","WC WESTERN CAPE"]
[null,"DC4 Eden","WC WESTERN CAPE"]
[null,"WC051 Laingsburg","WC WESTERN CAPE"]
[null,"WC052 Prince Albert","WC WESTERN CAPE"]
[null,"WC053 Beaufort West","WC WESTERN CAPE"]
[null,"DC5 Central Karoo","WC WESTERN CAPE"]
[null,{"$f":"COUNTA(B30:B307)","v":278}]

{"sheet":"Org structure","index":4,"n_rows":166,"n_cols":5,"rows_kept":166,"cut":false,"hidden":false,"merged":[]}
["Organisational Structure Votes",null,"Organisational Structure Sub-Votes",null,"Display Sub-Votes"]
[{"$f":"B2&\" - \"&C2","v":"Vote 1 - General Council"},"Vote 1","General Council",null,"General Council"]
[{"$f":"B13&\" - \"& C13","v":"Vote 2 - Municipal Manager"},1.1000000000000001,"Mayor",{"$f":"CONCATENATE(B3, \" - \", C3)","v":"1.1 - Mayor"},"1.1 - Mayor"]
[{"$f":"B24&\" - \"&C24","v":"Vote 3 - Budget & Treasury Office"},1.2,"Speaker","1.2 - Speaker","1.2 - Speaker"]
[{"$f":"B35&\" - \"&C35","v":"Vote 4 - Planning & Development"},1.3,"Council","1.3 - Council","1.3 - Council"]
[{"$f":"B46&\" - \"&C46","v":"Vote 5 - Corporate Services"},1.4,"Youth Developmrnt Programmes","1.4 - Youth Developmrnt Programmes","1.4 Youth Development Programme"]
[{"$f":"B57&\" - \"&C57","v":"Vote 6 - [NAME OF VOTE 6]"},1.5,"Special Programmes","1.5 - Special Programmes","1.5 Special Programme"]
[{"$f":"B68&\" - \"&C68","v":"Vote 7 - [NAME OF VOTE 7]"},1.6,"IGR","1.6 - IGR","1.6 IGR"]
[{"$f":"B79&\" - \"&C79","v":"Vote 8 - [NAME OF VOTE 8]"},1.7,null,"1.7 - "]
[{"$f":"B90&\" - \"&C90","v":"Vote 9 - [NAME OF VOTE 9]"},1.8,null,"1.8 - "]
[{"$f":"B101&\" - \"&C101","v":"Vote 10 - [NAME OF VOTE 10]"},1.9,null,"1.9 - "]
[{"$f":"B112&\" - \"&C112","v":"Vote 11 - [NAME OF VOTE 11]"},"1.10",null,"1.10 - "]
[{"$f":"B123&\" - \"&C123","v":"Vote 12 - [NAME OF VOTE 12]"},"Vote 2","Municipal Manager",null,"Municipal Manager"]
[{"$f":"B134&\" - \"&C134","v":"Vote 13 - [NAME OF VOTE 13]"},2.1,"Office of the Municipal Manager",{"$f":"CONCATENATE(B14, \" - \", C14)","v":"2.1 - Office of the Municipal Manager"},"2.1 - Office of the Municipal Manager"]
[{"$f":"B145&\" - \"&C145","v":"Vote 14 - [NAME OF VOTE 14]"},2.2000000000000002,"Internal Audit","2.2 - Internal Audit","2.2 - Internal Audit"]
[{"$f":"B156&\" - \"&C156","v":"Vote 15 - [NAME OF VOTE 15]"},2.2999999999999998,"Performance and Monitoring Management","2.3 - Performance and Monitoring Management","2.3 - Performance and Monitoring Management"]
[null,2.4,"Risk Office","2.4 - Risk Office","2.4 - Risk Office"]
[null,2.5,"Disaster management ","2.5 - Disaster management ","2.5 - Disaster management "]
[null,2.6,null,"2.6 - "]
[null,2.7,null,"2.7 - "]
[null,2.8,null,"2.8 - "]
[null,2.9,null,"2.9 - "]
[null,"2.10",null,"2.10 - "]
[null,"Vote 3","Budget & Treasury Office",null,"Budget & Treasury Office"]
[null,3.1,"Office of the CFO",{"$f":"CONCATENATE(B25, \" - \", C25)","v":"3.1 - Office of the CFO"},"3.1 - Office of the CFO"]
[null,3.2,"Supply Chain Management","3.2 - Supply Chain Management","3.2 - Supply Chain Management"]
[null,3.3,"Expenditure","3.3 - Expenditure","3.3 - Expenditure"]
[null,3.4,"Budget & Reporting ","3.4 - Budget & Reporting ","3.4 - Budget & Reporting "]
[null,3.5,"FMG Projects","3.5 - FMG Projects","3.5 - FMG Projects"]
[null,3.6,null,"3.6 - "]
[null,3.7,null,"3.7 - "]
[null,3.8,null,"3.8 - "]
[null,3.9,null,"3.9 - "]
[null,"3.10",null,"3.10 - "]
[null,"Vote 4","Planning & Development",null,"Planning & Development"]
[null,4.0999999999999996,"Office of the Director - Planning and Development",{"$f":"CONCATENATE(B36, \" - \", C36)","v":"4.1 - Office of the Director - Planning and Development"},"4.1 - Office of the Director - Planning and Development"]
[null,4.2,"Economic Development",{"$f":"CONCATENATE(B37, \" - \", C37)","v":"4.2 - Economic Development"},"4.2 - Economic Development"]
[null,4.3,"Development Planning",{"$f":"CONCATENATE(B38, \" - \", C38)","v":"4.3 - Development Planning"},"4.4 - Development Planning"]
[null,4.4000000000000004,"Municipal Health",{"$f":"CONCATENATE(B39, \" - \", C39)","v":"4.4 - Municipal Health"},"4.5 - Municipal Health"]
[null,4.5,null,{"$f":"CONCATENATE(B40, \" - \", C40)","v":"4.5 - "}]
[null,4.5999999999999996,null,"4.6 - "]
[null,4.7,null,"4.7 - "]
[null,4.8,null,"4.8 - "]
[null,4.9000000000000004,null,"4.9 - "]
[null,"4.10",null,"4.10 - "]
[null,"Vote 5","Corporate Services",null,"Corporate services"]
[null,5.0999999999999996,"Office of the Director - Corporate Services",{"$f":"CONCATENATE(B47, \" - \", C47)","v":"5.1 - Office of the Director - Corporate Services"},"5.1 - Office of the Director - Corporate Services"]
[null,5.2,"Administration","5.2 - Administration","5.2 - Administration"]
[null,5.3,"Information Technology","5.3 - Information Technology","5.3 - Information Technology"]
[null,5.4,"Property Services","5.4 - Property Services","5.4 - Property Services"]
[null,5.5,"Human Resources","5.5 - Human Resources","5.5 - Human Resources"]
[null,5.6,null,"5.6 - "]
[null,5.7,"[Name of sub-vote]","5.7 - [Name of sub-vote]"]
[null,5.8,"[Name of sub-vote]","5.8 - [Name of sub-vote]"]
[null,5.9,"[Name of sub-vote]","5.9 - [Name of sub-vote]"]
[null,"5.10","[Name of sub-vote]","5.10 - [Name of sub-vote]"]
[null,"Vote 6","[NAME OF VOTE 6]"]
[null,6.1,"[Name of sub-vote]",{"$f":"CONCATENATE(B58, \" - \", C58)","v":"6.1 - [Name of sub-vote]"},"6.1 - [Name of sub-vote]"]
[null,6.2,"[Name of sub-vote]","6.2 - [Name of sub-vote]"]
[null,6.3,"[Name of sub-vote]","6.3 - [Name of sub-vote]"]
[null,6.4,"[Name of sub-vote]","6.4 - [Name of sub-vote]"]
[null,6.5,"[Name of sub-vote]","6.5 - [Name of sub-vote]"]
[null,6.6,"[Name of sub-vote]","6.6 - [Name of sub-vote]"]
[null,6.7,"[Name of sub-vote]","6.7 - [Name of sub-vote]"]
[null,6.8,"[Name of sub-vote]","6.8 - [Name of sub-vote]"]
[null,6.9,"[Name of sub-vote]","6.9 - [Name of sub-vote]"]
[null,"6.10","[Name of sub-vote]","6.10 - [Name of sub-vote]"]
[null,"Vote 7","[NAME OF VOTE 7]"]
[null,7.1,"[Name of sub-vote]",{"$f":"CONCATENATE(B69, \" - \", C69)","v":"7.1 - [Name of sub-vote]"},"7.1 - [Name of sub-vote]"]
[null,7.2,"[Name of sub-vote]","7.2 - [Name of sub-vote]"]
[null,7.3,"[Name of sub-vote]","7.3 - [Name of sub-vote]"]
[null,7.4,"[Name of sub-vote]","7.4 - [Name of sub-vote]"]
[null,7.5,"[Name of sub-vote]","7.5 - [Name of sub-vote]"]
[null,7.6,"[Name of sub-vote]","7.6 - [Name of sub-vote]"]
[null,7.7,"[Name of sub-vote]","7.7 - [Name of sub-vote]"]
[null,7.8,"[Name of sub-vote]","7.8 - [Name of sub-vote]"]
[null,7.9,"[Name of sub-vote]","7.9 - [Name of sub-vote]"]
[null,"7.10","[Name of sub-vote]","7.10 - [Name of sub-vote]"]
[null,"Vote 8","[NAME OF VOTE 8]"]
[null,8.1,"[Name of sub-vote]",{"$f":"CONCATENATE(B80, \" - \", C80)","v":"8.1 - [Name of sub-vote]"},"8.1 - [Name of sub-vote]"]
[null,8.1999999999999993,"[Name of sub-vote]","8.2 - [Name of sub-vote]"]
[null,8.3000000000000007,"[Name of sub-vote]","8.3 - [Name of sub-vote]"]
[null,8.4,"[Name of sub-vote]","8.4 - [Name of sub-vote]"]
[null,8.5,"[Name of sub-vote]","8.5 - [Name of sub-vote]"]
[null,8.6,"[Name of sub-vote]","8.6 - [Name of sub-vote]"]
[null,8.6999999999999993,"[Name of sub-vote]","8.7 - [Name of sub-vote]"]
[null,8.8000000000000007,"[Name of sub-vote]","8.8 - [Name of sub-vote]"]
[null,8.9,"[Name of sub-vote]","8.9 - [Name of sub-vote]"]
[null,"8.10","[Name of sub-vote]","8.10 - [Name of sub-vote]"]
[null,"Vote 9","[NAME OF VOTE 9]"]
[null,9.1,"[Name of sub-vote]",{"$f":"CONCATENATE(B91, \" - \", C91)","v":"9.1 - [Name of sub-vote]"},"9.1 - [Name of sub-vote]"]
[null,9.1999999999999993,"[Name of sub-vote]","9.2 - [Name of sub-vote]"]
[null,9.3000000000000007,"[Name of sub-vote]","9.3 - [Name of sub-vote]"]
[null,9.4,"[Name of sub-vote]","9.4 - [Name of sub-vote]"]
[null,9.5,"[Name of sub-vote]","9.5 - [Name of sub-vote]"]
[null,9.6,"[Name of sub-vote]","9.6 - [Name of sub-vote]"]
[null,9.6999999999999993,"[Name of sub-vote]","9.7 - [Name of sub-vote]"]
[null,9.8000000000000007,"[Name of sub-vote]","9.8 - [Name of sub-vote]"]
[null,9.9,"[Name of sub-vote]","9.9 - [Name of sub-vote]"]
[null,"9.10","[Name of sub-vote]","9.10 - [Name of sub-vote]"]
[null,"Vote 10","[NAME OF VOTE 10]"]
[null,10.1,"[Name of sub-vote]",{"$f":"CONCATENATE(B102, \" - \", C102)","v":"10.1 - [Name of sub-vote]"},"10.1 - [Name of sub-vote]"]
[null,10.199999999999999,"[Name of sub-vote]","10.2 - [Name of sub-vote]"]
[null,10.3,"[Name of sub-vote]","10.3 - [Name of sub-vote]"]
[null,10.4,"[Name of sub-vote]","10.4 - [Name of sub-vote]"]
[null,10.5,"[Name of sub-vote]","10.5 - [Name of sub-vote]"]
[null,10.6,"[Name of sub-vote]","10.6 - [Name of sub-vote]"]
[null,10.7,"[Name of sub-vote]","10.7 - [Name of sub-vote]"]
[null,10.8,"[Name of sub-vote]","10.8 - [Name of sub-vote]"]
[null,10.9,"[Name of sub-vote]","10.9 - [Name of sub-vote]"]
[null,"10.10","[Name of sub-vote]","10.10 - [Name of sub-vote]"]
[null,"Vote 11","[NAME OF VOTE 11]"]
[null,11.1,"[Name of sub-vote]",{"$f":"CONCATENATE(B113, \" - \", C113)","v":"11.1 - [Name of sub-vote]"},"11.1 - [Name of sub-vote]"]
[null,11.2,"[Name of sub-vote]","11.2 - [Name of sub-vote]"]
[null,11.3,"[Name of sub-vote]","11.3 - [Name of sub-vote]"]
[null,11.4,"[Name of sub-vote]","11.4 - [Name of sub-vote]"]
[null,11.5,"[Name of sub-vote]","11.5 - [Name of sub-vote]"]
[null,11.6,"[Name of sub-vote]","11.6 - [Name of sub-vote]"]
[null,11.7,"[Name of sub-vote]","11.7 - [Name of sub-vote]"]
[null,11.8,"[Name of sub-vote]","11.8 - [Name of sub-vote]"]
[null,11.9,"[Name of sub-vote]","11.9 - [Name of sub-vote]"]
[null,"11.10","[Name of sub-vote]","11.10 - [Name of sub-vote]"]
[null,"Vote 12","[NAME OF VOTE 12]"]
[null,12.1,"[Name of sub-vote]",{"$f":"CONCATENATE(B124, \" - \", C124)","v":"12.1 - [Name of sub-vote]"},"12.1 - [Name of sub-vote]"]
[null,12.2,"[Name of sub-vote]","12.2 - [Name of sub-vote]"]
[null,12.3,"[Name of sub-vote]","12.3 - [Name of sub-vote]"]
[null,12.4,"[Name of sub-vote]","12.4 - [Name of sub-vote]"]
[null,12.5,"[Name of sub-vote]","12.5 - [Name of sub-vote]"]
[null,12.6,"[Name of sub-vote]","12.6 - [Name of sub-vote]"]
[null,12.7,"[Name of sub-vote]","12.7 - [Name of sub-vote]"]
[null,12.8,"[Name of sub-vote]","12.8 - [Name of sub-vote]"]
[null,12.9,"[Name of sub-vote]","12.9 - [Name of sub-vote]"]
[null,"12.10","[Name of sub-vote]","12.10 - [Name of sub-vote]"]
[null,"Vote 13","[NAME OF VOTE 13]"]
[null,13.1,"[Name of sub-vote]",{"$f":"CONCATENATE(B135, \" - \", C135)","v":"13.1 - [Name of sub-vote]"},"13.1 - [Name of sub-vote]"]
[null,13.2,"[Name of sub-vote]","13.2 - [Name of sub-vote]"]
[null,13.3,"[Name of sub-vote]","13.3 - [Name of sub-vote]"]
[null,13.4,"[Name of sub-vote]","13.4 - [Name of sub-vote]"]
[null,13.5,"[Name of sub-vote]","13.5 - [Name of sub-vote]"]
[null,13.6,"[Name of sub-vote]","13.6 - [Name of sub-vote]"]
[null,13.7,"[Name of sub-vote]","13.7 - [Name of sub-vote]"]
[null,13.8,"[Name of sub-vote]","13.8 - [Name of sub-vote]"]
[null,13.9,"[Name of sub-vote]","13.9 - [Name of sub-vote]"]
[null,"13.10","[Name of sub-vote]","13.10 - [Name of sub-vote]"]
[null,"Vote 14","[NAME OF VOTE 14]"]
[null,14.1,"[Name of sub-vote]",{"$f":"CONCATENATE(B146, \" - \", C146)","v":"14.1 - [Name of sub-vote]"},"14.1 - [Name of sub-vote]"]
[null,14.2,"[Name of sub-vote]","14.2 - [Name of sub-vote]"]
[null,14.3,"[Name of sub-vote]","14.3 - [Name of sub-vote]"]
[null,14.4,"[Name of sub-vote]","14.4 - [Name of sub-vote]"]
[null,14.5,"[Name of sub-vote]","14.5 - [Name of sub-vote]"]
[null,14.6,"[Name of sub-vote]","14.6 - [Name of sub-vote]"]
[null,14.7,"[Name of sub-vote]","14.7 - [Name of sub-vote]"]
[null,14.8,"[Name of sub-vote]","14.8 - [Name of sub-vote]"]
[null,14.9,"[Name of sub-vote]","14.9 - [Name of sub-vote]"]
[null,"14.10","[Name of sub-vote]","14.10 - [Name of sub-vote]"]
[null,"Vote 15","[NAME OF VOTE 15]"]
[null,15.1,"[Name of sub-vote]",{"$f":"CONCATENATE(B157, \" - \", C157)","v":"15.1 - [Name of sub-vote]"},"15.1 - [Name of sub-vote]"]
[null,15.2,"[Name of sub-vote]","15.2 - [Name of sub-vote]"]
[null,15.3,"[Name of sub-vote]","15.3 - [Name of sub-vote]"]
[null,15.4,"[Name of sub-vote]","15.4 - [Name of sub-vote]"]
[null,15.5,"[Name of sub-vote]","15.5 - [Name of sub-vote]"]
[null,15.6,"[Name of sub-vote]","15.6 - [Name of sub-vote]"]
[null,15.7,"[Name of sub-vote]","15.7 - [Name of sub-vote]"]
[null,15.8,"[Name of sub-vote]","15.8 - [Name of sub-vote]"]
[null,15.9,"[Name of sub-vote]","15.9 - [Name of sub-vote]"]
[null,"15.10","[Name of sub-vote]","15.10 - [Name of sub-vote]"]

{"sheet":"Contacts","index":5,"n_rows":84,"n_cols":4,"rows_kept":84,"cut":false,"hidden":false,"merged":[[7,2,7,3],[13,0,13,1],[29,0,29,1],[10,2,10,3],[12,2,12,3],[29,2,29,3],[52,2,52,3],[30,2,30,3],[72,0,72,1],[44,0,44,1],[37,0,37,1],[37,2,37,3],[44,2,44,3],[78,0,78,1],[78,2,78,3],[66,0,66,1],[51,0,51,1],[66,2,66,3],[72,2,72,3],[59,2,59,3],[51,2,51,3]]}
[{"$f":"muni&\" - \"&\" Contact Information\"","v":"DC16 Xhariep -  Contact Information"}]
[]
["A. GENERAL INFORMATION"]
["Municipality",{"$f":"muni","v":"DC16 Xhariep"},{"$f":"IF(B4=\"Choose name from List\",\"Set name on 'Instructions' sheet\", \"\")","v":""}]
[]
["Grade",2]
[]
["Province",{"$f":"IF(B4>\" \",VLOOKUP(B4,'Lookup and lists'!B29:C307,2, FALSE),\" \")","v":"FS FREE STATE"}]
[]
["Web Address","www.xhariep.gov.za"]
[]
["e-mail Address","martyr@xhariep.gov.za"]
[]
["B. CONTACT INFORMATION"]
["Postal address:"]
["P.O. Box","Private Bag X136"]
["City / Town","Trompsburg"]
["Postal Code",9913]
[]
["Street address"]
["Building","Xhariep District Municipality"]
["Street No. & Name","20 Louw Street"]
["City / Town","Trompsburg"]
["Postal Code",9913]
[]
["General Contacts"]
["Telephone number","051 7139 300"]
["Fax number","051 7130 461"]
[]
["C. POLITICAL LEADERSHIP"]
["Speaker:",null,"Secretary/PA to the Speaker:"]
["Name","Cllr. MJ Sehanka ","Name","Mr N Mothabeng"]
["Telephone number","051 7139 339","Telephone number","051 7139 339"]
["Cell number","079 5083 568","Cell number","083 421 4311"]
["Fax number","051 7130 461","Fax number","051 7130 461"]
["E-mail address","sehankam@xhariep.gov.za","E-mail address","mothabengn@xhariep.gov.za"]
[]
["Mayor/Executive Mayor:",null,"Secretary/PA to the Mayor/Executive Mayor:"]
["Name","Cllr. MG Ntwanambi","Name","Mrs DC Mkololo"]
["Telephone number","051 7130 229","Telephone number","051 7139 360"]
["Cell number","072 2050 311","Cell number","083 938 6411"]
["Fax number","086 5361 411","Fax number",865361411]
["E-mail address","babyr@xhariep.gov.za","E-mail address","babyr@xhariep.gov.za"]
[]
["Deputy Mayor/Executive Mayor:",null,"Secretary/PA to the Deputy Mayor/Executive Mayor:"]
["Name",null,"Name"]
["Telephone number",null,"Telephone number"]
["Cell number",null,"Cell number"]
["Fax number",null,"Fax number"]
["E-mail address",null,"E-mail address"]
[]
["D. MANAGEMENT LEADERSHIP"]
["Municipal Manager:",null,"Secretary/PA to the Municipal Manager:"]
["Name","Mr. MM Kubeka","Name","Mr P Tshabalala (Acting)"]
["Telephone number","051 7139 304","Telephone number","051 713 9304"]
["Cell number","082 933 6056","Cell number","073 199 6395"]
["Fax number","051 7130 461","Fax number","051 713 0461"]
["E-mail address","martyr@xhariep.gov.za","E-mail address","tshabalalapaseka@yahoo.com"]
[]
["Chief Financial Officer",null,"Secretary/PA to the Chief Financial Officer"]
["Name","Mr L Mashiane","Name","Miss M Moopela"]
["Telephone number","051 713 9307","Telephone number","051 7139 307"]
["Cell number","","Cell number","083 9939 969"]
["Fax number","051 713 0461","Fax number","051 7130 461"]
["E-mail address","l.mashiane@vodamail.co.za","E-mail address","moiponem@xhariep.gov.za"]
[]
["Official responsible for submitting financial information"]
["Name","Mr LJ Makubu "]
["Telephone number","051 7139 331 "]
["Cell number"]
["Fax number","051 7130 461"]
["E-mail address","makubulj@gmail.com"]
["Official responsible for submitting financial information"]
["Name"]
["Telephone number"]
["Cell number"]
["Fax number"]
["E-mail address"]
["Official responsible for submitting financial information"]
["Name"]
["Telephone number"]
["Cell number"]
["Fax number"]
["E-mail address"]

{"sheet":"A1-Sum","index":6,"n_rows":65,"n_cols":11,"rows_kept":65,"cut":false,"hidden":false,"merged":[[1,8,1,10],[1,4,1,7],[0,0,0,2]]}
[{"$f":"muni&\" - \"&Approve1","v":"DC16 Xhariep - Table A1 Budget Summary"}]
[{"$f":"desc","v":"Description"},{"$f":"head1b","v":"2010/11"},{"$f":"head1A","v":"2011/12"},{"$f":"Head1","v":"2012/13"},{"$f":"Head2","v":"Current Year 2013/14"},null,null,null,{"$f":"Head3","v":"2014/15 Medium Term Revenue & Expenditure Framework"}]
["R thousands",{"$f":"Head5","v":"Audited Outcome"},{"$f":"Head5","v":"Audited Outcome"},{"$f":"Head5","v":"Audited Outcome"},{"$f":"Head6","v":"Original Budget"},{"$f":"Head7","v":"Adjusted Budget"},{"$f":"Head8","v":"Full Year Forecast"},{"$f":"Head5b","v":"Pre-audit outcome"},{"$f":"Head9","v":"Budget Year 2014/15"},{"$f":"Head10","v":"Budget Year +1 2015/16"},{"$f":"Head11","v":"Budget Year +2 2016/17"}]
["Financial Performance"]
["Property rates",{"$f":"'A4-FinPerf RE'!C5+'A4-FinPerf RE'!C6","v":0},{"$f":"'A4-FinPerf RE'!D5+'A4-FinPerf RE'!D6","v":0},{"$f":"'A4-FinPerf RE'!E5+'A4-FinPerf RE'!E6","v":0},{"$f":"'A4-FinPerf RE'!F5+'A4-FinPerf RE'!F6","v":0},{"$f":"'A4-FinPerf RE'!G5+'A4-FinPerf RE'!G6","v":0},{"$f":"'A4-FinPerf RE'!H5+'A4-FinPerf RE'!H6","v":0},{"$f":"'A4-FinPerf RE'!I5+'A4-FinPerf RE'!I6","v":0},{"$f":"'A4-FinPerf RE'!J5+'A4-FinPerf RE'!J6","v":0},{"$f":"'A4-FinPerf RE'!K5+'A4-FinPerf RE'!K6","v":0},{"$f":"'A4-FinPerf RE'!L5+'A4-FinPerf RE'!L6","v":0}]
["Service charges",{"$f":"SUM('A4-FinPerf RE'!C7:C11)","v":0},{"$f":"SUM('A4-FinPerf RE'!D7:D11)","v":0},{"$f":"SUM('A4-FinPerf RE'!E7:E11)","v":0},{"$f":"SUM('A4-FinPerf RE'!F7:F11)","v":0},{"$f":"SUM('A4-FinPerf RE'!G7:G11)","v":0},{"$f":"SUM('A4-FinPerf RE'!H7:H11)","v":0},{"$f":"SUM('A4-FinPerf RE'!I7:I11)","v":0},{"$f":"SUM('A4-FinPerf RE'!J7:J11)","v":0},{"$f":"SUM('A4-FinPerf RE'!K7:K11)","v":0},{"$f":"SUM('A4-FinPerf RE'!L7:L11)","v":0}]
["Investment revenue",{"$f":"'A4-FinPerf RE'!C13","v":382910},{"$f":"'A4-FinPerf RE'!D13","v":731413},{"$f":"'A4-FinPerf RE'!E13","v":283816},{"$f":"'A4-FinPerf RE'!F13","v":129000},{"$f":"'A4-FinPerf RE'!G13","v":129000},{"$f":"'A4-FinPerf RE'!H13","v":129000},{"$f":"'A4-FinPerf RE'!I13","v":89000},{"$f":"'A4-FinPerf RE'!J13","v":103800},{"$f":"'A4-FinPerf RE'!K13","v":114180.00000000001},{"$f":"'A4-FinPerf RE'!L13","v":125598.00000000003}]
["Transfers recognised - operational",{"$f":"'A4-FinPerf RE'!C19","v":44886347},{"$f":"'A4-FinPerf RE'!D19","v":88254890},{"$f":"'A4-FinPerf RE'!E19","v":38596152},{"$f":"'A4-FinPerf RE'!F19","v":59971000},{"$f":"'A4-FinPerf RE'!G19","v":59340000},{"$f":"'A4-FinPerf RE'!H19","v":59340000},{"$f":"'A4-FinPerf RE'!I19","v":54971000},{"$f":"'A4-FinPerf RE'!J19","v":62992000},{"$f":"'A4-FinPerf RE'!K19","v":69291200},{"$f":"'A4-FinPerf RE'!L19","v":76220320}]
["Other own revenue",{"$f":"'A4-FinPerf RE'!C12+'A4-FinPerf RE'!C14+'A4-FinPerf RE'!C15+'A4-FinPerf RE'!C16+'A4-FinPerf RE'!C17+'A4-FinPerf RE'!C18+'A4-FinPerf RE'!C20+'A4-FinPerf RE'!C21","v":307367},{"$f":"'A4-FinPerf RE'!D12+'A4-FinPerf RE'!D14+'A4-FinPerf RE'!D15+'A4-FinPerf RE'!D16+'A4-FinPerf RE'!D17+'A4-FinPerf RE'!D18+'A4-FinPerf RE'!D20+'A4-FinPerf RE'!D21","v":1892911},{"$f":"'A4-FinPerf RE'!E12+'A4-FinPerf RE'!E14+'A4-FinPerf RE'!E15+'A4-FinPerf RE'!E16+'A4-FinPerf RE'!E17+'A4-FinPerf RE'!E18+'A4-FinPerf RE'!E20+'A4-FinPerf RE'!E21","v":505140},{"$f":"'A4-FinPerf RE'!F12+'A4-FinPerf RE'!F14+'A4-FinPerf RE'!F15+'A4-FinPerf RE'!F16+'A4-FinPerf RE'!F17+'A4-FinPerf RE'!F18+'A4-FinPerf RE'!F20+'A4-FinPerf RE'!F21","v":455255.04421052634},{"$f":"'A4-FinPerf RE'!G12+'A4-FinPerf RE'!G14+'A4-FinPerf RE'!G15+'A4-FinPerf RE'!G16+'A4-FinPerf RE'!G17+'A4-FinPerf RE'!G18+'A4-FinPerf RE'!G20+'A4-FinPerf RE'!G21","v":444496.68421052635},{"$f":"'A4-FinPerf RE'!H12+'A4-FinPerf RE'!H14+'A4-FinPerf RE'!H15+'A4-FinPerf RE'!H16+'A4-FinPerf RE'!H17+'A4-FinPerf RE'!H18+'A4-FinPerf RE'!H20+'A4-FinPerf RE'!H21","v":444496.68421052635},{"$f":"'A4-FinPerf RE'!I12+'A4-FinPerf RE'!I14+'A4-FinPerf RE'!I15+'A4-FinPerf RE'!I16+'A4-FinPerf RE'!I17+'A4-FinPerf RE'!I18+'A4-FinPerf RE'!I20+'A4-FinPerf RE'!I21","v":455496.68421052635},{"$f":"'A4-FinPerf RE'!J12+'A4-FinPerf RE'!J14+'A4-FinPerf RE'!J15+'A4-FinPerf RE'!J16+'A4-FinPerf RE'!J17+'A4-FinPerf RE'!J18+'A4-FinPerf RE'!J20+'A4-FinPerf RE'!J21","v":1109570.48},{"$f":"'A4-FinPerf RE'!K12+'A4-FinPerf RE'!K14+'A4-FinPerf RE'!K15+'A4-FinPerf RE'!K16+'A4-FinPerf RE'!K17+'A4-FinPerf RE'!K18+'A4-FinPerf RE'!K20+'A4-FinPerf RE'!K21","v":593527.52800000005},{"$f":"'A4-FinPerf RE'!L12+'A4-FinPerf RE'!L14+'A4-FinPerf RE'!L15+'A4-FinPerf RE'!L16+'A4-FinPerf RE'!L17+'A4-FinPerf RE'!L18+'A4-FinPerf RE'!L20+'A4-FinPerf RE'!L21","v":652880.28080000007}]
[{"$f":"'A4-FinPerf RE'!A22","v":"Total Revenue (excluding capital transfers and contributions)"},{"$f":"SUM(B5:B9)","v":45576624},90879214,39385108,60555255.044210523,59913496.684210524,59913496.684210524,55515496.684210524,64205370.479999997,69998907.527999997,76998798.2808]
["Employee costs",{"$f":"'A4-FinPerf RE'!C25","v":20001631},{"$f":"'A4-FinPerf RE'!D25","v":24585630},{"$f":"'A4-FinPerf RE'!E25","v":30159010},{"$f":"'A4-FinPerf RE'!F25","v":34411006.495802283},{"$f":"'A4-FinPerf RE'!G25","v":32099545.215802278},{"$f":"'A4-FinPerf RE'!H25","v":32099545.215802278},{"$f":"'A4-FinPerf RE'!I25","v":32099545.215802278},{"$f":"'A4-FinPerf RE'!J25","v":39164805.949999996},{"$f":"'A4-FinPerf RE'!K25","v":42421907.75925},{"$f":"'A4-FinPerf RE'!L25","v":45955266.340493746}]
["Remuneration of councillors",{"$f":"'A4-FinPerf RE'!C26","v":2566048},{"$f":"'A4-FinPerf RE'!D26","v":2895434},{"$f":"'A4-FinPerf RE'!E26","v":3318054},{"$f":"'A4-FinPerf RE'!F26","v":3239545.0736865401},{"$f":"'A4-FinPerf RE'!G26","v":3239545.0736865401},{"$f":"'A4-FinPerf RE'!H26","v":3239545.0736865401},{"$f":"'A4-FinPerf RE'!I26","v":3239545.0736865401},{"$f":"'A4-FinPerf RE'!J26","v":4696833.4800000004},{"$f":"'A4-FinPerf RE'!K26","v":5025611.8236000007},{"$f":"'A4-FinPerf RE'!L26","v":5377404.6512520015}]
["Depreciation & asset impairment",{"$f":"'A4-FinPerf RE'!C28","v":0},{"$f":"'A4-FinPerf RE'!D28","v":2307376},{"$f":"'A4-FinPerf RE'!E28","v":3648189},{"$f":"'A4-FinPerf RE'!F28","v":3866861.7446962921},{"$f":"'A4-FinPerf RE'!G28","v":3366861.7446962921},{"$f":"'A4-FinPerf RE'!H28","v":3366861.7446962921},{"$f":"'A4-FinPerf RE'!I28","v":3366861.7446962921},{"$f":"'A4-FinPerf RE'!J28","v":3500000},{"$f":"'A4-FinPerf RE'!K28","v":3850000.0000000005},{"$f":"'A4-FinPerf RE'!L28","v":4235000.0000000009}]
["Finance charges",{"$f":"'A4-FinPerf RE'!C29","v":497112},{"$f":"'A4-FinPerf RE'!D29","v":307741},{"$f":"'A4-FinPerf RE'!E29","v":286676},{"$f":"'A4-FinPerf RE'!F29","v":0},{"$f":"'A4-FinPerf RE'!G29","v":0},{"$f":"'A4-FinPerf RE'!H29","v":0},{"$f":"'A4-FinPerf RE'!I29","v":0},{"$f":"'A4-FinPerf RE'!J29","v":0},{"$f":"'A4-FinPerf RE'!K29","v":0},{"$f":"'A4-FinPerf RE'!L29","v":0}]
["Materials and bulk purchases",{"$f":"'A4-FinPerf RE'!C30+'A4-FinPerf RE'!C31","v":0},{"$f":"'A4-FinPerf RE'!D30+'A4-FinPerf RE'!D31","v":0},{"$f":"'A4-FinPerf RE'!E30+'A4-FinPerf RE'!E31","v":0},{"$f":"'A4-FinPerf RE'!F30+'A4-FinPerf RE'!F31","v":0},{"$f":"'A4-FinPerf RE'!G30+'A4-FinPerf RE'!G31","v":0},{"$f":"'A4-FinPerf RE'!H30+'A4-FinPerf RE'!H31","v":0},{"$f":"'A4-FinPerf RE'!I30+'A4-FinPerf RE'!I31","v":0},{"$f":"'A4-FinPerf RE'!J30+'A4-FinPerf RE'!J31","v":0},{"$f":"'A4-FinPerf RE'!K30+'A4-FinPerf RE'!K31","v":0},{"$f":"'A4-FinPerf RE'!L30+'A4-FinPerf RE'!L31","v":0}]
["Transfers and grants",{"$f":"'A4-FinPerf RE'!C33","v":0},{"$f":"'A4-FinPerf RE'!D33","v":0},{"$f":"'A4-FinPerf RE'!E33","v":0},{"$f":"'A4-FinPerf RE'!F33","v":0},{"$f":"'A4-FinPerf RE'!G33","v":1089978},{"$f":"'A4-FinPerf RE'!H33","v":1089978},{"$f":"'A4-FinPerf RE'!I33","v":1089978},{"$f":"'A4-FinPerf RE'!J33","v":0},{"$f":"'A4-FinPerf RE'!K33","v":0},{"$f":"'A4-FinPerf RE'!L33","v":0}]
["Other expenditure",{"$f":"'A4-FinPerf RE'!C27+'A4-FinPerf RE'!C32+'A4-FinPerf RE'!C34+'A4-FinPerf RE'!C35","v":16122554},{"$f":"'A4-FinPerf RE'!D27+'A4-FinPerf RE'!D32+'A4-FinPerf RE'!D34+'A4-FinPerf RE'!D35","v":37965458},{"$f":"'A4-FinPerf RE'!E27+'A4-FinPerf RE'!E32+'A4-FinPerf RE'!E34+'A4-FinPerf RE'!E35","v":33333209},{"$f":"'A4-FinPerf RE'!F27+'A4-FinPerf RE'!F32+'A4-FinPerf RE'!F34+'A4-FinPerf RE'!F35","v":21338903.601301309},{"$f":"'A4-FinPerf RE'!G27+'A4-FinPerf RE'!G32+'A4-FinPerf RE'!G34+'A4-FinPerf RE'!G35","v":22600453.600000001},{"$f":"'A4-FinPerf RE'!H27+'A4-FinPerf RE'!H32+'A4-FinPerf RE'!H34+'A4-FinPerf RE'!H35","v":22600453.600000001},{"$f":"'A4-FinPerf RE'!I27+'A4-FinPerf RE'!I32+'A4-FinPerf RE'!I34+'A4-FinPerf RE'!I35","v":22600453.600000001},{"$f":"'A4-FinPerf RE'!J27+'A4-FinPerf RE'!J32+'A4-FinPerf RE'!J34+'A4-FinPerf RE'!J35","v":19172239.98},{"$f":"'A4-FinPerf RE'!K27+'A4-FinPerf RE'!K32+'A4-FinPerf RE'!K34+'A4-FinPerf RE'!K35","v":21089463.978},{"$f":"'A4-FinPerf RE'!L27+'A4-FinPerf RE'!L32+'A4-FinPerf RE'!L34+'A4-FinPerf RE'!L35","v":23198410.375800002}]
[{"$f":"'A4-FinPerf RE'!A36","v":"Total Expenditure"},{"$f":"SUM(B11:B17)","v":39187345},{"$f":"SUM(C11:C17)","v":68061639},70745138,62856316.915486425,62396383.634185113,62396383.634185113,62396383.634185113,66533879.409999996,72386983.560849994,78766081.367545754]
[{"$f":"'A4-FinPerf RE'!A38","v":"Surplus/(Deficit)"},{"$f":"B10-B18","v":6389279},22817575,-31360030,-2301061.8712759018,-2482886.949974589,-2482886.949974589,-6880886.949974589,-2328508.9299999997,-2388076.0328499973,-1767283.0867457539]
[{"$f":"'A4-FinPerf RE'!A39","v":"Transfers recognised - capital"},{"$f":"'A4-FinPerf RE'!C39","v":0},{"$f":"'A4-FinPerf RE'!D39","v":0},{"$f":"'A4-FinPerf RE'!E39","v":0},{"$f":"'A4-FinPerf RE'!F39","v":0},{"$f":"'A4-FinPerf RE'!G39","v":0},{"$f":"'A4-FinPerf RE'!H39","v":0},{"$f":"'A4-FinPerf RE'!I39","v":0},{"$f":"'A4-FinPerf RE'!J39","v":0},{"$f":"'A4-FinPerf RE'!K39","v":0},{"$f":"'A4-FinPerf RE'!L39","v":0}]
["Contributions recognised - capital & contributed assets",{"$f":"'A4-FinPerf RE'!C40+'A4-FinPerf RE'!C41","v":0},{"$f":"'A4-FinPerf RE'!D40+'A4-FinPerf RE'!D41","v":0},{"$f":"'A4-FinPerf RE'!E40+'A4-FinPerf RE'!E41","v":0},{"$f":"'A4-FinPerf RE'!F40+'A4-FinPerf RE'!F41","v":0},{"$f":"'A4-FinPerf RE'!G40+'A4-FinPerf RE'!G41","v":0},{"$f":"'A4-FinPerf RE'!H40+'A4-FinPerf RE'!H41","v":0},{"$f":"'A4-FinPerf RE'!I40+'A4-FinPerf RE'!I41","v":0},{"$f":"'A4-FinPerf RE'!J40+'A4-FinPerf RE'!J41","v":0},{"$f":"'A4-FinPerf RE'!K40+'A4-FinPerf RE'!K41","v":0},{"$f":"'A4-FinPerf RE'!L40+'A4-FinPerf RE'!L41","v":0}]
[{"$f":"'A4-FinPerf RE'!A42","v":"Surplus/(Deficit) after capital transfers & contributions"},{"$f":"B19+SUM(B20:B21)","v":6389279},{"$f":"C19+SUM(C20:C21)","v":22817575},-31360030,-2301061.8712759018,-2482886.949974589,-2482886.949974589,-6880886.949974589,-2328508.9299999997,-2388076.0328499973,-1767283.0867457539]
[{"$f":"'A4-FinPerf RE'!A47","v":"Share of surplus/ (deficit) of associate"},{"$f":"'A4-FinPerf RE'!C47","v":0},{"$f":"'A4-FinPerf RE'!D47","v":0},{"$f":"'A4-FinPerf RE'!E47","v":0},{"$f":"'A4-FinPerf RE'!F47","v":0},{"$f":"'A4-FinPerf RE'!G47","v":0},{"$f":"'A4-FinPerf RE'!H47","v":0},{"$f":"'A4-FinPerf RE'!I47","v":0},{"$f":"'A4-FinPerf RE'!J47","v":0},{"$f":"'A4-FinPerf RE'!K47","v":0},{"$f":"'A4-FinPerf RE'!L47","v":0}]
[{"$f":"'A4-FinPerf RE'!A48","v":"Surplus/(Deficit) for the year"},{"$f":"B22+B23","v":6389279},{"$f":"C22+C23","v":22817575},-31360030,-2301061.8712759018,-2482886.949974589,-2482886.949974589,-6880886.949974589,-2328508.9299999997,-2388076.0328499973,-1767283.0867457539]
[]
["Capital expenditure & funds sources"]
["Capital expenditure",{"$f":"'A5-Capex'!C63","v":5611378},{"$f":"'A5-Capex'!D63","v":7474889},{"$f":"'A5-Capex'!E63","v":20077000},{"$f":"'A5-Capex'!F63","v":4490000},{"$f":"'A5-Capex'!G63","v":1324579.697037037},{"$f":"'A5-Capex'!H63","v":1324579.697037037},{"$f":"'A5-Capex'!I63","v":1324579.697037037},{"$f":"'A5-Capex'!J63","v":1745000},{"$f":"'A5-Capex'!K63","v":715000},{"$f":"'A5-Capex'!L63","v":786500}]
["Transfers recognised - capital",{"$f":"'A5-Capex'!C70","v":5611378},{"$f":"'A5-Capex'!D70","v":7474889},{"$f":"'A5-Capex'!E70","v":20076711},{"$f":"'A5-Capex'!F70","v":3049696},{"$f":"'A5-Capex'!G70","v":1324579.697037037},{"$f":"'A5-Capex'!H70","v":1324579.69703704},{"$f":"'A5-Capex'!I70","v":1324579.69703704},{"$f":"'A5-Capex'!J70","v":1745000},{"$f":"'A5-Capex'!K70","v":715000},{"$f":"'A5-Capex'!L70","v":786500.00000000012}]
[{"$f":"'A5-Capex'!A71","v":"Public contributions & donations"},{"$f":"'A5-Capex'!C71","v":0},{"$f":"'A5-Capex'!D71","v":0},{"$f":"'A5-Capex'!E71","v":0},{"$f":"'A5-Capex'!F71","v":0},{"$f":"'A5-Capex'!G71","v":0},{"$f":"'A5-Capex'!H71","v":0},{"$f":"'A5-Capex'!I71","v":0},{"$f":"'A5-Capex'!J71","v":0},{"$f":"'A5-Capex'!K71","v":0},{"$f":"'A5-Capex'!L71","v":0}]
[{"$f":"'A5-Capex'!A72","v":"Borrowing"},{"$f":"'A5-Capex'!C72","v":0},{"$f":"'A5-Capex'!D72","v":0},{"$f":"'A5-Capex'!E72","v":0},{"$f":"'A5-Capex'!F72","v":0},{"$f":"'A5-Capex'!G72","v":0},{"$f":"'A5-Capex'!H72","v":0},{"$f":"'A5-Capex'!I72","v":0},{"$f":"'A5-Capex'!J72","v":0},{"$f":"'A5-Capex'!K72","v":0},{"$f":"'A5-Capex'!L72","v":0}]
[{"$f":"'A5-Capex'!A73","v":"Internally generated funds"},{"$f":"'A5-Capex'!C73","v":0},{"$f":"'A5-Capex'!D73","v":0},{"$f":"'A5-Capex'!E73","v":0},{"$f":"'A5-Capex'!F73","v":0},{"$f":"'A5-Capex'!G73","v":0},{"$f":"'A5-Capex'!H73","v":0},{"$f":"'A5-Capex'!I73","v":0},{"$f":"'A5-Capex'!J73","v":0},{"$f":"'A5-Capex'!K73","v":0},{"$f":"'A5-Capex'!L73","v":0}]
["Total sources of capital funds",{"$f":"SUM(B28:B31)","v":5611378},7474889,20076711,3049696,1324579.697037037,1324579.69703704,1324579.69703704,1745000,715000,786500.00000000012]
[]
["Financial position"]
[{"$f":"'A6-FinPos'!A12","v":"Total current assets"},{"$f":"'A6-FinPos'!C12","v":16724782},{"$f":"'A6-FinPos'!D12","v":35956043},{"$f":"'A6-FinPos'!E12","v":2790065.2600000016},{"$f":"'A6-FinPos'!F12","v":23226547.709800001},{"$f":"'A6-FinPos'!G12","v":23226547.709800001},{"$f":"'A6-FinPos'!H12","v":23226547.709800001},{"$f":"'A6-FinPos'!I12","v":1596084.31},{"$f":"'A6-FinPos'!J12","v":418000},{"$f":"'A6-FinPos'!K12","v":1003000},{"$f":"'A6-FinPos'!L12","v":875000}]
[{"$f":"'A6-FinPos'!A24","v":"Total non current assets"},{"$f":"'A6-FinPos'!C24","v":12090040},{"$f":"'A6-FinPos'!D24","v":17497493},{"$f":"'A6-FinPos'!E24","v":21628547},{"$f":"'A6-FinPos'!F24","v":16124155.752114628},{"$f":"'A6-FinPos'!G24","v":16124155.752114628},{"$f":"'A6-FinPos'!H24","v":16124155.752114628},{"$f":"'A6-FinPos'!I24","v":19387495.870074578},{"$f":"'A6-FinPos'!J24","v":16367495.870074576},{"$f":"'A6-FinPos'!K24","v":12793495.870074578},{"$f":"'A6-FinPos'!L24","v":15061439.800283698}]
[{"$f":"'A6-FinPos'!A34","v":"Total current liabilities"},{"$f":"'A6-FinPos'!C34","v":6083636},{"$f":"'A6-FinPos'!D34","v":4579198},{"$f":"'A6-FinPos'!E34","v":7303639},{"$f":"'A6-FinPos'!F34","v":15160020.66},{"$f":"'A6-FinPos'!G34","v":15160020.66},{"$f":"'A6-FinPos'!H34","v":15160020.66},{"$f":"'A6-FinPos'!I34","v":7285365.8200000003},{"$f":"'A6-FinPos'!J34","v":4307053},{"$f":"'A6-FinPos'!K34","v":3960033},{"$f":"'A6-FinPos'!L34","v":3255984}]
[{"$f":"'A6-FinPos'!A39","v":"Total non current liabilities"},{"$f":"'A6-FinPos'!C39","v":858178},{"$f":"'A6-FinPos'!D39","v":673000},{"$f":"'A6-FinPos'!E39","v":879000},{"$f":"'A6-FinPos'!F39","v":1304000},{"$f":"'A6-FinPos'!G39","v":1503000},{"$f":"'A6-FinPos'!H39","v":1503000},{"$f":"'A6-FinPos'!I39","v":879000},{"$f":"'A6-FinPos'!J39","v":1412000},{"$f":"'A6-FinPos'!K39","v":1534960},{"$f":"'A6-FinPos'!L39","v":1668756.8}]
["Community wealth/Equity",{"$f":"'A6-FinPos'!C48","v":26904981},{"$f":"'A6-FinPos'!D48","v":53201338},{"$f":"'A6-FinPos'!E48","v":16235973.260000002},{"$f":"'A6-FinPos'!F48","v":28587682.801914629},{"$f":"'A6-FinPos'!G48","v":28587682.801914629},{"$f":"'A6-FinPos'!H48","v":28587682.801914629},{"$f":"'A6-FinPos'!I48","v":12819214.360074576},{"$f":"'A6-FinPos'!J48","v":10966443},{"$f":"'A6-FinPos'!K48","v":8431502.8699999992},{"$f":"'A6-FinPos'!L48","v":11396699}]
[]
["Cash flows"]
["Net cash from (used) operating",{"$f":"'A7-CFlow'!C15","v":5468295},{"$f":"'A7-CFlow'!D15","v":16278353},{"$f":"'A7-CFlow'!E15","v":-11886257},{"$f":"'A7-CFlow'!F15","v":2196391.484210521},{"$f":"'A7-CFlow'!G15","v":4038467.8089068159},{"$f":"'A7-CFlow'!H15","v":4038467.8089068159},{"$f":"'A7-CFlow'!I15","v":4036821.8089068159},{"$f":"'A7-CFlow'!J15","v":-1828509.4099999964},{"$f":"'A7-CFlow'!K15","v":-2011360.3509999961},{"$f":"'A7-CFlow'!L15","v":-2212496.3860999942}]
["Net cash from (used) investing",{"$f":"'A7-CFlow'!C25","v":-5738348},{"$f":"'A7-CFlow'!D25","v":-6176492},{"$f":"'A7-CFlow'!E25","v":-1410817},{"$f":"'A7-CFlow'!F25","v":-3746000},{"$f":"'A7-CFlow'!G25","v":-2620913},{"$f":"'A7-CFlow'!H25","v":-2620913},{"$f":"'A7-CFlow'!I25","v":-2620913},{"$f":"'A7-CFlow'!J25","v":0},{"$f":"'A7-CFlow'!K25","v":0},{"$f":"'A7-CFlow'!L25","v":0}]
["Net cash from (used) financing",{"$f":"'A7-CFlow'!C34","v":-254470},{"$f":"'A7-CFlow'!D34","v":-397947},{"$f":"'A7-CFlow'!E34","v":-362859},{"$f":"'A7-CFlow'!F34","v":0},{"$f":"'A7-CFlow'!G34","v":0},{"$f":"'A7-CFlow'!H34","v":0},{"$f":"'A7-CFlow'!I34","v":0},{"$f":"'A7-CFlow'!J34","v":-500000},{"$f":"'A7-CFlow'!K34","v":-550000},{"$f":"'A7-CFlow'!L34","v":-605000}]
[{"$f":"LEFT('A7-CFlow'!A38,37)","v":"Cash/cash equivalents at the year end"},{"$f":"'A7-CFlow'!C38","v":9952826},{"$f":"'A7-CFlow'!D38","v":19656740},{"$f":"'A7-CFlow'!E38","v":5996807},{"$f":"'A7-CFlow'!F38","v":-1549608.515789479},{"$f":"'A7-CFlow'!G38","v":1417554.8089068159},{"$f":"'A7-CFlow'!H38","v":1417554.8089068159},{"$f":"'A7-CFlow'!I38","v":1415908.8089068159},{"$f":"'A7-CFlow'!J38","v":-2328509.4099999964},{"$f":"'A7-CFlow'!K38","v":-4889869.7609999925},{"$f":"'A7-CFlow'!L38","v":-7707366.1470999867}]
[]
["Cash backing/surplus reconciliation"]
[{"$f":"'A8-ResRecon'!A4","v":"Cash and investments available"},{"$f":"'A8-ResRecon'!C8","v":1358177},{"$f":"'A8-ResRecon'!D8","v":11062090},{"$f":"'A8-ResRecon'!E8","v":1819068},{"$f":"'A8-ResRecon'!F8","v":0},{"$f":"'A8-ResRecon'!G8","v":0},{"$f":"'A8-ResRecon'!H8","v":0},{"$f":"'A8-ResRecon'!I8","v":0},{"$f":"'A8-ResRecon'!J8","v":260000},{"$f":"'A8-ResRecon'!K8","v":560000},{"$f":"'A8-ResRecon'!L8","v":875000}]
[{"$f":"'A8-ResRecon'!A10","v":"Application of cash and investments"},{"$f":"'A8-ResRecon'!C18","v":-4756311},{"$f":"'A8-ResRecon'!D18","v":-13258607},{"$f":"'A8-ResRecon'!E18","v":7451540},{"$f":"'A8-ResRecon'!F18","v":-2719979.34},{"$f":"'A8-ResRecon'!G18","v":-3150979.34},{"$f":"'A8-ResRecon'!H18","v":-3150979.34},{"$f":"'A8-ResRecon'!I18","v":7339150.0899999999},{"$f":"'A8-ResRecon'!J18","v":4877053},{"$f":"'A8-ResRecon'!K18","v":4554033},{"$f":"'A8-ResRecon'!L18","v":3967984}]
["Balance - surplus (shortfall)",{"$f":"B48-B49","v":6114488},{"$f":"C48-C49","v":24320697},-5632472,2719979.34,3150979.34,3150979.34,-7339150.0899999999,-4617053,-3994033,-3092984]
[]
["Asset management"]
["Asset register summary (WDV)",{"$f":"'A9-Asset'!C65","v":344908},{"$f":"'A9-Asset'!D65","v":455024},{"$f":"'A9-Asset'!E65","v":739015},{"$f":"'A9-Asset'!F65","v":408000},{"$f":"'A9-Asset'!G65","v":408000},{"$f":"'A9-Asset'!H65","v":408000},{"$f":"'A9-Asset'!I65","v":460000},{"$f":"'A9-Asset'!I65","v":460000},{"$f":"'A9-Asset'!J65","v":386000},{"$f":"'A9-Asset'!K65","v":300000}]
[{"$f":"'A9-Asset'!A68","v":"Depreciation & asset impairment"},{"$f":"'A9-Asset'!C68","v":0},{"$f":"'A9-Asset'!D68","v":2307376},{"$f":"'A9-Asset'!E68","v":3648189},{"$f":"'A9-Asset'!F68","v":3866861.7446962921},{"$f":"'A9-Asset'!G68","v":3366861.7446962921},{"$f":"'A9-Asset'!H68","v":3366861.7446962921},{"$f":"'A9-Asset'!I68","v":3500000},{"$f":"'A9-Asset'!I68","v":3500000},{"$f":"'A9-Asset'!J68","v":3850000.0000000005},{"$f":"'A9-Asset'!K68","v":4235000.0000000009}]
["Renewal of Existing Assets",{"$f":"'A9-Asset'!C20","v":140000},{"$f":"'A9-Asset'!D20","v":0},{"$f":"'A9-Asset'!E20","v":0},{"$f":"'A9-Asset'!F20","v":0},{"$f":"'A9-Asset'!G20","v":0},{"$f":"'A9-Asset'!H20","v":0},{"$f":"'A9-Asset'!H20","v":0},{"$f":"'A9-Asset'!I20","v":0},{"$f":"'A9-Asset'!J20","v":0},{"$f":"'A9-Asset'!K20","v":0}]
["Repairs and Maintenance",{"$f":"'A9-Asset'!C69","v":4878087},{"$f":"'A9-Asset'!D69","v":7602087},{"$f":"'A9-Asset'!E69","v":1271312},{"$f":"'A9-Asset'!F69","v":1151000},{"$f":"'A9-Asset'!G69","v":1445465},{"$f":"'A9-Asset'!H69","v":1445465},{"$f":"'A9-Asset'!I69","v":528000},{"$f":"'A9-Asset'!I69","v":528000},{"$f":"'A9-Asset'!J69","v":580800},{"$f":"'A9-Asset'!K69","v":638880}]
[]
["Free services"]
["Cost of Free Basic Services provided",{"$f":"'A10-SerDel'!C59","v":0},{"$f":"'A10-SerDel'!D59","v":0},{"$f":"'A10-SerDel'!E59","v":0},{"$f":"'A10-SerDel'!F59","v":0},{"$f":"'A10-SerDel'!G59","v":0},{"$f":"'A10-SerDel'!H59","v":0},{"$f":"'A10-SerDel'!I59","v":0},{"$f":"'A10-SerDel'!I59","v":0},{"$f":"'A10-SerDel'!J59","v":0},{"$f":"'A10-SerDel'!K59","v":0}]
["Revenue cost of free services provided",{"$f":"'A10-SerDel'!C78","v":0},{"$f":"'A10-SerDel'!D78","v":0},{"$f":"'A10-SerDel'!E78","v":0},{"$f":"'A10-SerDel'!F78","v":0},{"$f":"'A10-SerDel'!G78","v":0},{"$f":"'A10-SerDel'!H78","v":0},{"$f":"'A10-SerDel'!I78","v":0},{"$f":"'A10-SerDel'!I78","v":0},{"$f":"'A10-SerDel'!J78","v":0},{"$f":"'A10-SerDel'!K78","v":0}]
["Households below minimum service level"]
[{"$f":"'A10-SerDel'!A5","v":"Water:"},{"$f":"'A10-SerDel'!C14","v":0},{"$f":"'A10-SerDel'!D14","v":0},{"$f":"'A10-SerDel'!E14","v":0},{"$f":"'A10-SerDel'!F14","v":0},{"$f":"'A10-SerDel'!G14","v":0},{"$f":"'A10-SerDel'!H14","v":0},{"$f":"'A10-SerDel'!I14","v":0},{"$f":"'A10-SerDel'!I14","v":0},{"$f":"'A10-SerDel'!J14","v":0},{"$f":"'A10-SerDel'!K14","v":0}]
[{"$f":"'A10-SerDel'!A16","v":"Sanitation/sewerage:"},{"$f":"'A10-SerDel'!C26","v":0},{"$f":"'A10-SerDel'!D26","v":0},{"$f":"'A10-SerDel'!E26","v":0},{"$f":"'A10-SerDel'!F26","v":0},{"$f":"'A10-SerDel'!G26","v":0},{"$f":"'A10-SerDel'!H26","v":0},{"$f":"'A10-SerDel'!I26","v":0},{"$f":"'A10-SerDel'!I26","v":0},{"$f":"'A10-SerDel'!J26","v":0},{"$f":"'A10-SerDel'!K26","v":0}]
[{"$f":"'A10-SerDel'!A28","v":"Energy:"},{"$f":"'A10-SerDel'!C35","v":0},{"$f":"'A10-SerDel'!D35","v":0},{"$f":"'A10-SerDel'!E35","v":0},{"$f":"'A10-SerDel'!F35","v":0},{"$f":"'A10-SerDel'!G35","v":0},{"$f":"'A10-SerDel'!H35","v":0},{"$f":"'A10-SerDel'!I35","v":0},{"$f":"'A10-SerDel'!I35","v":0},{"$f":"'A10-SerDel'!J35","v":0},{"$f":"'A10-SerDel'!K35","v":0}]
[{"$f":"'A10-SerDel'!A37","v":"Refuse:"},{"$f":"'A10-SerDel'!C45","v":0},{"$f":"'A10-SerDel'!D45","v":0},{"$f":"'A10-SerDel'!E45","v":0},{"$f":"'A10-SerDel'!F45","v":0},{"$f":"'A10-SerDel'!G45","v":0},{"$f":"'A10-SerDel'!H45","v":0},{"$f":"'A10-SerDel'!I45","v":0},{"$f":"'A10-SerDel'!I45","v":0},{"$f":"'A10-SerDel'!J45","v":0},{"$f":"'A10-SerDel'!K45","v":0}]

{"sheet":"A2-FinPerf SC","index":7,"n_rows":58,"n_cols":11,"rows_kept":58,"cut":false,"hidden":false,"merged":[[53,0,53,10],[1,5,1,7],[1,8,1,10]]}
[{"$f":"muni&\" - \"&Approve3","v":"DC16 Xhariep - Table A2 Budgeted Financial Performance (revenue and expenditure by standard classification)"}]
[{"$f":"\"Standard Classification \"&desc","v":"Standard Classification Description"},{"$f":"head27","v":"Ref"},{"$f":"head1b","v":"2010/11"},{"$f":"head1A","v":"2011/12"},{"$f":"Head1","v":"2012/13"},{"$f":"Head2","v":"Current Year 2013/14"},null,null,{"$f":"Head3","v":"2014/15 Medium Term Revenue & Expenditure Framework"}]
["R thousand",1,{"$f":"Head5","v":"Audited Outcome"},{"$f":"Head5","v":"Audited Outcome"},{"$f":"Head5","v":"Audited Outcome"},{"$f":"Head6","v":"Original Budget"},{"$f":"Head7","v":"Adjusted Budget"},{"$f":"Head8","v":"Full Year Forecast"},{"$f":"Head9","v":"Budget Year 2014/15"},{"$f":"Head10","v":"Budget Year +1 2015/16"},{"$f":"Head11","v":"Budget Year +2 2016/17"}]
["Revenue - Standard"]
["Governance and administration",null,{"$f":"SUM(C6:C8)","v":35747062.32},{"$f":"SUM(D6:D8)","v":82702400.519999996},35152233.349999994,43383315.824313723,43499176.979999997,43499176.979999997,52066361.080442481,56645998.188486733,62310598.007335417]
["Executive and council",null,{"$f":"A2A!C6","v":10706000},{"$f":"A2A!D6","v":17930453.049999997},{"$f":"A2A!E6","v":10252734.73},{"$f":"A2A!F6","v":16290441.176470587},{"$f":"A2A!G6","v":16038002.940000001},{"$f":"A2A!H6","v":16038002.940000001},{"$f":"A2A!I6","v":14877955.75221239},{"$f":"A2A!J6","v":16365751.327433631},{"$f":"A2A!K6","v":18002326.460176997}]
["Budget and treasury office",null,{"$f":"A2A!C9","v":9662062.3200000003},{"$f":"A2A!D9","v":46805414.259999998},{"$f":"A2A!E9","v":9520396.5299999993},{"$f":"A2A!F9","v":11915534.830588236},{"$f":"A2A!G9","v":12410053.35},{"$f":"A2A!H9","v":12410053.35},{"$f":"A2A!I9","v":14928408.219911505},{"$f":"A2A!J9","v":16421249.041902656},{"$f":"A2A!K9","v":18063373.946092922}]
["Corporate services",null,{"$f":"A2A!C10","v":15379000},{"$f":"A2A!D10","v":17966533.210000001},{"$f":"A2A!E10","v":15379102.09},{"$f":"A2A!F10","v":15177339.817254901},{"$f":"A2A!G10","v":15051120.689999999},{"$f":"A2A!H10","v":15051120.689999999},{"$f":"A2A!I10","v":22259997.108318586},{"$f":"A2A!J10","v":23858997.819150448},{"$f":"A2A!K10","v":26244897.601065494}]
["Community and public safety",null,{"$f":"SUM(C10:C14)","v":0},{"$f":"SUM(D10:D14)","v":0},0,0,0,0,0,0,0]
["Community and social services",null,{"$f":"A2A!C16","v":0},{"$f":"A2A!D16","v":0},{"$f":"A2A!E16","v":0},{"$f":"A2A!F16","v":0},{"$f":"A2A!G16","v":0},{"$f":"A2A!H16","v":0},{"$f":"A2A!I16","v":0},{"$f":"A2A!J16","v":0},{"$f":"A2A!K16","v":0}]
["Sport and recreation",null,{"$f":"A2A!C25","v":0},{"$f":"A2A!D25","v":0},{"$f":"A2A!E25","v":0},{"$f":"A2A!F25","v":0},{"$f":"A2A!G25","v":0},{"$f":"A2A!H25","v":0},{"$f":"A2A!I25","v":0},{"$f":"A2A!J25","v":0},{"$f":"A2A!K25","v":0}]
["Public safety",null,{"$f":"A2A!C26","v":0},{"$f":"A2A!D26","v":0},{"$f":"A2A!E26","v":0},{"$f":"A2A!F26","v":0},{"$f":"A2A!G26","v":0},{"$f":"A2A!H26","v":0},{"$f":"A2A!I26","v":0},{"$f":"A2A!J26","v":0},{"$f":"A2A!K26","v":0}]
["Housing",null,{"$f":"A2A!C32","v":0},{"$f":"A2A!D32","v":0},{"$f":"A2A!E32","v":0},{"$f":"A2A!F32","v":0},{"$f":"A2A!G32","v":0},{"$f":"A2A!H32","v":0},{"$f":"A2A!I32","v":0},{"$f":"A2A!J32","v":0},{"$f":"A2A!K32","v":0}]
["Health",null,{"$f":"A2A!C33","v":0},{"$f":"A2A!D33","v":0},{"$f":"A2A!E33","v":0},{"$f":"A2A!F33","v":0},{"$f":"A2A!G33","v":0},{"$f":"A2A!H33","v":0},{"$f":"A2A!I33","v":0},{"$f":"A2A!J33","v":0},{"$f":"A2A!K33","v":0}]
["Economic and environmental services",null,{"$f":"SUM(C16:C18)","v":9829561.6799999997},{"$f":"SUM(D16:D18)","v":8176813.8199999994},6224874.6500000004,17171939.215686273,17045320.099999998,17045320.099999998,11639008.849557523,12802909.734513275,14083200.707964605]
["Planning and development",null,{"$f":"A2A!C38","v":9829561.6799999997},{"$f":"A2A!D38","v":8176813.8199999994},{"$f":"A2A!E38","v":6224874.6500000004},{"$f":"A2A!F38","v":17171939.215686273},{"$f":"A2A!G38","v":17045320.099999998},{"$f":"A2A!H38","v":17045320.099999998},{"$f":"A2A!I38","v":11639008.849557523},{"$f":"A2A!J38","v":12802909.734513275},{"$f":"A2A!K38","v":14083200.707964605}]
["Road transport",null,{"$f":"A2A!C42","v":0},{"$f":"A2A!D42","v":0},{"$f":"A2A!E42","v":0},{"$f":"A2A!F42","v":0},{"$f":"A2A!G42","v":0},{"$f":"A2A!H42","v":0},{"$f":"A2A!I42","v":0},{"$f":"A2A!J42","v":0},{"$f":"A2A!K42","v":0}]
["Environmental protection",null,{"$f":"A2A!C48","v":0},{"$f":"A2A!D48","v":0},{"$f":"A2A!E48","v":0},{"$f":"A2A!F48","v":0},{"$f":"A2A!G48","v":0},{"$f":"A2A!H48","v":0},{"$f":"A2A!I48","v":0},{"$f":"A2A!J48","v":0},{"$f":"A2A!K48","v":0}]
["Trading services",null,{"$f":"SUM(C20:C23)","v":0},{"$f":"SUM(D20:D23)","v":0},0,0,0,0,0,{"$f":"SUM(J20:J23)","v":0},0]
["Electricity",null,{"$f":"A2A!C53","v":0},{"$f":"A2A!D53","v":0},{"$f":"A2A!E53","v":0},{"$f":"A2A!F53","v":0},{"$f":"A2A!G53","v":0},{"$f":"A2A!H53","v":0},{"$f":"A2A!I53","v":0},{"$f":"A2A!J53","v":0},{"$f":"A2A!K53","v":0}]
["Water",null,{"$f":"A2A!C56","v":0},{"$f":"A2A!D56","v":0},{"$f":"A2A!E56","v":0},{"$f":"A2A!F56","v":0},{"$f":"A2A!G56","v":0},{"$f":"A2A!H56","v":0},{"$f":"A2A!I56","v":0},{"$f":"A2A!J56","v":0},{"$f":"A2A!K56","v":0}]
["Waste water management",null,{"$f":"A2A!C59","v":0},{"$f":"A2A!D59","v":0},{"$f":"A2A!E59","v":0},{"$f":"A2A!F59","v":0},{"$f":"A2A!G59","v":0},{"$f":"A2A!H59","v":0},{"$f":"A2A!I59","v":0},{"$f":"A2A!J59","v":0},{"$f":"A2A!K59","v":0}]
["Waste management",null,{"$f":"A2A!C63","v":0},{"$f":"A2A!D63","v":0},{"$f":"A2A!E63","v":0},{"$f":"A2A!F63","v":0},{"$f":"A2A!G63","v":0},{"$f":"A2A!H63","v":0},{"$f":"A2A!I63","v":0},{"$f":"A2A!J63","v":0},{"$f":"A2A!K63","v":0}]
["Other",4,{"$f":"A2A!C65","v":0},{"$f":"A2A!D65","v":0},{"$f":"A2A!E65","v":0},{"$f":"A2A!F65","v":0},{"$f":"A2A!G65","v":0},{"$f":"A2A!H65","v":0},{"$f":"A2A!I65","v":0},{"$f":"A2A!J65","v":0},{"$f":"A2A!K65","v":0}]
[{"$f":"\"Total \"&A4","v":"Total Revenue - Standard"},2,{"$f":"C5+C9+C15+C19+C24","v":45576624},{"$f":"D5+D9+D15+D19+D24","v":90879214.339999989},{"$f":"E5+E9+E15+E19+E24","v":41377107.999999993},60555255.039999992,60544497.079999998,60544497.079999998,{"$f":"I5+I9+I15+I19+I24","v":63705369.930000007},69448907.923000008,76393798.715300024]
[]
["Expenditure - Standard"]
[{"$f":"A5","v":"Governance and administration"},null,{"$f":"SUM(C29:C31)","v":30795584.32},{"$f":"SUM(D29:D31)","v":54109717.810000002},60101131.400000006,48458591.210531704,47119780.930000007,47119780.930000007,52227155.386504427,56649586.925154865,61454945.617670365]
[{"$f":"A6","v":"Executive and council"},null,{"$f":"A2A!C75","v":10688000},{"$f":"A2A!D75","v":12535276.420000002},{"$f":"A2A!E75","v":17531304.990000002},{"$f":"A2A!F75","v":17184977.419537026},{"$f":"A2A!G75","v":17369461.420000002},{"$f":"A2A!H75","v":17369461.420000002},{"$f":"A2A!I75","v":20830214.810587414},{"$f":"A2A!J75","v":22913236.291646153},{"$f":"A2A!K75","v":25204559.920810774}]
["Budget and treasury office",null,{"$f":"A2A!C78","v":5708584.3200000003},{"$f":"A2A!D78","v":22158108.950000003},{"$f":"A2A!E78","v":16279068.92},{"$f":"A2A!F78","v":11649471.488808705},{"$f":"A2A!G78","v":10607817.49},{"$f":"A2A!H78","v":10607817.49},{"$f":"A2A!I78","v":12354570.262233794},{"$f":"A2A!J78","v":13590027.288457174},{"$f":"A2A!K78","v":14949030.017302893}]
["Corporate services",null,{"$f":"A2A!C79","v":14399000},{"$f":"A2A!D79","v":19416332.439999998},{"$f":"A2A!E79","v":26290757.490000002},{"$f":"A2A!F79","v":19624142.302185975},{"$f":"A2A!G79","v":19142502.02},{"$f":"A2A!H79","v":19142502.02},{"$f":"A2A!I79","v":19042370.313683216},{"$f":"A2A!J79","v":20146323.345051542},{"$f":"A2A!K79","v":21301355.679556698}]
["Community and public safety",null,{"$f":"SUM(C33:C37)","v":0},{"$f":"SUM(D33:D37)","v":0},0,0,0,0,0,0,0]
["Community and social services",null,{"$f":"A2A!C85","v":0},{"$f":"A2A!D85","v":0},{"$f":"A2A!E85","v":0},{"$f":"A2A!F85","v":0},{"$f":"A2A!G85","v":0},{"$f":"A2A!H85","v":0},{"$f":"A2A!I85","v":0},{"$f":"A2A!J85","v":0},{"$f":"A2A!K85","v":0}]
["Sport and recreation",null,{"$f":"A2A!C94","v":0},{"$f":"A2A!D94","v":0},{"$f":"A2A!E94","v":0},{"$f":"A2A!F94","v":0},{"$f":"A2A!G94","v":0},{"$f":"A2A!H94","v":0},{"$f":"A2A!I94","v":0},{"$f":"A2A!J94","v":0},{"$f":"A2A!K94","v":0}]
["Public safety",null,{"$f":"A2A!C95","v":0},{"$f":"A2A!D95","v":0},{"$f":"A2A!E95","v":0},{"$f":"A2A!F95","v":0},{"$f":"A2A!G95","v":0},{"$f":"A2A!H95","v":0},{"$f":"A2A!I95","v":0},{"$f":"A2A!J95","v":0},{"$f":"A2A!K95","v":0}]
["Housing",null,{"$f":"A2A!C101","v":0},{"$f":"A2A!D101","v":0},{"$f":"A2A!E101","v":0},{"$f":"A2A!F101","v":0},{"$f":"A2A!G101","v":0},{"$f":"A2A!H101","v":0},{"$f":"A2A!I101","v":0},{"$f":"A2A!J101","v":0},{"$f":"A2A!K101","v":0}]
["Health",null,{"$f":"A2A!C102","v":0},{"$f":"A2A!D102","v":0},{"$f":"A2A!E102","v":0},{"$f":"A2A!F102","v":0},{"$f":"A2A!G102","v":0},{"$f":"A2A!H102","v":0},{"$f":"A2A!I102","v":0},{"$f":"A2A!J102","v":0},{"$f":"A2A!K102","v":0}]
["Economic and environmental services",null,{"$f":"SUM(C39:C41)","v":8391760.6799999997},{"$f":"SUM(D39:D41)","v":13951921.49},10644006.6,14397725.704954717,15276602.699999999,15276602.699999999,13806724.017077571,15187396.41878533,16706136.060663864]
["Planning and development",null,{"$f":"A2A!C107","v":8391760.6799999997},{"$f":"A2A!D107","v":13951921.49},{"$f":"A2A!E107","v":10644006.6},{"$f":"A2A!F107","v":14397725.704954717},{"$f":"A2A!G107","v":15276602.699999999},{"$f":"A2A!H107","v":15276602.699999999},{"$f":"A2A!I107","v":13806724.017077571},{"$f":"A2A!J107","v":15187396.41878533},{"$f":"A2A!K107","v":16706136.060663864}]
["Road transport",null,{"$f":"A2A!C111","v":0},{"$f":"A2A!D111","v":0},{"$f":"A2A!E111","v":0},{"$f":"A2A!F111","v":0},{"$f":"A2A!G111","v":0},{"$f":"A2A!H111","v":0},{"$f":"A2A!I111","v":0},{"$f":"A2A!J111","v":0},{"$f":"A2A!K111","v":0}]
["Environmental protection",null,{"$f":"A2A!C117","v":0},{"$f":"A2A!D117","v":0},{"$f":"A2A!E117","v":0},{"$f":"A2A!F117","v":0},{"$f":"A2A!G117","v":0},{"$f":"A2A!H117","v":0},{"$f":"A2A!I117","v":0},{"$f":"A2A!J117","v":0},{"$f":"A2A!K117","v":0}]
["Trading services",null,{"$f":"SUM(C43:C46)","v":0},{"$f":"SUM(D43:D46)","v":0},0,{"$f":"SUM(F43:F46)","v":0},0,0,0,0,{"$f":"SUM(K43:K46)","v":0}]
["Electricity",null,{"$f":"A2A!C122","v":0},{"$f":"A2A!D122","v":0},{"$f":"A2A!E122","v":0},{"$f":"A2A!F122","v":0},{"$f":"A2A!G122","v":0},{"$f":"A2A!H122","v":0},{"$f":"A2A!I122","v":0},{"$f":"A2A!J122","v":0},{"$f":"A2A!K122","v":0}]
["Water",null,{"$f":"A2A!C125","v":0},{"$f":"A2A!D125","v":0},{"$f":"A2A!E125","v":0},{"$f":"A2A!F125","v":0},{"$f":"A2A!G125","v":0},{"$f":"A2A!H125","v":0},{"$f":"A2A!I125","v":0},{"$f":"A2A!J125","v":0},{"$f":"A2A!K125","v":0}]
["Waste water management",null,{"$f":"A2A!C128","v":0},{"$f":"A2A!D128","v":0},{"$f":"A2A!E128","v":0},{"$f":"A2A!F128","v":0},{"$f":"A2A!G128","v":0},{"$f":"A2A!H128","v":0},{"$f":"A2A!I128","v":0},{"$f":"A2A!J128","v":0},{"$f":"A2A!K128","v":0}]
["Waste management",null,{"$f":"A2A!C132","v":0},{"$f":"A2A!D132","v":0},{"$f":"A2A!E132","v":0},{"$f":"A2A!F132","v":0},{"$f":"A2A!G132","v":0},{"$f":"A2A!H132","v":0},{"$f":"A2A!I132","v":0},{"$f":"A2A!J132","v":0},{"$f":"A2A!K132","v":0}]
["Other",4,{"$f":"A2A!C134","v":0},{"$f":"A2A!D134","v":0},{"$f":"A2A!E134","v":0},{"$f":"A2A!F134","v":0},{"$f":"A2A!G134","v":0},{"$f":"A2A!H134","v":0},{"$f":"A2A!I134","v":0},{"$f":"A2A!J134","v":0},{"$f":"A2A!K134","v":0}]
[{"$f":"\"Total \"&A27","v":"Total Expenditure - Standard"},3,{"$f":"C28+C32+C38+C42+C47","v":39187345},{"$f":"D28+D32+D38+D42+D47","v":68061639.299999997},{"$f":"E28+E32+E38+E42+E47","v":70745138},{"$f":"F28+F32+F38+F42+F47","v":62856316.915486425},62396383.63000001,62396383.63000001,66033879.403581999,71836983.343940198,78161081.678334236]
[{"$f":"result","v":"Surplus/(Deficit) for the year"},null,{"$f":"C25-C48","v":6389279},{"$f":"D25-D48","v":22817575.039999992},-29368030.000000007,-2301061.8754864335,-1851886.5500000119,-1851886.5500000119,-2328509.4735819921,-2388075.4209401906,-1767282.9630342126]
[{"$f":"head27a","v":"References"}]
["1. Government Finance Statistics Functions and Sub-functions are standardised to assist the compilation of national and international accounts for comparison purposes"]
["2. Total Revenue by standard classification must reconcile to Total Operating Revenue shown in Budgeted Financial Performance (revenue and expenditure)"]
["3. Total Expenditure by Standard Classification must reconcile to Total Operating Expenditure shown in Budgeted Financial Performance (revenue and expenditure)"]
["4. All amounts must be classified under a standard classification (modified GFS). The GFS function 'Other' is only for Abbatoirs, Air Transport, Markets and Tourism - and if used must be supported by footnotes. Nothing else may be placed under 'Other'. Assign associate share to relevant classification"]
[]
[]
["check oprev balance",null,{"$f":"C25-'A4-FinPerf RE'!C60","v":0},{"$f":"D25-'A4-FinPerf RE'!D60","v":0.33999998867511749},{"$f":"E25-'A4-FinPerf RE'!E60","v":1991999.9999999925},{"$f":"F25-'A4-FinPerf RE'!F60","v":-4.2105317115783691E-3},{"$f":"G25-'A4-FinPerf RE'!G60","v":631000.39578947425},{"$f":"H25-'A4-FinPerf RE'!H60","v":631000.39578947425},{"$f":"I25-'A4-FinPerf RE'!J60","v":-500000.54999999702},{"$f":"J25-'A4-FinPerf RE'!K60","v":-549999.60499998927},{"$f":"K25-'A4-FinPerf RE'!L60","v":-604999.56549997628}]
["check opexp balance",null,{"$f":"C48-'A4-FinPerf RE'!C36","v":0},{"$f":"D48-'A4-FinPerf RE'!D36","v":0.29999999701976776},{"$f":"E48-'A4-FinPerf RE'!E36","v":0},{"$f":"F48-'A4-FinPerf RE'!F36","v":0},{"$f":"G48-'A4-FinPerf RE'!G36","v":-4.1851028800010681E-3},{"$f":"H48-'A4-FinPerf RE'!H36","v":-4.1851028800010681E-3},{"$f":"I48-'A4-FinPerf RE'!J36","v":-500000.00641799718},{"$f":"J48-'A4-FinPerf RE'!K36","v":-550000.216909796},{"$f":"K48-'A4-FinPerf RE'!L36","v":-604999.68921151757}]

{"sheet":"A2A","index":8,"n_rows":150,"n_cols":11,"rows_kept":150,"cut":false,"hidden":false,"merged":[[1,5,1,7],[1,8,1,10],[145,0,145,10]]}
[{"$f":"muni&\" - \"&Approve3","v":"DC16 Xhariep - Table A2 Budgeted Financial Performance (revenue and expenditure by standard classification)"}]
[{"$f":"\"Standard Classification \"&desc","v":"Standard Classification Description"},{"$f":"head27","v":"Ref"},{"$f":"head1b","v":"2010/11"},{"$f":"head1A","v":"2011/12"},{"$f":"Head1","v":"2012/13"},{"$f":"Head2","v":"Current Year 2013/14"},null,null,{"$f":"Head3","v":"2014/15 Medium Term Revenue & Expenditure Framework"}]
["R thousand",1,{"$f":"Head5","v":"Audited Outcome"},{"$f":"Head5","v":"Audited Outcome"},{"$f":"Head5","v":"Audited Outcome"},{"$f":"Head6","v":"Original Budget"},{"$f":"Head7","v":"Adjusted Budget"},{"$f":"Head8","v":"Full Year Forecast"},{"$f":"Head9","v":"Budget Year 2014/15"},{"$f":"Head10","v":"Budget Year +1 2015/16"},{"$f":"Head11","v":"Budget Year +2 2016/17"}]
["Revenue - Standard"]
["Municipal governance and administration",null,{"$f":"C6+C9+C10","v":35747062.32},{"$f":"D6+D9+D10","v":82702400.519999996},35152233.349999994,43383315.824313723,43499176.979999997,43499176.979999997,52066361.080442481,56645998.188486733,62310598.007335417]
["Executive and council",null,{"$f":"SUM(C7:C8)","v":10706000},{"$f":"SUM(D7:D8)","v":17930453.049999997},10252734.73,16290441.176470587,16038002.940000001,16038002.940000001,14877955.75221239,16365751.327433631,18002326.460176997]
["Mayor and Council",null,4512000,5334402.0599999996,5858705.5599999996,5873676.4705882352,5747457.3499999996,5747457.3499999996,{"$f":"8428331.85840708+70000","v":8498331.8584070802},{"$f":"I7*1.1","v":9348165.0442477893},{"$f":"J7*1.1","v":10282981.54867257}]
["Municipal Manager",null,6194000,12596050.989999998,4394029.17,10416764.705882352,10290545.590000002,10290545.590000002,6379623.8938053101,{"$f":"I8*1.1","v":7017586.2831858415},7719344.911504426]
["Budget and treasury office",null,9662062.3200000003,46805414.259999998,9520396.5299999993,11915534.830588236,12410053.35,12410053.35,14928408.219911505,16421249.041902656,18063373.946092922]
["Corporate services",null,{"$f":"SUM(C11:C14)","v":15379000},{"$f":"SUM(D11:D14)","v":17966533.210000001},15379102.09,15177339.817254901,15051120.689999999,15051120.689999999,22259997.108318586,23858997.819150448,26244897.601065494]
["Human Resources",null,2730000,2629248.7624390242,2625700.36,3427141.2490575584,3395586.47,3395586.47,3800487.3111763443,{"$f":"I11*1.1","v":4180536.0422939789},{"$f":"J11*1.1","v":4598589.6465233769}]
["Information Technology",null,1678000,1314624.3812195121,1125300.1499999999,1468774.8210246677,1437220.04,1437220.04,1628780.2762184329,{"$f":"I12*1.1","v":1791658.3038402763},1970824.134224304]
["Property Services",null,3522000,3943873.1436585365,3375900.46,4406324.4630740033,4374769.68,4374769.68,4886340.8286552997,{"$f":"I13*1.1","v":5374974.9115208304},5912472.4026729139]
["Other Admin",null,7449000,10078786.922682928,8252201.1200000001,5875099.2840986708,5843544.5,5843544.5,11944388.692268509,{"$f":"(I14*1.1)-626999","v":12511828.561495362},{"$f":"J14*1.1","v":13763011.417644899}]
["Community and public safety",null,{"$f":"C16+C25+C26+C32+C33","v":0},{"$f":"D16+D25+D26+D32+D33","v":0},0,0,0,0,0,0,0]
["Community and social services",null,{"$f":"SUM(C17:C24)","v":0},{"$f":"SUM(D17:D24)","v":0},0,0,0,0,0,0,0]
["Libraries and Archives"]
["Museums & Art Galleries etc"]
["Community halls and Facilities"]
["Cemeteries & Crematoriums"]
["Child Care"]
["Aged Care"]
["Other Community"]
["Other Social"]
["Sport and recreation"]
["Public safety",null,{"$f":"SUM(C27:C31)","v":0},{"$f":"SUM(D27:D31)","v":0},0,0,0,0,0,0,0]
["Police"]
["Fire"]
["Civil Defence"]
["Street Lighting"]
["Other"]
["Housing"]
["Health",null,{"$f":"SUM(C34:C36)","v":0},{"$f":"SUM(D34:D36)","v":0},0,0,0,0,0,0,0]
["Clinics"]
["Ambulance"]
["Other   "]
["Economic and environmental services",null,{"$f":"C38+C42+C48","v":9829561.6799999997},{"$f":"D38+D42+D48","v":8176813.8199999994},6224874.6500000004,17171939.215686273,17045320.099999998,17045320.099999998,11639008.849557523,12802909.734513275,14083200.707964605]
["Planning and development",null,{"$f":"SUM(C39:C41)","v":9829561.6799999997},{"$f":"SUM(D39:D41)","v":8176813.8199999994},6224874.6500000004,17171939.215686273,17045320.099999998,17045320.099999998,11639008.849557523,12802909.734513275,14083200.707964605]
["Economic Development/Planning ",null,9829561.6799999997,8176813.8199999994,6224874.6500000004,17171939.215686273,17045320.099999998,17045320.099999998,11639008.849557523,{"$f":"I39*1.1","v":12802909.734513275},{"$f":"J39*1.1","v":14083200.707964605}]
["Town Planning/Building enforcement "]
["Licensing & Regulation"]
["Road transport",null,{"$f":"SUM(C43:C47)","v":0},{"$f":"SUM(D43:D47)","v":0},0,0,0,0,0,0,0]
["Roads"]
["Public Buses"]
["Parking Garages"]
["Vehicle Licensing and Testing"]
["Other"]
["Environmental protection",null,{"$f":"SUM(C49:C51)","v":0},{"$f":"SUM(D49:D51)","v":0},0,0,0,0,0,0,0]
["Pollution Control"]
["Biodiversity & Landscape"]
["Other"]
["Trading services",null,{"$f":"C53+C56+C59+C63","v":0},{"$f":"D53+D56+D59+D63","v":0},0,0,0,0,0,0,{"$f":"K53+K56+K59+K63","v":0}]
["Electricity",null,{"$f":"SUM(C54:C55)","v":0},{"$f":"SUM(D54:D55)","v":0},0,0,0,0,0,0,0]
["Electricity Distribution"]
["Electricity Generation"]
["Water",null,{"$f":"SUM(C57:C58)","v":0},{"$f":"SUM(D57:D58)","v":0},0,0,0,0,0,0,0]
["Water Distribution"]
["Water Storage"]
["Waste water management",null,{"$f":"SUM(C60:C62)","v":0},{"$f":"SUM(D60:D62)","v":0},0,0,0,0,0,0,0]
["Sewerage"]
["Storm Water Management"]
["Public Toilets"]
["Waste management",null,{"$f":"SUM(C64)","v":0},{"$f":"SUM(D64)","v":0},0,0,0,0,0,0,0]
["Solid Waste"]
["Other",null,{"$f":"SUM(C66:C70)","v":0},{"$f":"SUM(D66:D70)","v":0},0,0,0,0,0,0,0]
["Air Transport"]
["Abattoirs"]
["Tourism"]
["Forestry"]
["Markets"]
[{"$f":"\"Total \"&A4","v":"Total Revenue - Standard"},2,{"$f":"C5+C15+C37+C52+C65","v":45576624},{"$f":"D5+D15+D37+D52+D65","v":90879214.339999989},{"$f":"E5+E15+E37+E52+E65","v":41377107.999999993},60555255.039999992,60544497.079999998,60544497.079999998,63705369.930000007,69448907.923000008,{"$f":"K5+K15+K37+K52+K65","v":76393798.715300024}]
[]
["Expenditure - Standard"]
[{"$f":"A5","v":"Municipal governance and administration"},null,{"$f":"C75+C78+C79","v":30795584.32},54109717.810000002,60101131.400000006,48458591.210531704,47119780.930000007,47119780.930000007,52227155.386504427,56649586.925154865,61454945.617670365]
[{"$f":"A6","v":"Executive and council"},null,{"$f":"SUM(C76:C77)","v":10688000},12535276.420000002,17531304.990000002,17184977.419537026,17369461.420000002,17369461.420000002,20830214.810587414,22913236.291646153,25204559.920810774]
["Mayor and Council",null,4512000,6376862.3200000012,10017888.57,9011106.8183828332,8805288.8200000003,8805288.8200000003,{"$f":"10730140.48+70000","v":10800140.48},{"$f":"I76*1.1","v":11880154.528000001},{"$f":"J76*1.1","v":13068169.980800003}]
["Municipal Manager",null,6176000,6158414.1000000006,7513416.4199999999,8173870.6011541933,8564172.5999999996,8564172.5999999996,10030074.330587411,{"$f":"I77*1.1","v":11033081.763646154},12136389.940010769]
["Budget and treasury office",null,5708584.3200000003,22158108.950000003,16279068.92,11649471.488808705,10607817.49,10607817.49,12354570.262233794,13590027.288457174,14949030.017302893]
["Corporate services",null,{"$f":"SUM(C80:C83)","v":14399000},19416332.439999998,26290757.490000002,19624142.302185975,19142502.02,19142502.02,19042370.313683216,20146323.345051542,21301355.679556698]
["Human Resources",null,2730000,2844335.4790243898,4489724.45,4431257.9392032847,3579773.9400000004,3579773.9400000004,3201754.1745312852,{"$f":"I80*1.1","v":3521929.591984414},{"$f":"J80*1.1","v":3874122.5511828559}]
["Information Technology",null,1658000,1422167.7395121949,1924167.62,1899110.5453728363,1325773.81,1325773.81,1372180.3605134077,{"$f":"I81*1.1","v":1509398.3965647486},1660338.2362212236]
["Property Services",null,3382000,4266503.2185365846,5772502.8600000003,5697331.6361185089,3203162.66,3203162.66,4116541.0815402232,{"$f":"I82*1.1","v":4528195.1896942463},4981014.7086636713]
["Other Admin",null,6629000,10883326.002926828,14104362.560000001,7596442.1814913452,11033791.609999999,11033791.609999999,{"$f":"10062655.9770983+289238.72","v":10351894.6970983},{"$f":"(I83*1.1)-800284","v":10586800.16680813},{"$f":"(J83*1.1)-859600","v":10785880.183488945}]
["Community and public safety",null,{"$f":"C85+C94+C95+C101+C102","v":0},0,0,0,0,0,0,0,0]
["Community and social services",null,{"$f":"SUM(C86:C93)","v":0},0,0,0,0,0,0,0,0]
["Libraries and Archives"]
["Museums & Art Galleries etc"]
["Community halls and Facilities"]
["Cemeteries & Crematoriums"]
["Child Care"]
["Aged Care"]
["Other Community"]
["Other Social"]
["Sport and recreation"]
["Public safety",null,{"$f":"SUM(C96:C100)","v":0},0,0,0,0,0,0,0,0]
["Police"]
["Fire"]
["Civil Defence"]
["Street Lighting"]
["Other"]
["Housing"]
["Health",null,{"$f":"SUM(C103:C105)","v":0},0,0,0,0,0,0,0,0]
["Clinics"]
["Ambulance"]
["Other   "]
["Economic and environmental services",null,{"$f":"C107+C111+C117","v":8391760.6799999997},13951921.49,10644006.6,14397725.704954717,15276602.699999999,15276602.699999999,13806724.017077571,15187396.41878533,16706136.060663864]
["Planning and development",null,{"$f":"SUM(C108:C110)","v":8391760.6799999997},13951921.49,10644006.6,14397725.704954717,15276602.699999999,15276602.699999999,13806724.017077571,15187396.41878533,16706136.060663864]
["Economic Development/Planning ",null,8391760.6799999997,13951921.49,10644006.6,14397725.704954717,15276602.699999999,15276602.699999999,13806724.017077571,{"$f":"I108*1.1","v":15187396.41878533},{"$f":"J108*1.1","v":16706136.060663864}]
["Town Planning/Building enforcement "]
["Licensing & Regulation"]
["Road transport",null,{"$f":"SUM(C112:C116)","v":0},0,0,0,0,0,0,0,0]
["Roads"]
["Public Buses"]
["Parking Garages"]
["Vehicle Licensing and Testing"]
["Other"]
["Environmental protection",null,{"$f":"SUM(C118:C120)","v":0},0,0,0,0,0,0,0,0]
["Pollution Control"]
["Biodiversity & Landscape"]
["Other"]
["Trading services",null,{"$f":"C122+C125+C128+C132","v":0},{"$f":"D122+D125+D128+D132","v":0},0,0,0,0,0,0,0]
["Electricity",null,{"$f":"SUM(C123:C124)","v":0},0,0,0,0,0,0,0,0]
["Electricity Distribution"]
["Electricity Generation"]
["Water",null,{"$f":"SUM(C126:C127)","v":0},0,0,0,0,0,0,0,0]
["Water Distribution"]
["Water Storage"]
["Waste water management",null,{"$f":"SUM(C129:C131)","v":0},0,0,0,0,0,0,0,0]
["Sewerage"]
["Storm Water Management"]
["Public Toilets"]
["Waste management",null,{"$f":"SUM(C133)","v":0},0,0,0,0,0,0,0,0]
["Solid Waste"]
["Other",null,{"$f":"SUM(C135:C139)","v":0},0,0,0,0,0,0,0,0]
["Air Transport"]
["Abattoirs"]
["Tourism"]
["Forestry"]
[{"$f":"A70","v":"Markets"}]
[{"$f":"\"Total \"&A73","v":"Total Expenditure - Standard"},3,{"$f":"C74+C84+C106+C121+C134","v":39187345},{"$f":"D74+D84+D106+D121+D134","v":68061639.299999997},{"$f":"E74+E84+E106+E121+E134","v":70745138},62856316.915486425,62396383.63000001,62396383.63000001,66033879.403581999,71836983.343940198,{"$f":"K74+K84+K106+K121+K134","v":78161081.678334236}]
[{"$f":"result","v":"Surplus/(Deficit) for the year"},null,{"$f":"C71-C140","v":6389279},22817575.039999992,-29368030.000000007,-2301061.8754864335,-1851886.5500000119,-1851886.5500000119,-2328509.4735819921,-2388075.4209401906,-1767282.9630342126]
[{"$f":"head27a","v":"References"}]
["1. Government Finance Statistics Functions and Sub-functions are standardised to assist national and international accounts and comparison"]
["2. Total Revenue by Standard Classification must reconcile to total operating revenue shown in Financial Performance (revenue and expenditure)"]
["3. Total Expenditure by Standard Classification must reconcile to total operating expenditure shown in Financial Performance (revenue and expenditure)"]
["4. All amounts must be classified under a Standard (modified GFS) classification. The GFS function 'Other' is only for Abbatoirs, Air Transport, Markets and Tourism - and if used must be supported by footnotes. Nothing else may be placed under 'Other'. Assign associate share to relevant classification"]
[]
[]
["check oprev balance",null,{"$f":"C71-'A4-FinPerf RE'!C60","v":0},{"$f":"D71-'A4-FinPerf RE'!D60","v":0.33999998867511749},{"$f":"E71-'A4-FinPerf RE'!E60","v":1991999.9999999925},{"$f":"F71-'A4-FinPerf RE'!F60","v":-4.2105317115783691E-3},{"$f":"G71-'A4-FinPerf RE'!G60","v":631000.39578947425},{"$f":"H71-'A4-FinPerf RE'!H60","v":631000.39578947425},{"$f":"I71-'A4-FinPerf RE'!J60","v":-500000.54999999702},{"$f":"J71-'A4-FinPerf RE'!K60","v":-549999.60499998927},{"$f":"K71-'A4-FinPerf RE'!L60","v":-604999.56549997628}]
["check opexp balance",null,{"$f":"C140-'A4-FinPerf RE'!C36","v":0},{"$f":"D140-'A4-FinPerf RE'!D36","v":0.29999999701976776},{"$f":"E140-'A4-FinPerf RE'!E36","v":0},{"$f":"F140-'A4-FinPerf RE'!F36","v":0},{"$f":"G140-'A4-FinPerf RE'!G36","v":-4.1851028800010681E-3},{"$f":"H140-'A4-FinPerf RE'!H36","v":-4.1851028800010681E-3},{"$f":"I140-'A4-FinPerf RE'!J36","v":-500000.00641799718},{"$f":"J140-'A4-FinPerf RE'!K36","v":-550000.216909796},{"$f":"K140-'A4-FinPerf RE'!L36","v":-604999.68921151757}]

{"sheet":"A3-FinPerf V","index":9,"n_rows":45,"n_cols":23,"rows_kept":45,"cut":false,"hidden":false,"merged":[[1,5,1,7],[1,8,1,10],[1,11,1,22]]}
[{"$f":"muni&\" - \"&Approve2","v":"DC16 Xhariep - Table A3 Budgeted Financial Performance (revenue and expenditure by municipal vote)"}]
[{"$f":"Vdesc","v":"Vote Description"},{"$f":"head27","v":"Ref"},{"$f":"head1b","v":"2010/11"},{"$f":"head1A","v":"2011/12"},{"$f":"Head1","v":"2012/13"},{"$f":"Head2","v":"Current Year 2013/14"},null,null,{"$f":"Head3","v":"2014/15 Medium Term Revenue & Expenditure Framework"},null,null,{"$f":"Head4","v":"LTFS"}]
["R thousand",null,{"$f":"Head5","v":"Audited Outcome"},{"$f":"Head5","v":"Audited Outcome"},{"$f":"Head5","v":"Audited Outcome"},{"$f":"Head6","v":"Original Budget"},{"$f":"Head7","v":"Adjusted Budget"},{"$f":"Head8","v":"Full Year Forecast"},{"$f":"Head9","v":"Budget Year 2014/15"},{"$f":"Head10","v":"Budget Year +1 2015/16"},{"$f":"Head11","v":"Budget Year +2 2016/17"},{"$f":"Head12","v":"Forecast 2017/18"},{"$f":"Head13","v":"Forecast 2018/19"},{"$f":"Head14","v":"Forecast 2019/20"},{"$f":"Head15","v":"Forecast 2020/21"},{"$f":"Head16","v":"Forecast 2021/22"},{"$f":"Head17","v":"Forecast 2022/23"},{"$f":"Head18","v":"Forecast 2023/24"},{"$f":"Head19","v":"Forecast 2024/25"},{"$f":"Head20","v":"Forecast 2025/26"},{"$f":"Head21","v":"Forecast 2026/27"},{"$f":"Head22","v":"Forecast 2027/28"},{"$f":"Head23","v":"Forecast 2028/29"}]
["Revenue by Vote",1]
[{"$f":"A3A!A5","v":"Vote 1 - General Council"},null,{"$f":"A3A!C5","v":4511595.4080000054},{"$f":"A3A!D5","v":5334402.0599999987},{"$f":"A3A!E5","v":5858705.5599999996},{"$f":"A3A!F5","v":5873676.4705882333},{"$f":"A3A!G5","v":5747457.1999999993},{"$f":"A3A!H5","v":5747457.1999999993},{"$f":"A3A!I5","v":8498331.8584070802},{"$f":"A3A!J5","v":9348165.0442477893},{"$f":"A3A!K5","v":10282981.548672568}]
[{"$f":"A3A!A16","v":"Vote 2 - Municipal Manager"},null,{"$f":"A3A!C16","v":6194996.5199999996},{"$f":"A3A!D16","v":12596050.989999998},{"$f":"A3A!E16","v":3075820.4099999997},{"$f":"A3A!F16","v":10416764.705882352},{"$f":"A3A!G16","v":10290545.58},{"$f":"A3A!H16","v":10290545.58},{"$f":"A3A!I16","v":6379623.8938053111},{"$f":"A3A!J16","v":7017586.2831858424},{"$f":"A3A!K16","v":7719344.911504427}]
[{"$f":"A3A!A27","v":"Vote 3 - Budget & Treasury Office"},null,{"$f":"A3A!C27","v":9662002.9700000007},{"$f":"A3A!D27","v":46805414.259999998},{"$f":"A3A!E27","v":9520396.5299999993},{"$f":"A3A!F27","v":11915534.830588236},{"$f":"A3A!G27","v":12410053.34},{"$f":"A3A!H27","v":12410053.34},{"$f":"A3A!I27","v":14928408.215313142},{"$f":"A3A!J27","v":16421249.036844458},{"$f":"A3A!K27","v":18063373.940528907}]
[{"$f":"A3A!A38","v":"Vote 4 - Planning & Development"},null,{"$f":"A3A!C38","v":9829560.6799999997},{"$f":"A3A!D38","v":8176813.8199999984},{"$f":"A3A!E38","v":7543083.4000000004},{"$f":"A3A!F38","v":17171939.215686273},{"$f":"A3A!G38","v":17045319.469999999},{"$f":"A3A!H38","v":17045319.469999999},{"$f":"A3A!I38","v":11639008.849557523},{"$f":"A3A!J38","v":12802909.734513275},{"$f":"A3A!K38","v":14083200.707964603}]
[{"$f":"A3A!A49","v":"Vote 5 - Corporate Services"},null,{"$f":"A3A!C49","v":15378468.109999999},{"$f":"A3A!D49","v":17966533.210000001},{"$f":"A3A!E49","v":15379102.09},{"$f":"A3A!F49","v":15177339.810000001},{"$f":"A3A!G49","v":15051120.709999999},{"$f":"A3A!H49","v":15051120.709999999},{"$f":"A3A!I49","v":22259997.108318578},{"$f":"A3A!J49","v":23858997.819150433},{"$f":"A3A!K49","v":26244897.601065479}]
[{"$f":"A3A!A60","v":"Vote 6 - [NAME OF VOTE 6]"},null,{"$f":"A3A!C60","v":0},{"$f":"A3A!D60","v":0},{"$f":"A3A!E60","v":0},{"$f":"A3A!F60","v":0},{"$f":"A3A!G60","v":0},{"$f":"A3A!H60","v":0},{"$f":"A3A!I60","v":0},{"$f":"A3A!J60","v":0},{"$f":"A3A!K60","v":0}]
[{"$f":"A3A!A71","v":"Vote 7 - [NAME OF VOTE 7]"},null,{"$f":"A3A!C71","v":0},{"$f":"A3A!D71","v":0},{"$f":"A3A!E71","v":0},{"$f":"A3A!F71","v":0},{"$f":"A3A!G71","v":0},{"$f":"A3A!H71","v":0},{"$f":"A3A!I71","v":0},{"$f":"A3A!J71","v":0},{"$f":"A3A!K71","v":0}]
[{"$f":"A3A!A82","v":"Vote 8 - [NAME OF VOTE 8]"},null,{"$f":"A3A!C82","v":0},{"$f":"A3A!D82","v":0},{"$f":"A3A!E82","v":0},{"$f":"A3A!F82","v":0},{"$f":"A3A!G82","v":0},{"$f":"A3A!H82","v":0},{"$f":"A3A!I82","v":0},{"$f":"A3A!J82","v":0},{"$f":"A3A!K82","v":0}]
[{"$f":"A3A!A93","v":"Vote 9 - [NAME OF VOTE 9]"},null,{"$f":"A3A!C93","v":0},{"$f":"A3A!D93","v":0},{"$f":"A3A!E93","v":0},{"$f":"A3A!F93","v":0},{"$f":"A3A!G93","v":0},{"$f":"A3A!H93","v":0},{"$f":"A3A!I93","v":0},{"$f":"A3A!J93","v":0},{"$f":"A3A!K93","v":0}]
[{"$f":"A3A!A104","v":"Vote 10 - [NAME OF VOTE 10]"},null,{"$f":"A3A!C104","v":0},{"$f":"A3A!D104","v":0},{"$f":"A3A!E104","v":0},{"$f":"A3A!F104","v":0},{"$f":"A3A!G104","v":0},{"$f":"A3A!H104","v":0},{"$f":"A3A!I104","v":0},{"$f":"A3A!J104","v":0},{"$f":"A3A!K104","v":0}]
[{"$f":"A3A!A115","v":"Vote 11 - [NAME OF VOTE 11]"},null,{"$f":"A3A!C115","v":0},{"$f":"A3A!D115","v":0},{"$f":"A3A!E115","v":0},{"$f":"A3A!F115","v":0},{"$f":"A3A!G115","v":0},{"$f":"A3A!H115","v":0},{"$f":"A3A!I115","v":0},{"$f":"A3A!J115","v":0},{"$f":"A3A!K115","v":0},{"$f":"A5A!L115","v":0}]
[{"$f":"A3A!A126","v":"Vote 12 - [NAME OF VOTE 12]"},null,{"$f":"A3A!C126","v":0},{"$f":"A3A!D126","v":0},{"$f":"A3A!E126","v":0},{"$f":"A3A!F126","v":0},{"$f":"A3A!G126","v":0},{"$f":"A3A!H126","v":0},{"$f":"A3A!I126","v":0},{"$f":"A3A!J126","v":0},{"$f":"A3A!K126","v":0},{"$f":"A5A!L126","v":0}]
[{"$f":"A3A!A137","v":"Vote 13 - [NAME OF VOTE 13]"},null,{"$f":"A3A!C137","v":0},{"$f":"A3A!D137","v":0},{"$f":"A3A!E137","v":0},{"$f":"A3A!F137","v":0},{"$f":"A3A!G137","v":0},{"$f":"A3A!H137","v":0},{"$f":"A3A!I137","v":0},{"$f":"A3A!J137","v":0},{"$f":"A3A!K137","v":0},{"$f":"A5A!L137","v":0}]
[{"$f":"A3A!A148","v":"Vote 14 - [NAME OF VOTE 14]"},null,{"$f":"A3A!C148","v":0},{"$f":"A3A!D148","v":0},{"$f":"A3A!E148","v":0},{"$f":"A3A!F148","v":0},{"$f":"A3A!G148","v":0},{"$f":"A3A!H148","v":0},{"$f":"A3A!I148","v":0},{"$f":"A3A!J148","v":0},{"$f":"A3A!K148","v":0},{"$f":"A5A!L148","v":0}]
[{"$f":"A3A!A159","v":"Vote 15 - [NAME OF VOTE 15]"},null,{"$f":"A3A!C159","v":0},{"$f":"A3A!D159","v":0},{"$f":"A3A!E159","v":0},{"$f":"A3A!F159","v":0},{"$f":"A3A!G159","v":0},{"$f":"A3A!H159","v":0},{"$f":"A3A!I159","v":0},{"$f":"A3A!J159","v":0},{"$f":"A3A!K159","v":0},{"$f":"A5A!L159","v":0}]
["Total Revenue by Vote",2,{"$f":"SUM(C5:C19)","v":45576623.688000008},{"$f":"SUM(D5:D19)","v":90879214.340000004},41377107.989999995,60555255.032745093,60544496.299999997,60544496.299999997,63705369.925401643,69448907.917941794,76393798.70973599]
[]
["Expenditure by Vote to be appropriated",1]
[{"$f":"A3A!A173","v":"Vote 1 - General Council"},null,{"$f":"A3A!C173","v":4511593.4080000017},{"$f":"A3A!D173","v":6377438.320000004},{"$f":"A3A!E173","v":10017888.57},{"$f":"A3A!F173","v":9011522.8183828332},{"$f":"A3A!G173","v":8805489.8100000005},{"$f":"A3A!H173","v":8805489.8100000005},{"$f":"A3A!I173","v":10800140.480000004},{"$f":"A3A!J173","v":11880154.528000005},{"$f":"A3A!K173","v":13068169.980800005}]
[{"$f":"A3A!A184","v":"Vote 2 - Municipal Manager"},null,{"$f":"A3A!C184","v":6176410.5199999996},{"$f":"A3A!D184","v":4789877.6333333338},{"$f":"A3A!E184","v":5259391.4799999995},{"$f":"A3A!F184","v":6357454.9120088173},{"$f":"A3A!G184","v":8563855.5999999996},{"$f":"A3A!H184","v":8563855.5999999996},{"$f":"A3A!I184","v":10030074.330587411},{"$f":"A3A!J184","v":11033081.763646152},{"$f":"A3A!K184","v":12136389.940010769}]
[{"$f":"A3A!A195","v":"Vote 3 - Budget & Treasury Office"},null,{"$f":"A3A!C195","v":5708524.9699999988},{"$f":"A3A!D195","v":22158108.950000003},{"$f":"A3A!E195","v":16279068.920000002},{"$f":"A3A!F195","v":11649471.488808705},{"$f":"A3A!G195","v":10608136.34},{"$f":"A3A!H195","v":10608136.34},{"$f":"A3A!I195","v":12354570.365650371},{"$f":"A3A!J195","v":13590027.40221541},{"$f":"A3A!K195","v":14949030.142436953}]
[{"$f":"A3A!A206","v":"Vote 4 - Planning & Development"},null,{"$f":"A3A!C206","v":8391759.6799999997},{"$f":"A3A!D206","v":15618921.49},{"$f":"A3A!E206","v":12898031.539999999},{"$f":"A3A!F206","v":16213725.704954717},{"$f":"A3A!G206","v":13285657.699999999},{"$f":"A3A!H206","v":13285657.699999999},{"$f":"A3A!I206","v":13806724.017077571},{"$f":"A3A!J206","v":15187396.418785328},{"$f":"A3A!K206","v":16706136.060663864}]
[{"$f":"A3A!A217","v":"Vote 5 - Corporate Services"},null,{"$f":"A3A!C217","v":14399056.109999998},{"$f":"A3A!D217","v":19117292.439999998},{"$f":"A3A!E217","v":26290757.489999998},{"$f":"A3A!F217","v":19624142.302185975},{"$f":"A3A!G217","v":21133244.02},{"$f":"A3A!H217","v":21133244.02},{"$f":"A3A!I217","v":19042370.313683216},{"$f":"A3A!J217","v":20146323.345051538},{"$f":"A3A!K217","v":21301355.679556694}]
[{"$f":"A3A!A228","v":"Vote 6 - [NAME OF VOTE 6]"},null,{"$f":"A3A!C228","v":0},{"$f":"A3A!D228","v":0},{"$f":"A3A!E228","v":0},{"$f":"A3A!F228","v":0},{"$f":"A3A!G228","v":0},{"$f":"A3A!H228","v":0},{"$f":"A3A!I228","v":0},{"$f":"A3A!J228","v":0},{"$f":"A3A!K228","v":0}]
[{"$f":"A3A!A239","v":"Vote 7 - [NAME OF VOTE 7]"},null,{"$f":"A3A!C239","v":0},{"$f":"A3A!D239","v":0},{"$f":"A3A!E239","v":0},{"$f":"A3A!F239","v":0},{"$f":"A3A!G239","v":0},{"$f":"A3A!H239","v":0},{"$f":"A3A!I239","v":0},{"$f":"A3A!J239","v":0},{"$f":"A3A!K239","v":0}]
[{"$f":"A3A!A250","v":"Vote 8 - [NAME OF VOTE 8]"},null,{"$f":"A3A!C250","v":0},{"$f":"A3A!D250","v":0},{"$f":"A3A!E250","v":0},{"$f":"A3A!F250","v":0},{"$f":"A3A!G250","v":0},{"$f":"A3A!H250","v":0},{"$f":"A3A!I250","v":0},{"$f":"A3A!J250","v":0},{"$f":"A3A!K250","v":0}]
[{"$f":"A3A!A261","v":"Vote 9 - [NAME OF VOTE 9]"},null,{"$f":"A3A!C261","v":0},{"$f":"A3A!D261","v":0},{"$f":"A3A!E261","v":0},{"$f":"A3A!F261","v":0},{"$f":"A3A!G261","v":0},{"$f":"A3A!H261","v":0},{"$f":"A3A!I261","v":0},{"$f":"A3A!J261","v":0},{"$f":"A3A!K261","v":0}]
[{"$f":"A3A!A272","v":"Vote 10 - [NAME OF VOTE 10]"},null,{"$f":"A3A!C272","v":0},{"$f":"A3A!D272","v":0},{"$f":"A3A!E272","v":0},{"$f":"A3A!F272","v":0},{"$f":"A3A!G272","v":0},{"$f":"A3A!H272","v":0},{"$f":"A3A!I272","v":0},{"$f":"A3A!J272","v":0},{"$f":"A3A!K272","v":0}]
[{"$f":"A3A!A283","v":"Vote 11 - [NAME OF VOTE 11]"},null,{"$f":"A3A!C283","v":0},{"$f":"A3A!D283","v":0},{"$f":"A3A!E283","v":0},{"$f":"A3A!F283","v":0},{"$f":"A3A!G283","v":0},{"$f":"A3A!H283","v":0},{"$f":"A3A!I283","v":0},{"$f":"A3A!J283","v":0},{"$f":"A3A!K283","v":0},{"$f":"A3A!L284","v":0}]
[{"$f":"A3A!A294","v":"Vote 12 - [NAME OF VOTE 12]"},null,{"$f":"A3A!C294","v":0},{"$f":"A3A!D294","v":0},{"$f":"A3A!E294","v":0},{"$f":"A3A!F294","v":0},{"$f":"A3A!G294","v":0},{"$f":"A3A!H294","v":0},{"$f":"A3A!I294","v":0},{"$f":"A3A!J294","v":0},{"$f":"A3A!K294","v":0},{"$f":"A3A!L295","v":0}]
[{"$f":"A3A!A305","v":"Vote 13 - [NAME OF VOTE 13]"},null,{"$f":"A3A!C305","v":0},{"$f":"A3A!D305","v":0},{"$f":"A3A!E305","v":0},{"$f":"A3A!F305","v":0},{"$f":"A3A!G305","v":0},{"$f":"A3A!H305","v":0},{"$f":"A3A!I305","v":0},{"$f":"A3A!J305","v":0},{"$f":"A3A!K305","v":0},{"$f":"A3A!L306","v":0}]
[{"$f":"A3A!A316","v":"Vote 14 - [NAME OF VOTE 14]"},null,{"$f":"A3A!C316","v":0},{"$f":"A3A!D316","v":0},{"$f":"A3A!E316","v":0},{"$f":"A3A!F316","v":0},{"$f":"A3A!G316","v":0},{"$f":"A3A!H316","v":0},{"$f":"A3A!I316","v":0},{"$f":"A3A!J316","v":0},{"$f":"A3A!K316","v":0},{"$f":"A3A!L317","v":0}]
[{"$f":"A3A!A327","v":"Vote 15 - [NAME OF VOTE 15]"},null,{"$f":"A3A!C327","v":0},{"$f":"A3A!D327","v":0},{"$f":"A3A!E327","v":0},{"$f":"A3A!F327","v":0},{"$f":"A3A!G327","v":0},{"$f":"A3A!H327","v":0},{"$f":"A3A!I327","v":0},{"$f":"A3A!J327","v":0},{"$f":"A3A!K327","v":0},{"$f":"A3A!L328","v":0}]
["Total Expenditure by Vote",2,{"$f":"SUM(C23:C37)","v":39187344.688000001},{"$f":"SUM(D23:D37)","v":68061638.833333343},70745138,62856317.226341046,62396383.469999999,62396383.469999999,66033879.506998569,71836983.457698435,78161081.803468287,{"$f":"SUM(L23:L29)","v":0},0,0,0,0,0,0,0,0,0,0,0]
[{"$f":"result","v":"Surplus/(Deficit) for the year"},2,{"$f":"C20-C38","v":6389279.0000000075},22817575.50666666,-29368030.010000005,-2301062.1935959533,-1851887.1700000018,-1851887.1700000018,-2328509.5815969259,-2388075.5397566408,-1767283.0937322974,0,0,0,0,0,0,0,0,0,0,0,0]
[{"$f":"head27a","v":"References"}]
["1. Insert 'Vote'; e.g. department, if different to standard classification structure"]
["2. Must reconcile to Budgeted Financial Performance (revenue and expenditure)"]
["3. Assign share in 'associate' to relevant Vote"]
[]
[{"$f":"\"check \"&A39","v":"check Surplus/(Deficit) for the year"},null,{"$f":"C39-A3A!C340","v":0},{"$f":"D39-A3A!D340","v":0},{"$f":"E39-A3A!E340","v":0},{"$f":"F39-A3A!F340","v":0},{"$f":"G39-A3A!G340","v":0},{"$f":"H39-A3A!H340","v":0},{"$f":"I39-A3A!I340","v":0},{"$f":"J39-A3A!J340","v":0},{"$f":"K39-A3A!K340","v":0}]

{"sheet":"A3A","index":10,"n_rows":347,"n_cols":23,"rows_kept":347,"cut":false,"hidden":false,"merged":[[1,11,1,22],[1,5,1,7],[1,8,1,10]]}
[{"$f":"muni&\" - \"&Approve2&\"A\"","v":"DC16 Xhariep - Table A3 Budgeted Financial Performance (revenue and expenditure by municipal vote)A"}]
[{"$f":"Vdesc","v":"Vote Description"},{"$f":"head27","v":"Ref"},{"$f":"head1b","v":"2010/11"},{"$f":"head1A","v":"2011/12"},{"$f":"Head1","v":"2012/13"},{"$f":"Head2","v":"Current Year 2013/14"},null,null,{"$f":"Head3","v":"2014/15 Medium Term Revenue & Expenditure Framework"},null,null,{"$f":"Head4","v":"LTFS"}]
["R thousand",null,{"$f":"Head5","v":"Audited Outcome"},{"$f":"Head5","v":"Audited Outcome"},{"$f":"Head5","v":"Audited Outcome"},{"$f":"Head6","v":"Original Budget"},{"$f":"Head7","v":"Adjusted Budget"},{"$f":"Head8","v":"Full Year Forecast"},{"$f":"Head9","v":"Budget Year 2014/15"},{"$f":"Head10","v":"Budget Year +1 2015/16"},{"$f":"Head11","v":"Budget Year +2 2016/17"},{"$f":"Head12","v":"Forecast 2017/18"},{"$f":"Head13","v":"Forecast 2018/19"},{"$f":"Head14","v":"Forecast 2019/20"},{"$f":"Head15","v":"Forecast 2020/21"},{"$f":"Head16","v":"Forecast 2021/22"},{"$f":"Head17","v":"Forecast 2022/23"},{"$f":"Head18","v":"Forecast 2023/24"},{"$f":"Head19","v":"Forecast 2024/25"},{"$f":"Head20","v":"Forecast 2025/26"},{"$f":"Head21","v":"Forecast 2026/27"},{"$f":"Head22","v":"Forecast 2027/28"},{"$f":"Head23","v":"Forecast 2028/29"}]
["Revenue by Vote",1]
[{"$f":"'Org structure'!A2","v":"Vote 1 - General Council"},null,{"$f":"SUM(C6:C15)","v":4511595.4080000054},{"$f":"SUM(D6:D15)","v":5334402.0599999987},5858705.5599999996,5873676.4705882333,5747457.1999999993,5747457.1999999993,8498331.8584070802,9348165.0442477893,10282981.548672568]
[{"$f":"'Org structure'!E3","v":"1.1 - Mayor"},null,1451963.05166667,1926467.35333333,1464676.39,1957892.1568627451,1936855.48,1936855.48,{"$f":"2107082.96460177+70000","v":2177082.96460177},{"$f":"I6*1.1","v":2394791.2610619473},{"$f":"J6*1.1","v":2634270.3871681425}]
[{"$f":"'Org structure'!E4","v":"1.2 - Speaker"},null,792078.56326666649,1963084.1916666701,366169.1,2447365.1960784313,2426328.6800000002,2426328.6800000002,526770.74115044251,{"$f":"I7*1.1","v":579447.81526548683},637392.59679203562]
[{"$f":"'Org structure'!E5","v":"1.3 - Council"},null,1691362.7930666676,0,4027860.07,0,-21036.52,-21036.52,5794478.1526548676,{"$f":"I8*1.1","v":6373925.9679203546},7011318.5647123903]
[{"$f":"'Org structure'!E6","v":"1.4 Youth Development Programme"},null,198729.66666666698,481616.83833333326,null,489473.03921568627,468436.51999999996,468436.51999999996,null,{"$f":"I9*1.1","v":0},0]
[{"$f":"'Org structure'!E7","v":"1.5 Special Programme"},null,188731.66666666666,481616.83833333326,null,489473.03921568627,468436.51999999996,468436.51999999996,null,{"$f":"I10*1.1","v":0},0]
[{"$f":"'Org structure'!E8","v":"1.6 IGR"},null,188729.66666666666,481616.83833333326,null,489473.03921568627,468436.51999999996,468436.51999999996,null,{"$f":"I11*1.1","v":0},{"$f":"J11*1.1","v":0}]
[{"$f":"'Org structure'!E9","v":0}]
[{"$f":"'Org structure'!E10","v":0}]
[{"$f":"'Org structure'!E11","v":0}]
[{"$f":"'Org structure'!E12","v":0}]
[{"$f":"'Org structure'!A3","v":"Vote 2 - Municipal Manager"},null,{"$f":"SUM(C17:C26)","v":6194996.5199999996},{"$f":"SUM(D17:D26)","v":12596050.989999998},3075820.4099999997,10416764.705882352,10290545.58,10290545.58,6379623.8938053111,7017586.2831858424,7719344.911504427]
[{"$f":"'Org structure'!E14","v":"2.1 - Office of the Municipal Manager"},null,3833146.67,2799122.4422222218,878805.83,2314836.6013071891,2283281.8200000003,2283281.8200000003,1275924.7787610621,{"$f":"I17*1.1","v":1403517.2566371683},{"$f":"J17*1.1","v":1543868.9823008853}]
[{"$f":"'Org structure'!E15","v":"2.2 - Internal Audit"},null,704762.38,2799122.4422222218,878805.83,2314836.6013071891,2283281.8200000003,2283281.8200000003,1275924.7787610621,{"$f":"I18*1.1","v":1403517.2566371683},1543868.9823008853]
[{"$f":"'Org structure'!E16","v":"2.3 - Performance and Monitoring Management"},null,1013301.39,2799122.4422222218,878805.83,2314836.6013071891,2283281.8200000003,2283281.8200000003,1275924.7787610621,{"$f":"I19*1.1","v":1403517.2566371683},1543868.9823008853]
[{"$f":"'Org structure'!E17","v":"2.4 - Risk Office"},null,643786.08000000007,1399561.2211111109,439402.92,1157418.3006535945,1125863.52,1125863.52,637962.38938053104,{"$f":"I20*1.1","v":701758.62831858417},771934.49115044263]
[{"$f":"'Org structure'!E18","v":"2.5 - Disaster management "},null,null,2799122.4422222218,null,2314836.6013071891,2314836.6,2314836.6,1913887.168141593,{"$f":"I21*1.1","v":2105275.8849557526},2315803.473451328]
[{"$f":"'Org structure'!E19","v":0}]
[{"$f":"'Org structure'!E20","v":0}]
[{"$f":"'Org structure'!E21","v":0}]
[{"$f":"'Org structure'!E22","v":0}]
[{"$f":"'Org structure'!E23","v":0}]
[{"$f":"'Org structure'!A4","v":"Vote 3 - Budget & Treasury Office"},null,{"$f":"SUM(C28:C37)","v":9662002.9700000007},46805414.259999998,9520396.5299999993,11915534.830588236,12410053.34,12410053.34,14928408.215313142,16421249.036844458,18063373.940528907]
[{"$f":"'Org structure'!E25","v":"3.1 - Office of the CFO"},null,4253327.08,3504104.76,732338.19,882632.2096732026,851077.42999999993,851077.42999999993,{"$f":"1148339.09383935+1620847.73","v":2769186.8238393497},{"$f":"I28*1.1","v":3046105.5062232851},{"$f":"J28*1.1","v":3350716.0568456138}]
[{"$f":"'Org structure'!E26","v":"3.2 - Supply Chain Management"},null,1483655.33,7008209.5199999996,1464676.39,1765264.4193464052,1733709.64,1733709.64,2296678.1876786933,{"$f":"I29*1.1","v":2526346.0064465627},2778980.6070912192]
[{"$f":"'Org structure'!E27","v":"3.3 - Expenditure"},null,2018727.2866666666,15268471.42,3295521.88,3971844.9435294122,3940290.16,3940290.16,5167525.9222770594,5684278.5145047661,6252706.3659552429]
[{"$f":"'Org structure'!E28","v":"3.4 - Budget & Reporting "},null,1490377.9433333334,12264366.659999998,2197014.58,3089212.7338562091,3678395.59,3678395.59,3445017.2815180398,3789519.0096698441,4168470.9106368287]
[{"$f":"'Org structure'!E29","v":"3.5 - FMG Projects"},null,415915.33,8760261.8999999985,1830845.49,2206580.5241830065,2206580.52,2206580.52,1250000,{"$f":"I32*1.1","v":1375000},{"$f":"J32*1.1","v":1512500.0000000002}]
[{"$f":"'Org structure'!E30","v":0}]
[{"$f":"'Org structure'!E31","v":0}]
[{"$f":"'Org structure'!E32","v":0}]
[{"$f":"'Org structure'!E33","v":0}]
[{"$f":"'Org structure'!E34","v":0}]
[{"$f":"'Org structure'!A5","v":"Vote 4 - Planning & Development"},null,{"$f":"SUM(C39:C48)","v":9829560.6799999997},8176813.8199999984,7543083.4000000004,17171939.215686273,17045319.469999999,17045319.469999999,11639008.849557523,12802909.734513275,14083200.707964603]
[{"$f":"'Org structure'!E36","v":"4.1 - Office of the Director - Planning and Development"},null,502449.54239551211,711027.28869565215,732338.19,1493177.3231031541,1467933.5,1467933.5,1369295.1587714732,{"$f":"I39*1.1","v":1506224.6746486207},{"$f":"J39*1.1","v":1656847.1421134828}]
[{"$f":"'Org structure'!E37","v":"4.2 - Economic Development"},null,3802890.1212873501,2488595.5104347826,1830845.49,5226520.6308610402,5200876.18,5200876.18,3423237.8969286834,{"$f":"I40*1.1","v":3765561.6866215519},4142117.8552837074]
[{"$f":"'Org structure'!E38","v":"4.4 - Development Planning"},null,1381548.2001964985,1066540.9330434781,1318208.75,2239765.9846547311,2214522.16,2214522.16,2053942.7381572099,{"$f":"I41*1.1","v":2259337.0119729312},2485270.7131702243]
[{"$f":"'Org structure'!E39","v":"4.5 - Municipal Health"},null,1902584.8835048724,1066540.9330434781,1098507.29,2239765.9846547311,2214522.16,2214522.16,4792533.0557001559,{"$f":"I42*1.1","v":5271786.3612701716},5798964.997397189]
[{"$f":"'Org structure'!E40","v":0},null,2240087.9326157672,2133081.8660869561,2563183.6800000002,4479531.9693094622,4454288.1499999994,4454288.1499999994]
[{"$f":"'Org structure'!E41","v":0},null,null,711027.28869565215,null,1493177.3231031541,1493177.32,1493177.32]
[{"$f":"'Org structure'!E42","v":0}]
[{"$f":"'Org structure'!E43","v":0}]
[{"$f":"'Org structure'!E44","v":0}]
[{"$f":"'Org structure'!E45","v":0}]
[{"$f":"'Org structure'!A6","v":"Vote 5 - Corporate Services"},null,{"$f":"SUM(C50:C59)","v":15378468.109999999},{"$f":"SUM(D50:D59)","v":17966533.210000001},15379102.09,15177339.810000001,15051120.709999999,15051120.709999999,22259997.108318578,23858997.819150433,26244897.601065479]
[{"$f":"'Org structure'!E47","v":"5.1 - Office of the Director - Corporate Services"},null,2253767.9392682929,1159131.1748387096,0,979183.21,953939.39,953939.39,{"$f":"1700000","v":1700000},{"$f":"I50*1.1","v":1870000.0000000002},{"$f":"J50*1.1","v":2057000.0000000005}]
[{"$f":"'Org structure'!E48","v":"5.2 - Administration"},null,5195025.577317073,5795655.8741935482,8252201.1200000001,4895916.07,4870672.25,4870672.25,{"$f":"11944388.6922685-1700000","v":10244388.6922685},{"$f":"(I51*1.1)-626999","v":10641828.561495351},{"$f":"J51*1.1","v":11706011.417644886}]
[{"$f":"'Org structure'!E49","v":"5.3 - Information Technology"},null,1678209.4492682926,1738696.7622580645,1125300.1499999999,1468774.82,1443531,1443531,1628780.2762184329,{"$f":"I52*1.1","v":1791658.3038402763},1970824.134224304]
[{"$f":"'Org structure'!E50","v":"5.4 - Property Services"},null,3521947.470975609,5216090.2867741939,3375900.46,4406324.46,4381080.6399999997,4381080.6399999997,4886340.8286552997,{"$f":"I53*1.1","v":5374974.9115208304},5912472.4026729139]
[{"$f":"'Org structure'!E51","v":"5.5 - Human Resources"},null,2729517.6731707319,4056959.1119354838,2625700.36,3427141.25,3401897.43,3401897.43,3800487.3111763443,{"$f":"I54*1.1","v":4180536.0422939789},{"$f":"J54*1.1","v":4598589.6465233769}]
[{"$f":"'Org structure'!E52","v":0}]
[{"$f":"'Org structure'!E53","v":0}]
[{"$f":"'Org structure'!E54","v":0}]
[{"$f":"'Org structure'!E55","v":0}]
[{"$f":"'Org structure'!E56","v":0}]
[{"$f":"'Org structure'!A7","v":"Vote 6 - [NAME OF VOTE 6]"},null,{"$f":"SUM(C61:C70)","v":0},{"$f":"SUM(D61:D70)","v":0},0,0,0,0,0,0,0]
[{"$f":"'Org structure'!E58","v":"6.1 - [Name of sub-vote]"}]
[{"$f":"'Org structure'!E59","v":0}]
[{"$f":"'Org structure'!E60","v":0}]
[{"$f":"'Org structure'!E61","v":0}]
[{"$f":"'Org structure'!E62","v":0}]
[{"$f":"'Org structure'!E63","v":0}]
[{"$f":"'Org structure'!E64","v":0}]
[{"$f":"'Org structure'!E65","v":0}]
[{"$f":"'Org structure'!E66","v":0}]
[{"$f":"'Org structure'!E67","v":0}]
[{"$f":"'Org structure'!A8","v":"Vote 7 - [NAME OF VOTE 7]"},null,{"$f":"SUM(C72:C81)","v":0},0,0,0,0,0,0,0,0]
[{"$f":"'Org structure'!E69","v":"7.1 - [Name of sub-vote]"}]
[{"$f":"'Org structure'!E70","v":0}]
[{"$f":"'Org structure'!E71","v":0}]
[{"$f":"'Org structure'!E72","v":0}]
[{"$f":"'Org structure'!E73","v":0}]
[{"$f":"'Org structure'!E74","v":0}]
[{"$f":"'Org structure'!E75","v":0}]
[{"$f":"'Org structure'!E76","v":0}]
[{"$f":"'Org structure'!E77","v":0}]
[{"$f":"'Org structure'!E78","v":0}]
[{"$f":"'Org structure'!A9","v":"Vote 8 - [NAME OF VOTE 8]"},null,{"$f":"SUM(C83:C92)","v":0},{"$f":"SUM(D83:D92)","v":0},0,0,0,0,0,0,0]
[{"$f":"'Org structure'!E80","v":"8.1 - [Name of sub-vote]"}]
[{"$f":"'Org structure'!E81","v":0}]
[{"$f":"'Org structure'!E82","v":0}]
[{"$f":"'Org structure'!E83","v":0}]
[{"$f":"'Org structure'!E84","v":0}]
[{"$f":"'Org structure'!E85","v":0}]
[{"$f":"'Org structure'!E86","v":0}]
[{"$f":"'Org structure'!E87","v":0}]
[{"$f":"'Org structure'!E88","v":0}]
[{"$f":"'Org structure'!E89","v":0}]
[{"$f":"'Org structure'!A10","v":"Vote 9 - [NAME OF VOTE 9]"},null,{"$f":"SUM(C94:C103)","v":0},{"$f":"SUM(D94:D103)","v":0},0,0,0,0,0,0,0]
[{"$f":"'Org structure'!E91","v":"9.1 - [Name of sub-vote]"}]
[{"$f":"'Org structure'!E92","v":0}]
[{"$f":"'Org structure'!E93","v":0}]
[{"$f":"'Org structure'!E94","v":0}]
[{"$f":"'Org structure'!E95","v":0}]
[{"$f":"'Org structure'!E96","v":0}]
[{"$f":"'Org structure'!E97","v":0}]
[{"$f":"'Org structure'!E98","v":0}]
[{"$f":"'Org structure'!E99","v":0}]
[{"$f":"'Org structure'!E100","v":0}]
[{"$f":"'Org structure'!A11","v":"Vote 10 - [NAME OF VOTE 10]"},null,{"$f":"SUM(C105:C114)","v":0},{"$f":"SUM(D105:D114)","v":0},0,0,0,0,0,0,0]
[{"$f":"'Org structure'!E102","v":"10.1 - [Name of sub-vote]"}]
[{"$f":"'Org structure'!E103","v":0}]
[{"$f":"'Org structure'!E104","v":0}]
[{"$f":"'Org structure'!E105","v":0}]
[{"$f":"'Org structure'!E106","v":0}]
[{"$f":"'Org structure'!E107","v":0}]
[{"$f":"'Org structure'!E108","v":0}]
[{"$f":"'Org structure'!E109","v":0}]
[{"$f":"'Org structure'!E110","v":0}]
[{"$f":"'Org structure'!E111","v":0}]
[{"$f":"'Org structure'!A12","v":"Vote 11 - [NAME OF VOTE 11]"},null,{"$f":"SUM(C116:C125)","v":0},{"$f":"SUM(D116:D125)","v":0},0,0,0,0,0,0,0]
[{"$f":"'Org structure'!E113","v":"11.1 - [Name of sub-vote]"}]
[{"$f":"'Org structure'!E114","v":0}]
[{"$f":"'Org structure'!E115","v":0}]
[{"$f":"'Org structure'!E116","v":0}]
[{"$f":"'Org structure'!E117","v":0}]
[{"$f":"'Org structure'!E118","v":0}]
[{"$f":"'Org structure'!E119","v":0}]
[{"$f":"'Org structure'!E120","v":0}]
[{"$f":"'Org structure'!E121","v":0}]
[{"$f":"'Org structure'!E122","v":0}]
[{"$f":"'Org structure'!A13","v":"Vote 12 - [NAME OF VOTE 12]"},null,{"$f":"SUM(C127:C136)","v":0},{"$f":"SUM(D127:D136)","v":0},0,0,0,0,0,0,0]
[{"$f":"'Org structure'!E124","v":"12.1 - [Name of sub-vote]"}]
[{"$f":"'Org structure'!E125","v":0}]
[{"$f":"'Org structure'!E126","v":0}]
[{"$f":"'Org structure'!E127","v":0}]
[{"$f":"'Org structure'!E128","v":0}]
[{"$f":"'Org structure'!E129","v":0}]
[{"$f":"'Org structure'!E130","v":0}]
[{"$f":"'Org structure'!E131","v":0}]
[{"$f":"'Org structure'!E132","v":0}]
[{"$f":"'Org structure'!E133","v":0}]
[{"$f":"'Org structure'!A14","v":"Vote 13 - [NAME OF VOTE 13]"},null,{"$f":"SUM(C138:C147)","v":0},{"$f":"SUM(D138:D147)","v":0},0,0,0,0,0,0,0]
[{"$f":"'Org structure'!E135","v":"13.1 - [Name of sub-vote]"}]
[{"$f":"'Org structure'!E136","v":0}]
[{"$f":"'Org structure'!E137","v":0}]
[{"$f":"'Org structure'!E138","v":0}]
[{"$f":"'Org structure'!E139","v":0}]
[{"$f":"'Org structure'!E140","v":0}]
[{"$f":"'Org structure'!E141","v":0}]
[{"$f":"'Org structure'!E142","v":0}]
[{"$f":"'Org structure'!E143","v":0}]
[{"$f":"'Org structure'!E144","v":0}]
[{"$f":"'Org structure'!A15","v":"Vote 14 - [NAME OF VOTE 14]"},null,{"$f":"SUM(C149:C158)","v":0},{"$f":"SUM(D149:D158)","v":0},0,0,0,0,0,0,0]
[{"$f":"'Org structure'!E146","v":"14.1 - [Name of sub-vote]"}]
[{"$f":"'Org structure'!E147","v":0}]
[{"$f":"'Org structure'!E148","v":0}]
[{"$f":"'Org structure'!E149","v":0}]
[{"$f":"'Org structure'!E150","v":0}]
[{"$f":"'Org structure'!E151","v":0}]
[{"$f":"'Org structure'!E152","v":0}]
[{"$f":"'Org structure'!E153","v":0}]
[{"$f":"'Org structure'!E154","v":0}]
[{"$f":"'Org structure'!E155","v":0}]
[{"$f":"'Org structure'!A16","v":"Vote 15 - [NAME OF VOTE 15]"},null,{"$f":"SUM(C160:C169)","v":0},{"$f":"SUM(D160:D169)","v":0},0,0,0,0,0,0,0]
[{"$f":"'Org structure'!E157","v":"15.1 - [Name of sub-vote]"}]
[{"$f":"'Org structure'!E158","v":0}]
[{"$f":"'Org structure'!E159","v":0}]
[{"$f":"'Org structure'!E160","v":0}]
[{"$f":"'Org structure'!E161","v":0}]
[{"$f":"'Org structure'!E162","v":0}]
[{"$f":"'Org structure'!E163","v":0}]
[{"$f":"'Org structure'!E164","v":0}]
[{"$f":"'Org structure'!E165","v":0}]
[{"$f":"'Org structure'!E166","v":0}]
["Total Revenue by Vote",2,{"$f":"C5+C16+C27+C38+C49+C60+C71+C82+C93+C104+C115+C126+C137+C148+C159","v":45576623.688000008},{"$f":"D5+D16+D27+D38+D49+D60+D71+D82+D93+D104+D115+D126+D137+D148+D159","v":90879214.340000004},{"$f":"E5+E16+E27+E38+E49+E60+E71+E82+E93+E104+E115+E126+E137+E148+E159","v":41377107.989999995},60555255.032745093,60544496.299999997,60544496.299999997,{"$f":"I5+I16+I27+I38+I49+I60+I71+I82+I93+I104+I115+I126+I137+I148+I159","v":63705369.925401643},69448907.917941794,76393798.70973599,{"$f":"SUM(L78:L81)","v":0},0,0,0,0,0,0,0,0,0,0,0]
[]
["Expenditure by Vote",1]
[{"$f":"A5","v":"Vote 1 - General Council"},null,{"$f":"SUM(C174:C183)","v":4511593.4080000017},6377438.320000004,10017888.57,9011522.8183828332,8805489.8100000005,8805489.8100000005,10800140.480000004,11880154.528000005,13068169.980800005]
[{"$f":"A6","v":"1.1 - Mayor"},null,1451963.0516666668,2125620.7733333334,1845400.53,3004118.2727942774,6977337.6100000003,6977337.6100000003,{"$f":"1976604.82526316+70000","v":2046604.82526316},{"$f":"I174*1.1","v":2251265.3077894761},{"$f":"J174*1.1","v":2476391.8385684239}]
["1.2 - Speaker",null,792078.56326666649,2657601.9666666701,2372657.8199999998,3754627.8409928475,1689198.2,1689198.2,2541349.0610526316,{"$f":"I175*1.1","v":2795483.9671578947},3075032.3638736843]
["1.3 - Council",null,1691362.7930666676,0,5799830.2199999997,0,0,0,6212186.5936842114,6833405.2530526333,7516745.778357897]
["1.4 Youth Development Programme",null,198729.66666666698,531405.19333333336,null,750925.56819856935,89885,89885]
["1.5 Special Programme",null,188729.66666666666,531405.19333333336,null,750925.56819856935,49069,49069]
["1.6 IGR",null,188729.66666666666,531405.19333333336,null,750925.56819856935,0,0]
[0,null,null,null,null,null,0,0]
[0]
[0]
[0]
[{"$f":"A16","v":"Vote 2 - Municipal Manager"},null,{"$f":"SUM(C185:C194)","v":6176410.5199999996},{"$f":"SUM(D185:D194)","v":4789877.6333333338},{"$f":"SUM(E185:E194)","v":5259391.4799999995},6357454.9120088173,8563855.5999999996,8563855.5999999996,10030074.330587411,11033081.763646152,12136389.940010769]
[{"$f":"A17","v":"2.1 - Office of the Municipal Manager"},null,3833146.67,1368536.4666666668,1502683.28,1816415.6891453762,3450127.83,3450127.83,2006014.8661174823,{"$f":"I185*1.1","v":2206616.3527292307},{"$f":"J185*1.1","v":2427277.988002154}]
["2.2 - Internal Audit",null,686762.38,1368536.4666666668,1502683.28,1816415.6891453762,3826545.58,3826545.58,2006014.8661174823,{"$f":"I186*1.1","v":2206616.3527292307},2427277.988002154]
["2.3 - Performance and Monitoring Management",null,1012715.39,1368536.4666666668,1502683.28,1816415.6891453762,936253.7,936253.7,2006014.8661174823,2206616.3527292307,2427277.988002154]
["2.4 - Risk Office",null,643786.08000000007,684268.2333333334,751341.64,908207.8445726881,350928.49,350928.49,1003007.4330587412,1103308.1763646153,1213638.994001077]
["2.5 - Disaster management ",null,null,0,null,0,0,0,3009022.2991762231,{"$f":"I189*1.1","v":3309924.5290938457},{"$f":"J189*1.1","v":3640916.9820032306}]
[0,null,null,null,null,null,0,0]
[0]
[0]
[0]
[0]
[{"$f":"A27","v":"Vote 3 - Budget & Treasury Office"},null,{"$f":"SUM(C196:C205)","v":5708524.9699999988},22158108.950000003,16279068.920000002,11649471.488808705,10608136.34,10608136.34,12354570.365650371,13590027.40221541,14949030.142436953]
["3.1 - Office of the CFO",null,1586958.74,1641341.4037037038,1252236.07,862923.81398582994,3325923.81,3325923.81,{"$f":"950351.558633369+1125879","v":2076230.5586333689},{"$f":"I196*1.1","v":2283853.6144967061},{"$f":"J196*1.1","v":2512238.975946377}]
["3.2 - Supply Chain Management",null,1458290.0299999998,3282682.8074074076,2504472.14,1725847.6279716599,1693144.4,1693144.4,1900703.1172667376,{"$f":"I197*1.1","v":2090773.4289934116},2299850.771892753]
["3.3 - Expenditure",null,1374245.5066666701,7386036.3166666673,5635062.3200000003,3883157.1629362348,2775229.2300000004,2775229.2300000004,4276582.013850159,4704240.2152351756,5174664.2367586931]
["3.4 - Budget & Reporting ",null,873115.36333332991,5744694.9129629638,3756708.21,3020233.3489504047,1966838.9,1966838.9,2851054.6759001063,3136160.143490117,3449776.1578391292]
["3.5 - FMG Projects",null,415915.32999999996,4103353.5092592598,3130590.18,2157309.534964575,846999.99999999977,846999.99999999977,1250000,{"$f":"I200*1.1","v":1375000},{"$f":"J200*1.1","v":1512500.0000000002}]
[0,null,null,null,null,null,0,0]
[0]
[0]
[0]
[0]
["Vote 4 - Planning & Development",null,{"$f":"SUM(C207:C216)","v":8391759.6799999997},15618921.49,12898031.539999999,16213725.704954717,13285657.699999999,13285657.699999999,13806724.017077571,15187396.418785328,16706136.060663864]
[{"$f":"A39","v":"4.1 - Office of the Director - Planning and Development"},null,472449.54239551211,1239123.6078260869,1252236.07,1251976.1482569319,959993.09999999986,959993.09999999986,1624320.4725973613,{"$f":"I207*1.1","v":1786752.5198570976},{"$f":"J207*1.1","v":1965427.7718428075}]
["4.2 - Economic Development",null,2555089.1212873501,4336932.6273913048,3130590.18,4381916.518899262,5813079.2599999998,5813079.2599999998,4060801.1814934034,{"$f":"I208*1.1","v":4466881.2996427445},4913569.4296070198]
["4.4 - Development Planning",null,1351548.2001964985,3227685.41173913,2254024.9300000002,3693964.2223853981,1725264.6099999999,1725264.61,2436480.7088960418,{"$f":"I209*1.1","v":2680128.7797856461},2948141.6577642108]
["4.5 - Municipal Health",null,1872584.8835048724,1858685.4117391305,1878354.11,1877964.2223853979,2411615.06,2411615.06,5685121.654090764,{"$f":"I210*1.1","v":6253633.819499841},6878997.2014498254]
[0,null,2140087.9326157672,3717370.823478261,4382826.25,3755928.4447707958,2375705.67,2375705.67]
[0,null,null,1239123.6078260869,null,1251976.1482569319,0,0]
[0]
[0]
[0]
[0]
[{"$f":"A49","v":"Vote 5 - Corporate Services"},null,{"$f":"SUM(C218:C227)","v":14399056.109999998},19117292.439999998,26290757.489999998,19624142.302185975,21133244.02,21133244.02,19042370.313683216,20146323.345051538,21301355.679556694]
[{"$f":"A50","v":"5.1 - Office of the Director - Corporate Services"},null,2253767.9392682929,1253954.3509677418,0,1266073.6969152242,5041027.8400000008,5041027.8400000008,{"$f":"1700000","v":1700000},{"$f":"I218*1.1","v":1870000.0000000002},{"$f":"J218*1.1","v":2057000.0000000005}]
["5.2 - Administration",null,4375025.577317073,5950771.7548387097,14110562.560000001,6330368.484576121,7982800.0599999996,7982800.0599999996,{"$f":"10062655.9770983-1700000+289238.72","v":8651894.6970982999},{"$f":"(I219*1.1)-800284","v":8716800.1668081302},{"$f":"(J219*1.1)-859600","v":8728880.1834889445}]
["5.3 - Information Technology",null,1658797.4492682901,1880931.5264516126,1924167.62,1899110.5453728363,1325773.81,1325773.81,1372180.3605134077,{"$f":"I220*1.1","v":1509398.3965647486},1660338.2362212236]
["5.4 - Property Services",null,3381947.470975609,5642794.5793548385,5766302.8600000003,5697331.6361185089,3203162.66,3203162.66,4116541.0815402232,{"$f":"I221*1.1","v":4528195.1896942463},4981014.7086636713]
["5.5 - Human Resources",null,2729517.6731707319,4388840.228387096,4489724.45,4431257.9392032847,3580479.65,3580479.65,3201754.1745312852,{"$f":"I222*1.1","v":3521929.591984414},3874122.5511828559]
[0,null,null,null,null,0]
[0]
[0]
[0]
[0]
[{"$f":"A60","v":"Vote 6 - [NAME OF VOTE 6]"},null,{"$f":"SUM(C229:C238)","v":0},0,0,0,0,0,0,0,0]
[{"$f":"A61","v":"6.1 - [Name of sub-vote]"}]
[0]
[0]
[0]
[0]
[0]
[0]
[0]
[0]
[0]
[{"$f":"A71","v":"Vote 7 - [NAME OF VOTE 7]"},null,{"$f":"SUM(C240:C249)","v":0},0,0,0,0,0,0,0,0]
[{"$f":"A72","v":"7.1 - [Name of sub-vote]"}]
[0]
[0]
[0]
[0]
[0]
[0]
[0]
[0]
[0]
[{"$f":"A82","v":"Vote 8 - [NAME OF VOTE 8]"},null,{"$f":"SUM(C251:C260)","v":0},0,0,0,0,0,0,0,0]
[{"$f":"A83","v":"8.1 - [Name of sub-vote]"}]
[0]
[0]
[0]
[0]
[0]
[0]
[0]
[0]
[0]
["Vote 9 - [NAME OF VOTE 9]",null,{"$f":"SUM(C262:C271)","v":0},0,0,0,0,0,0,0,0]
["9.1 - [Name of sub-vote]"]
[0]
[0]
[0]
[0]
[0]
[0]
[0]
[0]
[0]
[{"$f":"A104","v":"Vote 10 - [NAME OF VOTE 10]"},null,{"$f":"SUM(C273:C282)","v":0},0,0,0,0,0,0,0,0]
[{"$f":"A105","v":"10.1 - [Name of sub-vote]"}]
[{"$f":"A106","v":0}]
[0]
[0]
[0]
[0]
[0]
[0]
[0]
[{"$f":"A114","v":0}]
[{"$f":"A115","v":"Vote 11 - [NAME OF VOTE 11]"},null,{"$f":"SUM(C284:C293)","v":0},0,0,0,0,0,0,0,0]
[{"$f":"A116","v":"11.1 - [Name of sub-vote]"}]
[{"$f":"A117","v":0}]
[0]
[0]
[0]
[0]
[0]
[0]
[0]
[0]
["Vote 12 - [NAME OF VOTE 12]",null,{"$f":"SUM(C295:C304)","v":0},0,0,0,0,0,0,0,0]
["12.1 - [Name of sub-vote]"]
[0]
[0]
[0]
[0]
[0]
[0]
[0]
[0]
[0]
["Vote 13 - [NAME OF VOTE 13]",null,{"$f":"SUM(C306:C315)","v":0},0,0,0,0,0,0,0,0]
["13.1 - [Name of sub-vote]"]
[0]
[0]
[0]
[0]
[0]
[0]
[0]
[0]
[0]
["Vote 14 - [NAME OF VOTE 14]",null,{"$f":"SUM(C317:C326)","v":0},0,0,0,0,0,0,0,0]
["14.1 - [Name of sub-vote]"]
[0]
[0]
[0]
[0]
[0]
[0]
[0]
[0]
[0]
["Vote 15 - [NAME OF VOTE 15]",null,{"$f":"SUM(C328:C337)","v":0},0,0,0,0,0,0,0,0]
["15.1 - [Name of sub-vote]"]
[0]
[0]
[0]
[0]
[0]
[0]
[0]
[0]
[0]
["Total Expenditure by Vote",2,{"$f":"C173+C184+C195+C206+C217+C228+C239+C250+C261+C283+C294+C305+C316+C327+C272","v":39187344.688000001},{"$f":"D173+D184+D195+D206+D217+D228+D239+D250+D261+D283+D294+D305+D316+D327+D272","v":68061638.833333343},{"$f":"E173+E184+E195+E206+E217+E228+E239+E250+E261+E283+E294+E305+E316+E327+E272","v":70745138},62856317.226341046,62396383.469999999,62396383.469999999,66033879.506998569,71836983.457698435,78161081.803468287,{"$f":"SUM(L173:L249)","v":0},0,0,0,0,0,0,0,0,0,0,0]
[]
[{"$f":"result","v":"Surplus/(Deficit) for the year"},2,{"$f":"C170-C338","v":6389279.0000000075},22817575.50666666,-29368030.010000005,-2301062.1935959533,-1851887.1700000018,-1851887.1700000018,-2328509.5815969259,-2388075.5397566408,-1767283.0937322974,0,0,0,0,0,0,0,0,0,0,0,0]
[{"$f":"head27a","v":"References"}]
["1. Insert 'Vote'; e.g. Department, if different to standard structure"]
["2. Must reconcile to Financial Performance ('Revenue and Expenditure by Standard Classification' and 'Revenue and Expenditure')"]
["3. Assign share in 'associate' to relevant Vote"]
[]
["check revenue",null,{"$f":"C170-'A4-FinPerf RE'!C60","v":-0.31199999153614044},{"$f":"D170-'A4-FinPerf RE'!D60","v":0.34000000357627869},{"$f":"E170-'A4-FinPerf RE'!E60","v":1991999.9899999946},{"$f":"F170-'A4-FinPerf RE'!F60","v":-1.146543025970459E-2},{"$f":"G170-'A4-FinPerf RE'!G60","v":630999.61578947306},{"$f":"H170-'A4-FinPerf RE'!H60","v":630999.61578947306},{"$f":"I170-'A4-FinPerf RE'!J60","v":-500000.55459836125},{"$f":"J170-'A4-FinPerf RE'!K60","v":-549999.61005820334},{"$f":"K170-'A4-FinPerf RE'!L60","v":-604999.57106401026}]
["check expenditure",null,{"$f":"C338-'A4-FinPerf RE'!C36","v":-0.31199999898672104},{"$f":"D338-'A4-FinPerf RE'!D36","v":-0.1666666567325592},{"$f":"E338-'A4-FinPerf RE'!E36","v":0},{"$f":"F338-'A4-FinPerf RE'!F36","v":0.31085462123155594},{"$f":"G338-'A4-FinPerf RE'!G36","v":-0.16418511420488358},{"$f":"H338-'A4-FinPerf RE'!H36","v":-0.16418511420488358},{"$f":"I338-'A4-FinPerf RE'!J36","v":-499999.90300142765},{"$f":"J338-'A4-FinPerf RE'!K36","v":-550000.10315155983},{"$f":"K338-'A4-FinPerf RE'!L36","v":-604999.56407746673}]

{"sheet":"A4-FinPerf RE","index":11,"n_rows":60,"n_cols":24,"rows_kept":60,"cut":false,"hidden":false,"merged":[[1,12,1,23],[1,9,1,11],[1,5,1,8]]}
[{"$f":"muni&\" - \"&Approve4","v":"DC16 Xhariep - Table A4 Budgeted Financial Performance (revenue and expenditure)"}]
[{"$f":"desc","v":"Description"},{"$f":"head27","v":"Ref"},{"$f":"head1b","v":"2010/11"},{"$f":"head1A","v":"2011/12"},{"$f":"Head1","v":"2012/13"},{"$f":"Head2","v":"Current Year 2013/14"},null,null,null,{"$f":"Head3","v":"2014/15 Medium Term Revenue & Expenditure Framework"},null,null,{"$f":"Head4","v":"LTFS"}]
["R thousand",1,{"$f":"Head5","v":"Audited Outcome"},{"$f":"Head5","v":"Audited Outcome"},{"$f":"Head5","v":"Audited Outcome"},{"$f":"Head6","v":"Original Budget"},{"$f":"Head7","v":"Adjusted Budget"},{"$f":"Head8","v":"Full Year Forecast"},{"$f":"Head5b","v":"Pre-audit outcome"},{"$f":"Head9","v":"Budget Year 2014/15"},{"$f":"Head10","v":"Budget Year +1 2015/16"},{"$f":"Head11","v":"Budget Year +2 2016/17"},{"$f":"Head12","v":"Forecast 2017/18"},{"$f":"Head13","v":"Forecast 2018/19"},{"$f":"Head14","v":"Forecast 2019/20"},{"$f":"Head15","v":"Forecast 2020/21"},{"$f":"Head16","v":"Forecast 2021/22"},{"$f":"Head17","v":"Forecast 2022/23"},{"$f":"Head18","v":"Forecast 2023/24"},{"$f":"Head19","v":"Forecast 2024/25"},{"$f":"Head20","v":"Forecast 2025/26"},{"$f":"Head21","v":"Forecast 2026/27"},{"$f":"Head22","v":"Forecast 2027/28"},{"$f":"Head23","v":"Forecast 2028/29"}]
["Revenue By Source"]
["Property rates",2,{"$f":"'SA1'!C9","v":0},{"$f":"'SA1'!D9","v":0},{"$f":"'SA1'!E9","v":0},{"$f":"'SA1'!F9","v":0},{"$f":"'SA1'!G9","v":0},{"$f":"'SA1'!H9","v":0},{"$f":"'SA1'!I9","v":0},{"$f":"'SA1'!J9","v":0},{"$f":"'SA1'!K9","v":0},{"$f":"'SA1'!L9","v":0}]
["Property rates - penalties & collection charges"]
["Service charges - electricity revenue",2,{"$f":"'SA1'!C14","v":0},{"$f":"'SA1'!D14","v":0},{"$f":"'SA1'!E14","v":0},{"$f":"'SA1'!F14","v":0},{"$f":"'SA1'!G14","v":0},{"$f":"'SA1'!H14","v":0},{"$f":"'SA1'!I14","v":0},{"$f":"'SA1'!J14","v":0},{"$f":"'SA1'!K14","v":0},{"$f":"'SA1'!L14","v":0}]
["Service charges - water revenue",2,{"$f":"'SA1'!C19","v":0},{"$f":"'SA1'!D19","v":0},{"$f":"'SA1'!E19","v":0},{"$f":"'SA1'!F19","v":0},{"$f":"'SA1'!G19","v":0},{"$f":"'SA1'!H19","v":0},{"$f":"'SA1'!I19","v":0},{"$f":"'SA1'!J19","v":0},{"$f":"'SA1'!K19","v":0},{"$f":"'SA1'!L19","v":0}]
["Service charges - sanitation revenue",2,{"$f":"'SA1'!C24","v":0},{"$f":"'SA1'!D24","v":0},{"$f":"'SA1'!E24","v":0},{"$f":"'SA1'!F24","v":0},{"$f":"'SA1'!G24","v":0},{"$f":"'SA1'!H24","v":0},{"$f":"'SA1'!I24","v":0},{"$f":"'SA1'!J24","v":0},{"$f":"'SA1'!K24","v":0},{"$f":"'SA1'!L24","v":0}]
["Service charges - refuse revenue",2,{"$f":"'SA1'!C30","v":0},{"$f":"'SA1'!D30","v":0},{"$f":"'SA1'!E30","v":0},{"$f":"'SA1'!F30","v":0},{"$f":"'SA1'!G30","v":0},{"$f":"'SA1'!H30","v":0},{"$f":"'SA1'!I30","v":0},{"$f":"'SA1'!J30","v":0},{"$f":"'SA1'!K30","v":0},{"$f":"'SA1'!L30","v":0}]
["Service charges - other",null,0,0,null,0]
["Rental of facilities and equipment",null,290957,366954,432517,340722.68421052635,340722.68421052635,340722.68421052635,340722.68421052635,468565.88,{"$f":"J12*1.1","v":515422.46800000005},{"$f":"K12*1.1","v":566964.71480000007}]
["Interest earned - external investments",null,382910,731413,283816,129000,129000,129000,89000,{"$f":"100000+3800","v":103800},{"$f":"J13*1.1","v":114180.00000000001},125598.00000000003]
["Interest earned - outstanding debtors",null,0,0,null,10758.36,0,0,11000,{"$f":"8404+3603","v":12007},{"$f":"J14*1.1","v":13207.7},14528.470000000001]
["Dividends received",null,0,0,null,0,0,0,null,null,{"$f":"J15*1.1","v":0},0]
["Fines",null,0,0,null,0,0,0,null,null,{"$f":"J16*1.1","v":0},0]
["Licences and permits",null,0,0,null,0,0,0,null,null,{"$f":"J17*1.1","v":0},0]
["Agency services",null,0,0,null,0,0,0,null,null,{"$f":"J18*1.1","v":0},0]
["Transfers recognised - operational",null,44886347,88254890,{"$f":"40588152-1992000","v":38596152},59971000,{"$f":"59971000-631000","v":59340000},{"$f":"59971000-631000","v":59340000},54971000,{"$f":"62992000","v":62992000},{"$f":"J19*1.1","v":69291200},76220320]
["Other revenue",2,{"$f":"'SA1'!C45","v":16410},{"$f":"'SA1'!D45","v":1504275},{"$f":"'SA1'!E45","v":72623},{"$f":"'SA1'!F45","v":103774},{"$f":"'SA1'!G45","v":103774},{"$f":"'SA1'!H45","v":103774},{"$f":"'SA1'!I45","v":103774},{"$f":"'SA1'!J45","v":628997.6},{"$f":"'SA1'!K45","v":64897.36},{"$f":"'SA1'!L45","v":71387.096000000005}]
["Gains on disposal of PPE",null,0,21682]
["Total Revenue (excluding capital transfers and contributions)",null,{"$f":"SUM(C5:C21)","v":45576624},90879214,39385108,60555255.044210523,59913496.684210524,59913496.684210524,55515496.684210524,64205370.480000004,69998907.527999997,76998798.2808,0,0,0,0,0,0,0,0,0,0,0,0]
[]
["Expenditure By Type"]
["Employee related costs",2,{"$f":"'SA1'!C63","v":20001631},{"$f":"'SA1'!D63","v":24585630},{"$f":"'SA1'!E63","v":30159010},{"$f":"'SA1'!F63","v":34411006.495802283},{"$f":"'SA1'!G63","v":32099545.215802278},{"$f":"'SA1'!H63","v":32099545.215802278},{"$f":"'SA1'!I63","v":32099545.215802278},{"$f":"'SA1'!J63","v":39164805.949999996},{"$f":"'SA1'!K63","v":42421907.75925},{"$f":"'SA1'!L63","v":45955266.340493746}]
["Remuneration of councillors",null,2566048,2895434,3318054,3239545.0736865401,3239545.0736865401,3239545.0736865401,3239545.0736865401,4696833.4800000004,{"$f":"J26*1.07","v":5025611.8236000007},{"$f":"K26*1.07","v":5377404.6512520015}]
["Debt impairment",3,-659604,9388,10777736,null,null,null,null,0,0,0]
["Depreciation & asset impairment",2,{"$f":"'SA1'!C79","v":0},{"$f":"'SA1'!D79","v":2307376},{"$f":"'SA1'!E79","v":3648189},{"$f":"'SA1'!F79","v":3866861.7446962921},{"$f":"'SA1'!G79","v":3366861.7446962921},{"$f":"'SA1'!H79","v":3366861.7446962921},{"$f":"'SA1'!I79","v":3366861.7446962921},{"$f":"'SA1'!J79","v":3500000},{"$f":"'SA1'!K79","v":3850000.0000000005},{"$f":"'SA1'!L79","v":4235000.0000000009}]
["Finance charges",null,497112,307741,286676,null,null,null,null,0]
["Bulk purchases",2,{"$f":"'SA1'!C84","v":0},{"$f":"'SA1'!D84","v":0},{"$f":"'SA1'!E84","v":0},{"$f":"'SA1'!F84","v":0},{"$f":"'SA1'!G84","v":0},{"$f":"'SA1'!H84","v":0},{"$f":"'SA1'!I84","v":0},{"$f":"'SA1'!J84","v":0},{"$f":"'SA1'!K84","v":0},{"$f":"'SA1'!L84","v":0}]
["Other materials",8,null,null,null,null,null,null,null,0]
["Contracted services",null,{"$f":"'SA1'!C123","v":0},{"$f":"'SA1'!D123","v":0},{"$f":"'SA1'!E123","v":0},{"$f":"'SA1'!F123","v":600000},{"$f":"'SA1'!G123","v":900000},{"$f":"'SA1'!H123","v":900000},{"$f":"'SA1'!I123","v":900000},{"$f":"'SA1'!J123","v":500000},{"$f":"'SA1'!K123","v":550000},{"$f":"'SA1'!L123","v":605000}]
["Transfers and grants",null,{"$f":"'SA1'!C89","v":0},{"$f":"'SA1'!D89","v":0},{"$f":"'SA1'!E89","v":0},{"$f":"'SA1'!F89","v":0},{"$f":"'SA1'!G89","v":1089978},{"$f":"'SA1'!H89","v":1089978},{"$f":"'SA1'!I89","v":1089978},{"$f":"'SA1'!J89","v":0},{"$f":"'SA1'!K89","v":0},{"$f":"'SA1'!L89","v":0}]
["Other expenditure","4, 5",{"$f":"'SA1'!C153","v":16736938},{"$f":"'SA1'!D153","v":37956070},{"$f":"'SA1'!E153","v":22555473},{"$f":"'SA1'!F153","v":20738903.601301309},{"$f":"'SA1'!G153","v":21700453.600000001},{"$f":"'SA1'!H153","v":21700453.600000001},{"$f":"'SA1'!I153","v":21700453.600000001},{"$f":"'SA1'!J153","v":18672239.98},{"$f":"'SA1'!K153","v":20539463.978},{"$f":"'SA1'!L153","v":22593410.375800002}]
["Loss on disposal of PPE",null,45220,0,0,null,null,null,null,0]
["Total Expenditure",null,{"$f":"SUM(C25:C35)","v":39187345},{"$f":"SUM(D25:D35)","v":68061639},70745138,62856316.915486425,62396383.634185113,62396383.634185113,62396383.634185113,66533879.409999996,72386983.560849994,78766081.367545754,{"$f":"SUM(M25:M35)","v":0},0,0,0,0,0,0,0,0,0,0,0]
[]
["Surplus/(Deficit)",null,{"$f":"C22-C36","v":6389279},22817575,-31360030,-2301061.8712759018,-2482886.949974589,-2482886.949974589,-6880886.949974589,-2328508.9299999923,-2388076.0328499973,-1767283.0867457539,{"$f":"M22+M36","v":0},0,0,0,0,0,0,0,0,0,0,0]
["Transfers recognised - capital",null,null,null,null,null,null,null,null,0]
["Contributions recognised - capital",6,{"$f":"'SA1'!C72","v":0},{"$f":"'SA1'!D72","v":0},{"$f":"'SA1'!E72","v":0},{"$f":"'SA1'!F72","v":0},{"$f":"'SA1'!G72","v":0},{"$f":"'SA1'!H72","v":0},{"$f":"'SA1'!I72","v":0},{"$f":"'SA1'!J72","v":0},{"$f":"'SA1'!K72","v":0},{"$f":"'SA1'!L72","v":0}]
["Contributed assets"]
["Surplus/(Deficit) after capital transfers & contributions",null,{"$f":"SUM(C38:C41)","v":6389279},22817575,-31360030,-2301061.8712759018,-2482886.949974589,-2482886.949974589,-6880886.949974589,-2328508.9299999923,-2388076.0328499973,-1767283.0867457539]
["Taxation"]
["Surplus/(Deficit) after taxation",null,{"$f":"C42-C43","v":6389279},22817575,-31360030,-2301061.8712759018,-2482886.949974589,-2482886.949974589,-6880886.949974589,-2328508.9299999923,-2388076.0328499973,-1767283.0867457539]
["Attributable to minorities"]
["Surplus/(Deficit) attributable to municipality",null,{"$f":"SUM(C44:C45)","v":6389279},22817575,-31360030,-2301061.8712759018,-2482886.949974589,-2482886.949974589,-6880886.949974589,-2328508.9299999923,-2388076.0328499973,-1767283.0867457539]
["Share of surplus/ (deficit) of associate",7]
[{"$f":"result","v":"Surplus/(Deficit) for the year"},null,{"$f":"SUM(C46:C47)","v":6389279},22817575,-31360030,-2301061.8712759018,-2482886.949974589,-2482886.949974589,-6880886.949974589,-2328508.9299999923,-2388076.0328499973,-1767283.0867457539,{"$f":"M26+M47","v":0},0,0,0,0,0,0,0,0,0,0,0]
[{"$f":"head27a","v":"References"}]
["1. Classifications are revenue sources and expenditure type"]
["2. Detail to be provided in Table SA1"]
["3. Previously described as 'bad or doubtful debts' - amounts shown should reflect the change in the provision for debt impairment"]
["4. Expenditure type components previously shown under repairs and maintenance should be allocated back to the originating expenditure group/item; e.g. employee costs"]
["5. Repairs & maintenance detailed in Table A9 and Table SA34c"]
["6. Contributions are funds provided by external organisations to assist with infrastructure development; e.g. developer contributions (detail to be provided in Table SA1)"]
["7. Equity method"]
["8. All materials not part of 'bulk' e.g  road making materials, pipe, cable etc."]
["check balance",null,{"$f":"C46-'A3-FinPerf V'!C39","v":-7.4505805969238281E-9},{"$f":"D46-'A3-FinPerf V'!D39","v":-0.50666666030883789},{"$f":"E46-'A3-FinPerf V'!E39","v":-1991999.9899999946},{"$f":"F46-'A3-FinPerf V'!F39","v":0.32232005149126053},{"$f":"G46-'A3-FinPerf V'!G39","v":-630999.77997458726},{"$f":"H46-'A3-FinPerf V'!H39","v":-630999.77997458726},null,{"$f":"J46-'A3-FinPerf V'!I39","v":0.65159693360328674},{"$f":"K46-'A3-FinPerf V'!J39","v":-0.49309335649013519},{"$f":"L46-'A3-FinPerf V'!K39","v":6.9865435361862183E-3}]
[]
["Total revenue",null,{"$f":"C22+SUM(C39:C41)","v":45576624},90879214,39385108,60555255.044210523,59913496.684210524,59913496.684210524,55515496.684210524,64205370.480000004,69998907.527999997,76998798.2808]

{"sheet":"A5-Capex","index":12,"n_rows":85,"n_cols":12,"rows_kept":85,"cut":false,"hidden":false,"merged":[[1,9,1,11],[1,5,1,8],[82,0,82,11],[77,0,77,11],[76,0,76,11],[78,0,78,11]]}
[{"$f":"muni&\" - \"&Approve5","v":"DC16 Xhariep - Table A5 Budgeted Capital Expenditure by vote, standard classification and funding"}]
[{"$f":"Vdesc","v":"Vote Description"},{"$f":"head27","v":"Ref"},{"$f":"head1b","v":"2010/11"},{"$f":"head1A","v":"2011/12"},{"$f":"Head1","v":"2012/13"},{"$f":"Head2","v":"Current Year 2013/14"},null,null,null,{"$f":"Head3","v":"2014/15 Medium Term Revenue & Expenditure Framework"}]
["R thousand",1,{"$f":"Head5","v":"Audited Outcome"},{"$f":"Head5","v":"Audited Outcome"},{"$f":"Head5","v":"Audited Outcome"},{"$f":"Head6","v":"Original Budget"},{"$f":"Head7","v":"Adjusted Budget"},{"$f":"Head8","v":"Full Year Forecast"},{"$f":"Head5b","v":"Pre-audit outcome"},{"$f":"Head9","v":"Budget Year 2014/15"},{"$f":"Head10","v":"Budget Year +1 2015/16"},{"$f":"Head11","v":"Budget Year +2 2016/17"}]
["Capital expenditure - Vote"]
["Multi-year expenditure  to be appropriated",2]
[{"$f":"A5A!A6","v":"Vote 1 - General Council"},null,{"$f":"A5A!C6","v":0},{"$f":"A5A!D6","v":0},{"$f":"A5A!E6","v":0},{"$f":"A5A!F6","v":0},{"$f":"A5A!G6","v":0},{"$f":"A5A!H6","v":0},{"$f":"A5A!I6","v":0},{"$f":"A5A!J6","v":0},{"$f":"A5A!K6","v":0},{"$f":"A5A!L6","v":0}]
[{"$f":"A5A!A17","v":"Vote 2 - Municipal Manager"},null,{"$f":"A5A!C17","v":0},{"$f":"A5A!D17","v":0},{"$f":"A5A!E17","v":0},{"$f":"A5A!F17","v":0},{"$f":"A5A!G17","v":0},{"$f":"A5A!H17","v":0},{"$f":"A5A!I17","v":0},{"$f":"A5A!J17","v":0},{"$f":"A5A!K17","v":0},{"$f":"A5A!L17","v":0}]
[{"$f":"A5A!A28","v":"Vote 3 - Budget & Treasury Office"},null,{"$f":"A5A!C28","v":0},{"$f":"A5A!D28","v":0},{"$f":"A5A!E28","v":0},{"$f":"A5A!F28","v":0},{"$f":"A5A!G28","v":0},{"$f":"A5A!H28","v":0},{"$f":"A5A!I28","v":0},{"$f":"A5A!J28","v":0},{"$f":"A5A!K28","v":0},{"$f":"A5A!L28","v":0}]
[{"$f":"A5A!A39","v":"Vote 4 - Planning & Development"},null,{"$f":"A5A!C39","v":0},{"$f":"A5A!D39","v":0},{"$f":"A5A!E39","v":0},{"$f":"A5A!F39","v":0},{"$f":"A5A!G39","v":0},{"$f":"A5A!H39","v":0},{"$f":"A5A!I39","v":0},{"$f":"A5A!J39","v":0},{"$f":"A5A!K39","v":0},{"$f":"A5A!L39","v":0}]
[{"$f":"A5A!A50","v":"Vote 5 - Corporate Services"},null,{"$f":"A5A!C50","v":0},{"$f":"A5A!D50","v":0},{"$f":"A5A!E50","v":0},{"$f":"A5A!F50","v":0},{"$f":"A5A!G50","v":0},{"$f":"A5A!H50","v":0},{"$f":"A5A!I50","v":0},{"$f":"A5A!J50","v":0},{"$f":"A5A!K50","v":0},{"$f":"A5A!L50","v":0}]
[{"$f":"A5A!A61","v":"Vote 6 - [NAME OF VOTE 6]"},null,{"$f":"A5A!C61","v":0},{"$f":"A5A!D61","v":0},{"$f":"A5A!E61","v":0},{"$f":"A5A!F61","v":0},{"$f":"A5A!G61","v":0},{"$f":"A5A!H61","v":0},{"$f":"A5A!I61","v":0},{"$f":"A5A!J61","v":0},{"$f":"A5A!K61","v":0},{"$f":"A5A!L61","v":0}]
[{"$f":"A5A!A72","v":"Vote 7 - [NAME OF VOTE 7]"},null,{"$f":"A5A!C72","v":0},{"$f":"A5A!D72","v":0},{"$f":"A5A!E72","v":0},{"$f":"A5A!F72","v":0},{"$f":"A5A!G72","v":0},{"$f":"A5A!H72","v":0},{"$f":"A5A!I72","v":0},{"$f":"A5A!J72","v":0},{"$f":"A5A!K72","v":0},{"$f":"A5A!L72","v":0}]
[{"$f":"A5A!A83","v":"Vote 8 - [NAME OF VOTE 8]"},null,{"$f":"A5A!C83","v":0},{"$f":"A5A!D83","v":0},{"$f":"A5A!E83","v":0},{"$f":"A5A!F83","v":0},{"$f":"A5A!G83","v":0},{"$f":"A5A!H83","v":0},{"$f":"A5A!I83","v":0},{"$f":"A5A!J83","v":0},{"$f":"A5A!K83","v":0},{"$f":"A5A!L83","v":0}]
[{"$f":"A5A!A94","v":"Vote 9 - [NAME OF VOTE 9]"},null,{"$f":"A5A!C94","v":0},{"$f":"A5A!D94","v":0},{"$f":"A5A!E94","v":0},{"$f":"A5A!F94","v":0},{"$f":"A5A!G94","v":0},{"$f":"A5A!H94","v":0},{"$f":"A5A!I94","v":0},{"$f":"A5A!J94","v":0},{"$f":"A5A!K94","v":0},{"$f":"A5A!L94","v":0}]
[{"$f":"A5A!A105","v":"Vote 10 - [NAME OF VOTE 10]"},null,{"$f":"A5A!C105","v":0},{"$f":"A5A!D105","v":0},{"$f":"A5A!E105","v":0},{"$f":"A5A!F105","v":0},{"$f":"A5A!G105","v":0},{"$f":"A5A!H105","v":0},{"$f":"A5A!I105","v":0},{"$f":"A5A!J105","v":0},{"$f":"A5A!K105","v":0},{"$f":"A5A!L105","v":0}]
[{"$f":"A5A!A116","v":"Vote 11 - [NAME OF VOTE 11]"},null,{"$f":"A5A!C116","v":0},{"$f":"A5A!D116","v":0},{"$f":"A5A!E116","v":0},{"$f":"A5A!F116","v":0},{"$f":"A5A!G116","v":0},{"$f":"A5A!H116","v":0},{"$f":"A5A!I116","v":0},{"$f":"A5A!J116","v":0},{"$f":"A5A!K116","v":0},{"$f":"A5A!L116","v":0}]
[{"$f":"A5A!A127","v":"Vote 12 - [NAME OF VOTE 12]"},null,{"$f":"A5A!C127","v":0},{"$f":"A5A!D127","v":0},{"$f":"A5A!E127","v":0},{"$f":"A5A!F127","v":0},{"$f":"A5A!G127","v":0},{"$f":"A5A!H127","v":0},{"$f":"A5A!I127","v":0},{"$f":"A5A!J127","v":0},{"$f":"A5A!K127","v":0},{"$f":"A5A!L127","v":0}]
[{"$f":"A5A!A138","v":"Vote 13 - [NAME OF VOTE 13]"},null,{"$f":"A5A!C138","v":0},{"$f":"A5A!D138","v":0},{"$f":"A5A!E138","v":0},{"$f":"A5A!F138","v":0},{"$f":"A5A!G138","v":0},{"$f":"A5A!H138","v":0},{"$f":"A5A!I138","v":0},{"$f":"A5A!J138","v":0},{"$f":"A5A!K138","v":0},{"$f":"A5A!L138","v":0}]
[{"$f":"A5A!A149","v":"Vote 14 - [NAME OF VOTE 14]"},null,{"$f":"A5A!C149","v":0},{"$f":"A5A!D149","v":0},{"$f":"A5A!E149","v":0},{"$f":"A5A!F149","v":0},{"$f":"A5A!G149","v":0},{"$f":"A5A!H149","v":0},{"$f":"A5A!I149","v":0},{"$f":"A5A!J149","v":0},{"$f":"A5A!K149","v":0},{"$f":"A5A!L149","v":0}]
[{"$f":"A5A!A160","v":"Vote 15 - [NAME OF VOTE 15]"},null,{"$f":"A5A!C160","v":0},{"$f":"A5A!D160","v":0},{"$f":"A5A!E160","v":0},{"$f":"A5A!F160","v":0},{"$f":"A5A!G160","v":0},{"$f":"A5A!H160","v":0},{"$f":"A5A!I160","v":0},{"$f":"A5A!J160","v":0},{"$f":"A5A!K160","v":0},{"$f":"A5A!L160","v":0}]
["Capital multi-year expenditure sub-total",7,{"$f":"SUM(C6:C20)","v":0},{"$f":"SUM(D6:D20)","v":0},0,0,0,{"$f":"SUM(H6:H20)","v":0},0,0,0,0]
[]
["Single-year expenditure to be appropriated",2]
[{"$f":"A6","v":"Vote 1 - General Council"},null,{"$f":"A5A!C175","v":0},{"$f":"A5A!D175","v":0},{"$f":"A5A!E175","v":0},{"$f":"A5A!F175","v":5000.0000000000009},{"$f":"A5A!G175","v":55115},{"$f":"A5A!H175","v":55115},{"$f":"A5A!I175","v":55115},{"$f":"A5A!J175","v":1070000},{"$f":"A5A!K175","v":0},{"$f":"A5A!L175","v":0}]
[{"$f":"A7","v":"Vote 2 - Municipal Manager"},null,{"$f":"A5A!C186","v":0},{"$f":"A5A!D186","v":0},{"$f":"A5A!E186","v":905854},{"$f":"A5A!F186","v":25000},{"$f":"A5A!G186","v":4666.6666666666715},{"$f":"A5A!H186","v":4666.6666666666715},{"$f":"A5A!I186","v":4666.6666666666715},{"$f":"A5A!J186","v":25000},{"$f":"A5A!K186","v":0},{"$f":"A5A!L186","v":0}]
["Vote 3 - Budget & Treasury Office",null,{"$f":"A5A!C197","v":687893},{"$f":"A5A!D197","v":666676},{"$f":"A5A!E197","v":1175141},{"$f":"A5A!F197","v":635000},{"$f":"A5A!G197","v":934252.99703703704},{"$f":"A5A!H197","v":934252.99703703704},{"$f":"A5A!I197","v":934252.99703703704},{"$f":"A5A!J197","v":570000},{"$f":"A5A!K197","v":627000},{"$f":"A5A!L197","v":689700}]
["Vote 4 - Planning & Development",null,{"$f":"A5A!C208","v":733291},{"$f":"A5A!D208","v":2096675},{"$f":"A5A!E208","v":1586391},{"$f":"A5A!F208","v":449695.65217391378},{"$f":"A5A!G208","v":41844.000000000116},{"$f":"A5A!H208","v":41844.000000000116},{"$f":"A5A!I208","v":41844.000000000116},{"$f":"A5A!J208","v":55000},{"$f":"A5A!K208","v":60500.000000000007},{"$f":"A5A!L208","v":66550.000000000015}]
["Vote 5 - Corporate Services",null,{"$f":"A5A!C219","v":4190194},{"$f":"A5A!D219","v":4711538},{"$f":"A5A!E219","v":16409325},{"$f":"A5A!F219","v":1935000},{"$f":"A5A!G219","v":288700.99999999977},{"$f":"A5A!H219","v":288700.99999999977},{"$f":"A5A!I219","v":288700.99999999977},{"$f":"A5A!J219","v":25000},{"$f":"A5A!K219","v":27500.000000000004},{"$f":"A5A!L219","v":30250.000000000007}]
["Vote 6 - [NAME OF VOTE 6]",null,{"$f":"A5A!C230","v":0},{"$f":"A5A!D230","v":0},{"$f":"A5A!E230","v":0},{"$f":"A5A!F230","v":0},{"$f":"A5A!G230","v":0},{"$f":"A5A!H230","v":0},{"$f":"A5A!I230","v":0},{"$f":"A5A!J230","v":0},{"$f":"A5A!K230","v":0},{"$f":"A5A!L230","v":0}]
["Vote 7 - [NAME OF VOTE 7]",null,{"$f":"A5A!C241","v":0},{"$f":"A5A!D241","v":0},{"$f":"A5A!E241","v":0},{"$f":"A5A!F241","v":0},{"$f":"A5A!G241","v":0},{"$f":"A5A!H241","v":0},{"$f":"A5A!I241","v":0},{"$f":"A5A!J241","v":0},{"$f":"A5A!K241","v":0},{"$f":"A5A!L241","v":0}]
["Vote 8 - [NAME OF VOTE 8]",null,{"$f":"A5A!C252","v":0},{"$f":"A5A!D252","v":0},{"$f":"A5A!E252","v":0},{"$f":"A5A!F252","v":0},{"$f":"A5A!G252","v":0},{"$f":"A5A!H252","v":0},{"$f":"A5A!I252","v":0},{"$f":"A5A!J252","v":0},{"$f":"A5A!K252","v":0},{"$f":"A5A!L252","v":0}]
["Vote 9 - [NAME OF VOTE 9]",null,{"$f":"A5A!C263","v":0},{"$f":"A5A!D263","v":0},{"$f":"A5A!E263","v":0},{"$f":"A5A!F263","v":0},{"$f":"A5A!G263","v":0},{"$f":"A5A!H263","v":0},{"$f":"A5A!I263","v":0},{"$f":"A5A!J263","v":0},{"$f":"A5A!K263","v":0},{"$f":"A5A!L263","v":0}]
["Vote 10 - [NAME OF VOTE 10]",null,{"$f":"A5A!C274","v":0},{"$f":"A5A!D274","v":0},{"$f":"A5A!E274","v":0},{"$f":"A5A!F274","v":0},{"$f":"A5A!G274","v":0},{"$f":"A5A!H274","v":0},{"$f":"A5A!I274","v":0},{"$f":"A5A!J274","v":0},{"$f":"A5A!K274","v":0},{"$f":"A5A!L274","v":0}]
["Vote 11 - [NAME OF VOTE 11]",null,{"$f":"A5A!C285","v":0},{"$f":"A5A!D285","v":0},{"$f":"A5A!E285","v":0},{"$f":"A5A!F285","v":0},{"$f":"A5A!G285","v":0},{"$f":"A5A!H285","v":0},{"$f":"A5A!I285","v":0},{"$f":"A5A!J285","v":0},{"$f":"A5A!K285","v":0},{"$f":"A5A!L285","v":0}]
["Vote 12 - [NAME OF VOTE 12]",null,{"$f":"A5A!C296","v":0},{"$f":"A5A!D296","v":0},{"$f":"A5A!E296","v":0},{"$f":"A5A!F296","v":0},{"$f":"A5A!G296","v":0},{"$f":"A5A!H296","v":0},{"$f":"A5A!I296","v":0},{"$f":"A5A!J296","v":0},{"$f":"A5A!K296","v":0},{"$f":"A5A!L296","v":0}]
["Vote 13 - [NAME OF VOTE 13]",null,{"$f":"A5A!C307","v":0},{"$f":"A5A!D307","v":0},{"$f":"A5A!E307","v":0},{"$f":"A5A!F307","v":0},{"$f":"A5A!G307","v":0},{"$f":"A5A!H307","v":0},{"$f":"A5A!I307","v":0},{"$f":"A5A!J307","v":0},{"$f":"A5A!K307","v":0},{"$f":"A5A!L307","v":0}]
["Vote 14 - [NAME OF VOTE 14]",null,{"$f":"A5A!C318","v":0},{"$f":"A5A!D318","v":0},{"$f":"A5A!E318","v":0},{"$f":"A5A!F318","v":0},{"$f":"A5A!G318","v":0},{"$f":"A5A!H318","v":0},{"$f":"A5A!I318","v":0},{"$f":"A5A!J318","v":0},{"$f":"A5A!K318","v":0},{"$f":"A5A!L318","v":0}]
[{"$f":"A20","v":"Vote 15 - [NAME OF VOTE 15]"},null,{"$f":"A5A!C329","v":0},{"$f":"A5A!D329","v":0},{"$f":"A5A!E329","v":0},{"$f":"A5A!F329","v":0},{"$f":"A5A!G329","v":0},{"$f":"A5A!H329","v":0},{"$f":"A5A!I329","v":0},{"$f":"A5A!J329","v":0},{"$f":"A5A!K329","v":0},{"$f":"A5A!L329","v":0}]
["Capital single-year expenditure sub-total",null,{"$f":"SUM(C24:C38)","v":5611378},{"$f":"SUM(D24:D38)","v":7474889},20076711,3049695.652173914,1324579.6637037036,1324579.6637037036,1324579.6637037036,1745000,715000,786500]
["Total Capital Expenditure - Vote",null,{"$f":"C39+C21","v":5611378},{"$f":"D39+D21","v":7474889},20076711,3049695.652173914,1324579.6637037036,1324579.6637037036,1324579.6637037036,1745000,715000,786500]
[]
["Capital Expenditure - Standard"]
["Governance and administration",null,{"$f":"SUM(C44:C46)","v":5611378},{"$f":"SUM(D44:D46)","v":7474889},20077000,2600000,1283068.9970370368,1283068.9970370368,1283068.9970370368,1690000,654500,719950]
["Executive and council",null,null,null,null,30000,60115,60115,60115,{"$f":"525000+570000","v":1095000},0,0]
["Budget and treasury office",null,5611378,7474889,20077000,635000,934252.99703703704,934252.99703703704,934252.99703703704,570000,{"$f":"J45*1.1","v":627000},689700]
["Corporate services",null,null,null,null,1935000,288700.99999999977,288700.99999999977,288700.99999999977,25000,{"$f":"J46*1.1","v":27500.000000000004},30250.000000000007]
["Community and public safety",null,{"$f":"SUM(C48:C52)","v":0},{"$f":"SUM(D48:D52)","v":0},0,0,0,0,0,0,0,0]
["Community and social services"]
["Sport and recreation"]
["Public safety"]
["Housing"]
["Health"]
["Economic and environmental services",null,{"$f":"SUM(C54:C56)","v":0},{"$f":"SUM(D54:D56)","v":0},0,1890000,41510.700000000099,41510.700000000099,41510.700000000099,55000,60500.000000000007,66550.000000000015]
["Planning and development",null,null,null,null,{"$f":"1890000","v":1890000},41510.700000000099,41510.700000000099,41510.700000000099,{"$f":"1907000-1852000","v":55000},{"$f":"J54*1.1","v":60500.000000000007},{"$f":"K54*1.1","v":66550.000000000015}]
["Road transport"]
["Environmental protection"]
["Trading services",null,{"$f":"SUM(C58:C61)","v":0},{"$f":"SUM(D58:D61)","v":0},0,0,0,0,0,0,0,0]
["Electricity"]
["Water"]
["Waste water management"]
["Waste management"]
["Other"]
["Total Capital Expenditure - Standard",3,{"$f":"C43+C47+C53+C57+C62","v":5611378},{"$f":"D43+D47+D53+D57+D62","v":7474889},20077000,4490000,1324579.697037037,1324579.697037037,1324579.697037037,1745000,715000,{"$f":"L43+L47+L53+L57+L62","v":786500}]
[]
["Funded by:"]
["National Government",null,5611378,7474889,20076711,null,1324579.697037037,1324579.69703704,1324579.69703704,{"$f":"1675000+70000","v":1745000},{"$f":"650000*1.1","v":715000},{"$f":"K66*1.1","v":786500.00000000012}]
["Provincial Government",null,null,null,null,{"$f":"4346000-1296304","v":3049696}]
["District Municipality"]
["Other transfers and grants"]
["Transfers recognised - capital",4,{"$f":"SUM(C66:C69)","v":5611378},7474889,20076711,3049696,1324579.697037037,1324579.69703704,1324579.69703704,1745000,715000,786500.00000000012]
["Public contributions & donations",5]
["Borrowing",6]
["Internally generated funds"]
["Total Capital Funding",7,{"$f":"SUM(C70:C73)","v":5611378},7474889,20076711,3049696,1324579.697037037,1324579.69703704,1324579.69703704,1745000,715000,786500.00000000012]
[{"$f":"head27a","v":"References"}]
["1. Municipalities may choose to appropriate for capital expenditure for three years or for one year (if one year appropriation projected expenditure required for yr2 and yr3)."]
["2. Include capital component of PPP unitary payment. Note that capital transfers are only appropriated to municipalities for the budget year"]
["3. Capital expenditure by standard classification must reconcile to the appropriations by vote"]
["4. Must reconcile to supporting table SA20 and to Budgeted Financial Performance (revenue and expenditure)"]
["5. Must reconcile to Budgeted Financial Performance (revenue and expenditure)"]
["6. Include finance leases and PPP capital funding component of unitary payment - total borrowing/repayments to reconcile to changes in Table SA17"]
["7. Total Capital Funding must balance with Total Capital Expenditure"]
["8. Include any capitalised interest (MFMA section 46) as part of relevant capital budget"]
[]
["check balance",null,{"$f":"C40-C74","v":0},{"$f":"D40-D74","v":0},0,-0.34782608598470688,-3.3333333441987634E-2,-3.3333336468786001E-2,-3.3333336468786001E-2,0,0,0]

{"sheet":"A5A","index":13,"n_rows":341,"n_cols":24,"rows_kept":341,"cut":false,"hidden":false,"merged":[[1,5,1,8],[1,9,1,11],[1,13,1,16],[1,17,1,20],[1,21,1,23]]}
[{"$f":"muni&\" - \"&Approve5","v":"DC16 Xhariep - Table A5 Budgeted Capital Expenditure by vote, standard classification and funding"}]
[{"$f":"Vdesc","v":"Vote Description"},{"$f":"head27","v":"Ref"},{"$f":"head1b","v":"2010/11"},{"$f":"head1A","v":"2011/12"},{"$f":"Head1","v":"2012/13"},{"$f":"Head2","v":"Current Year 2013/14"},null,null,null,{"$f":"Head3","v":"2014/15 Medium Term Revenue & Expenditure Framework"},null,null,null,"Multi-year appropriation for 2012/13 \nin the 2011/12 Annual Budget",null,null,null,"Multi-year appropriation for 2013/14 \nin the 2011/12 Annual Budget",null,null,null,"New multi-year appropriations \n(funds for new and existing projects) "]
["R thousand",1,{"$f":"Head5","v":"Audited Outcome"},{"$f":"Head5","v":"Audited Outcome"},{"$f":"Head5","v":"Audited Outcome"},{"$f":"Head6","v":"Original Budget"},{"$f":"Head7","v":"Adjusted Budget"},{"$f":"Head8","v":"Full Year Forecast"},{"$f":"Head5b","v":"Pre-audit outcome"},{"$f":"Head9","v":"Budget Year 2014/15"},{"$f":"Head10","v":"Budget Year +1 2015/16"},{"$f":"Head11","v":"Budget Year +2 2016/17"},null,"Appropriation for 2012/13","Adjustments in 2011/12","Downward adjustments for 2012/13","Appropriation carried forward","Appropriation for 2012/13","Adjustments in 2011/12","Downward adjustments for 2012/13","Appropriation carried forward",{"$f":"Head9","v":"Budget Year 2014/15"},{"$f":"Head10","v":"Budget Year +1 2015/16"},{"$f":"Head11","v":"Budget Year +2 2016/17"}]
["Capital expenditure - Municipal Vote"]
["Multi-year expenditure appropriation",2]
[{"$f":"'Org structure'!A2","v":"Vote 1 - General Council"},null,{"$f":"SUM(C7:C16)","v":0},{"$f":"SUM(D7:D16)","v":0},0,0,0,0,{"$f":"SUM(I7:I16)","v":0},0,0,0,null,{"$f":"SUM(N7:N16)","v":0},0,0,0,0,0,0,0,{"$f":"SUM(V7:V16)","v":0},{"$f":"SUM(W7:W16)","v":0},{"$f":"SUM(X7:X16)","v":0}]
[{"$f":"'Org structure'!E3","v":"1.1 - Mayor"},null,null,null,null,null,null,null,null,{"$f":"Q7+V7","v":0},{"$f":"U7+W7","v":0},{"$f":"X7","v":0},null,null,null,null,{"$f":"SUM(N7:P7)","v":0},null,null,null,{"$f":"SUM(R7:T7)","v":0}]
[{"$f":"'Org structure'!E4","v":"1.2 - Speaker"},null,null,null,null,null,null,null,null,{"$f":"Q8+V8","v":0},{"$f":"U8+W8","v":0},{"$f":"X8","v":0},null,null,null,null,{"$f":"SUM(N8:P8)","v":0},null,null,null,{"$f":"SUM(R8:T8)","v":0}]
[{"$f":"'Org structure'!E5","v":"1.3 - Council"},null,null,null,null,null,null,null,null,{"$f":"Q9+V9","v":0},{"$f":"U9+W9","v":0},0,null,null,null,null,0,null,null,null,0]
[{"$f":"'Org structure'!E6","v":"1.4 Youth Development Programme"},null,null,null,null,null,null,null,null,0,0,0,null,null,null,null,0,null,null,null,0]
[{"$f":"'Org structure'!E7","v":"1.5 Special Programme"},null,null,null,null,null,null,null,null,0,0,{"$f":"X11","v":0},null,null,null,null,0,null,null,null,0]
[{"$f":"'Org structure'!E8","v":"1.6 IGR"},null,null,null,null,null,null,null,null,0,0,0,null,null,null,null,0,null,null,null,0]
[{"$f":"'Org structure'!E9","v":0},null,null,null,null,null,null,null,null,0,0,0,null,null,null,null,0,null,null,null,0]
[{"$f":"'Org structure'!E10","v":0},null,null,null,null,null,null,null,null,0,0,0,null,null,null,null,0,null,null,null,0]
[{"$f":"'Org structure'!E11","v":0},null,null,null,null,null,null,null,null,0,0,0,null,null,null,null,0,null,null,null,0]
[{"$f":"'Org structure'!E12","v":0},null,null,null,null,null,null,null,null,0,0,0,null,null,null,null,0,null,null,null,0]
[{"$f":"'Org structure'!A3","v":"Vote 2 - Municipal Manager"},null,{"$f":"SUM(C18:C27)","v":0},{"$f":"SUM(D18:D27)","v":0},0,0,0,0,{"$f":"SUM(I18:I27)","v":0},0,0,0,null,{"$f":"SUM(N18:N27)","v":0},0,0,0,0,0,0,0,0,0,0]
[{"$f":"'Org structure'!E14","v":"2.1 - Office of the Municipal Manager"},null,null,null,null,null,null,null,null,{"$f":"Q18+V18","v":0},{"$f":"U18+W18","v":0},{"$f":"X18","v":0},null,null,null,null,{"$f":"SUM(N18:P18)","v":0},null,null,null,0]
[{"$f":"'Org structure'!E15","v":"2.2 - Internal Audit"},null,null,null,null,null,null,null,null,{"$f":"Q19+V19","v":0},{"$f":"U19+W19","v":0},0,null,null,null,null,0,null,null,null,0]
[{"$f":"'Org structure'!E16","v":"2.3 - Performance and Monitoring Management"},null,null,null,null,null,null,null,null,0,0,0,null,null,null,null,0,null,null,null,0]
[{"$f":"'Org structure'!E17","v":"2.4 - Risk Office"},null,null,null,null,null,null,null,null,0,{"$f":"U21+W21","v":0},0,null,null,null,null,0,null,null,null,0]
[{"$f":"'Org structure'!E18","v":"2.5 - Disaster management "},null,null,null,null,null,null,null,null,0,0,0,null,null,null,null,0,null,null,null,0]
[{"$f":"'Org structure'!E19","v":0},null,null,null,null,null,null,null,null,0,0,0,null,null,null,null,0,null,null,null,0]
[{"$f":"'Org structure'!E20","v":0},null,null,null,null,null,null,null,null,0,0,0,null,null,null,null,0,null,null,null,0]
[{"$f":"'Org structure'!E21","v":0},null,null,null,null,null,null,null,null,0,0,0,null,null,null,null,0,null,null,null,0]
[{"$f":"'Org structure'!E22","v":0},null,null,null,null,null,null,null,null,0,0,0,null,null,null,null,0,null,null,null,0]
[{"$f":"'Org structure'!E23","v":0},null,null,null,null,null,null,null,null,0,0,0,null,null,null,null,0,null,null,null,0]
[{"$f":"'Org structure'!A4","v":"Vote 3 - Budget & Treasury Office"},null,{"$f":"SUM(C29:C38)","v":0},{"$f":"SUM(D29:D38)","v":0},0,0,0,0,{"$f":"SUM(I29:I38)","v":0},0,0,0,null,{"$f":"SUM(N29:N38)","v":0},0,0,0,0,0,0,0,0,0,0]
[{"$f":"'Org structure'!E25","v":"3.1 - Office of the CFO"},null,null,null,null,null,null,null,null,{"$f":"Q29+V29","v":0},{"$f":"U29+W29","v":0},{"$f":"X29","v":0},null,null,null,null,{"$f":"SUM(N29:P29)","v":0},null,null,null,0]
[{"$f":"'Org structure'!E26","v":"3.2 - Supply Chain Management"},null,null,null,null,null,null,null,null,0,0,0,null,null,null,null,0,null,null,null,0]
[{"$f":"'Org structure'!E27","v":"3.3 - Expenditure"},null,null,null,null,null,null,null,null,0,0,0,null,null,null,null,0,null,null,null,{"$f":"SUM(R31:T31)","v":0}]
[{"$f":"'Org structure'!E28","v":"3.4 - Budget & Reporting "},null,null,null,null,null,null,null,null,0,{"$f":"U32+W32","v":0},0,null,null,null,null,0,null,null,null,0]
[{"$f":"'Org structure'!E29","v":"3.5 - FMG Projects"},null,null,null,null,null,null,null,null,{"$f":"Q33+V33","v":0},0,0,null,null,null,null,0,null,null,null,0]
[{"$f":"'Org structure'!E30","v":0},null,null,null,null,null,null,null,null,0,0,0,null,null,null,null,0,null,null,null,0]
[{"$f":"'Org structure'!E31","v":0},null,null,null,null,null,null,null,null,0,0,0,null,null,null,null,0,null,null,null,0]
[{"$f":"'Org structure'!E32","v":0},null,null,null,null,null,null,null,null,0,0,0,null,null,null,null,0,null,null,null,0]
[{"$f":"'Org structure'!E33","v":0},null,null,null,null,null,null,null,null,0,0,0,null,null,null,null,0,null,null,null,0]
[{"$f":"'Org structure'!E34","v":0},null,null,null,null,null,null,null,null,0,0,0,null,null,null,null,0,null,null,null,0]
[{"$f":"'Org structure'!A5","v":"Vote 4 - Planning & Development"},null,{"$f":"SUM(C40:C49)","v":0},{"$f":"SUM(D40:D49)","v":0},0,0,0,0,{"$f":"SUM(I40:I49)","v":0},0,0,0,null,{"$f":"SUM(N40:N49)","v":0},0,0,0,0,0,0,0,0,0,0]
[{"$f":"'Org structure'!E36","v":"4.1 - Office of the Director - Planning and Development"},null,null,null,null,null,null,null,null,{"$f":"Q40+V40","v":0},{"$f":"U40+W40","v":0},{"$f":"X40","v":0},null,null,null,null,{"$f":"SUM(N40:P40)","v":0},null,null,null,0]
[{"$f":"'Org structure'!E37","v":"4.2 - Economic Development"},null,null,null,null,null,null,null,null,0,0,0,null,null,null,null,0,null,null,null,0]
[{"$f":"'Org structure'!E38","v":"4.4 - Development Planning"},null,null,null,null,null,null,null,null,0,0,0,null,null,null,null,0,null,null,null,0]
[{"$f":"'Org structure'!E39","v":"4.5 - Municipal Health"},null,null,null,null,null,null,null,null,0,0,0,null,null,null,null,0,null,null,null,0]
[{"$f":"'Org structure'!E40","v":0},null,null,null,null,null,null,null,null,0,0,0,null,null,null,null,0,null,null,null,0]
[{"$f":"'Org structure'!E41","v":0},null,null,null,null,null,null,null,null,0,0,0,null,null,null,null,0,null,null,null,0]
[{"$f":"'Org structure'!E42","v":0},null,null,null,null,null,null,null,null,0,0,0,null,null,null,null,0,null,null,null,0]
[{"$f":"'Org structure'!E43","v":0},null,null,null,null,null,null,null,null,0,0,0,null,null,null,null,0,null,null,null,0]
[{"$f":"'Org structure'!E44","v":0},null,null,null,null,null,null,null,null,0,0,0,null,null,null,null,0,null,null,null,0]
[{"$f":"'Org structure'!E45","v":0},null,null,null,null,null,null,null,null,0,0,0,null,null,null,null,0,null,null,null,0]
[{"$f":"'Org structure'!A6","v":"Vote 5 - Corporate Services"},null,{"$f":"SUM(C51:C60)","v":0},{"$f":"SUM(D51:D60)","v":0},0,0,0,0,{"$f":"SUM(I51:I60)","v":0},0,0,0,null,{"$f":"SUM(N51:N60)","v":0},0,0,0,0,0,0,0,0,0,0]
[{"$f":"'Org structure'!E47","v":"5.1 - Office of the Director - Corporate Services"},null,null,null,null,null,null,null,null,{"$f":"Q51+V51","v":0},{"$f":"U51+W51","v":0},{"$f":"X51","v":0},null,null,null,null,{"$f":"SUM(N51:P51)","v":0},null,null,null,0]
[{"$f":"'Org structure'!E48","v":"5.2 - Administration"},null,null,null,null,null,null,null,null,0,0,0,null,null,null,null,0,null,null,null,0]
[{"$f":"'Org structure'!E49","v":"5.3 - Information Technology"},null,null,null,null,null,null,null,null,0,0,0,null,null,null,null,0,null,null,null,0]
[{"$f":"'Org structure'!E50","v":"5.4 - Property Services"},null,null,null,null,null,null,null,null,0,0,0,null,null,null,null,0,null,null,null,0]
[{"$f":"'Org structure'!E51","v":"5.5 - Human Resources"},null,null,null,null,null,null,null,null,0,0,0,null,null,null,null,0,null,null,null,0]
[{"$f":"'Org structure'!E52","v":0},null,null,null,null,null,null,null,null,0,0,0,null,null,null,null,0,null,null,null,0]
[{"$f":"'Org structure'!E53","v":0},null,null,null,null,null,null,null,null,0,0,0,null,null,null,null,0,null,null,null,0]
[{"$f":"'Org structure'!E54","v":0},null,null,null,null,null,null,null,null,0,0,0,null,null,null,null,0,null,null,null,0]
[{"$f":"'Org structure'!E55","v":0},null,null,null,null,null,null,null,null,0,0,0,null,null,null,null,0,null,null,null,0]
[{"$f":"'Org structure'!E56","v":0},null,null,null,null,null,null,null,null,0,0,0,null,null,null,null,0,null,null,null,0]
[{"$f":"'Org structure'!A7","v":"Vote 6 - [NAME OF VOTE 6]"},null,{"$f":"SUM(C62:C71)","v":0},{"$f":"SUM(D62:D71)","v":0},0,0,0,0,{"$f":"SUM(I62:I71)","v":0},0,0,0,null,{"$f":"SUM(N62:N71)","v":0},0,0,0,0,0,0,0,0,0,0]
[{"$f":"'Org structure'!E58","v":"6.1 - [Name of sub-vote]"},null,null,null,null,null,null,null,null,{"$f":"Q62+V62","v":0},{"$f":"U62+W62","v":0},{"$f":"X62","v":0},null,null,null,null,{"$f":"SUM(N62:P62)","v":0},null,null,null,0]
[{"$f":"'Org structure'!E59","v":0},null,null,null,null,null,null,null,null,0,0,0,null,null,null,null,0,null,null,null,0]
[{"$f":"'Org structure'!E60","v":0},null,null,null,null,null,null,null,null,0,0,0,null,null,null,null,0,null,null,null,0]
[{"$f":"'Org structure'!E61","v":0},null,null,null,null,null,null,null,null,0,0,0,null,null,null,null,0,null,null,null,0]
[{"$f":"'Org structure'!E62","v":0},null,null,null,null,null,null,null,null,0,0,0,null,null,null,null,0,null,null,null,0]
[{"$f":"'Org structure'!E63","v":0},null,null,null,null,null,null,null,null,0,0,0,null,null,null,null,0,null,null,null,0]
[{"$f":"'Org structure'!E64","v":0},null,null,null,null,null,null,null,null,0,0,0,null,null,null,null,0,null,null,null,0]
[{"$f":"'Org structure'!E65","v":0},null,null,null,null,null,null,null,null,0,0,0,null,null,null,null,0,null,null,null,0]
[{"$f":"'Org structure'!E66","v":0},null,null,null,null,null,null,null,null,0,0,0,null,null,null,null,0,null,null,null,0]
[{"$f":"'Org structure'!E67","v":0},null,null,null,null,null,null,null,null,0,0,0,null,null,null,null,0,null,null,null,0]
[{"$f":"'Org structure'!A8","v":"Vote 7 - [NAME OF VOTE 7]"},null,{"$f":"SUM(C73:C82)","v":0},0,0,0,0,0,0,0,0,0,null,{"$f":"SUM(N73:N82)","v":0},0,0,0,0,0,0,0,0,0,0]
[{"$f":"'Org structure'!E69","v":"7.1 - [Name of sub-vote]"},null,null,null,null,null,null,null,null,{"$f":"Q73+V73","v":0},{"$f":"U73+W73","v":0},{"$f":"X73","v":0},null,null,null,null,{"$f":"SUM(N73:P73)","v":0},null,null,null,{"$f":"SUM(R73:T73)","v":0}]
[{"$f":"'Org structure'!E70","v":0},null,null,null,null,null,null,null,null,0,0,0,null,null,null,null,0,null,null,null,0]
[{"$f":"'Org structure'!E71","v":0},null,null,null,null,null,null,null,null,0,0,0,null,null,null,null,0,null,null,null,0]
[{"$f":"'Org structure'!E72","v":0},null,null,null,null,null,null,null,null,0,0,0,null,null,null,null,0,null,null,null,0]
[{"$f":"'Org structure'!E73","v":0},null,null,null,null,null,null,null,null,0,0,0,null,null,null,null,0,null,null,null,0]
[{"$f":"'Org structure'!E74","v":0},null,null,null,null,null,null,null,null,0,0,0,null,null,null,null,0,null,null,null,0]
[{"$f":"'Org structure'!E75","v":0},null,null,null,null,null,null,null,null,0,0,0,null,null,null,null,0,null,null,null,0]
[{"$f":"'Org structure'!E76","v":0},null,null,null,null,null,null,null,null,0,0,0,null,null,null,null,0,null,null,null,0]
[{"$f":"'Org structure'!E77","v":0},null,null,null,null,null,null,null,null,0,0,0,null,null,null,null,0,null,null,null,0]
[{"$f":"'Org structure'!E78","v":0},null,null,null,null,null,null,null,null,0,0,0,null,null,null,null,0,null,null,null,0]
[{"$f":"'Org structure'!A9","v":"Vote 8 - [NAME OF VOTE 8]"},null,{"$f":"SUM(C84:C93)","v":0},0,0,0,0,0,0,0,0,0,null,{"$f":"SUM(N84:N93)","v":0},0,0,0,0,0,0,0,0,0,0]
[{"$f":"'Org structure'!E80","v":"8.1 - [Name of sub-vote]"},null,null,null,null,null,null,null,null,{"$f":"Q84+V84","v":0},{"$f":"U84+W84","v":0},{"$f":"X84","v":0},null,null,null,null,{"$f":"SUM(N84:P84)","v":0},null,null,null,0]
[{"$f":"'Org structure'!E81","v":0},null,null,null,null,null,null,null,null,0,0,0,null,null,null,null,0,null,null,null,0]
[{"$f":"'Org structure'!E82","v":0},null,null,null,null,null,null,null,null,0,0,0,null,null,null,null,0,null,null,null,0]
[{"$f":"'Org structure'!E83","v":0},null,null,null,null,null,null,null,null,0,0,0,null,null,null,null,0,null,null,null,0]
[{"$f":"'Org structure'!E84","v":0},null,null,null,null,null,null,null,null,0,0,0,null,null,null,null,0,null,null,null,0]
[{"$f":"'Org structure'!E85","v":0},null,null,null,null,null,null,null,null,0,0,0,null,null,null,null,0,null,null,null,0]
[{"$f":"'Org structure'!E86","v":0},null,null,null,null,null,null,null,null,0,0,0,null,null,null,null,0,null,null,null,0]
[{"$f":"'Org structure'!E87","v":0},null,null,null,null,null,null,null,null,0,0,0,null,null,null,null,0,null,null,null,0]
[{"$f":"'Org structure'!E88","v":0},null,null,null,null,null,null,null,null,0,0,0,null,null,null,null,0,null,null,null,0]
[{"$f":"'Org structure'!E89","v":0},null,null,null,null,null,null,null,null,0,0,0,null,null,null,null,0,null,null,null,0]
[{"$f":"'Org structure'!A10","v":"Vote 9 - [NAME OF VOTE 9]"},null,{"$f":"SUM(C95:C104)","v":0},{"$f":"SUM(D95:D104)","v":0},0,0,0,0,0,0,0,0,null,{"$f":"SUM(N95:N104)","v":0},0,0,0,0,0,0,0,0,0,0]
[{"$f":"'Org structure'!E91","v":"9.1 - [Name of sub-vote]"},null,null,null,null,null,null,null,null,{"$f":"Q95+V95","v":0},{"$f":"U95+W95","v":0},{"$f":"X95","v":0},null,null,null,null,{"$f":"SUM(N95:P95)","v":0},null,null,null,0]
[{"$f":"'Org structure'!E92","v":0},null,null,null,null,null,null,null,null,0,0,0,null,null,null,null,0,null,null,null,0]
[{"$f":"'Org structure'!E93","v":0},null,null,null,null,null,null,null,null,0,0,0,null,null,null,null,0,null,null,null,0]
[{"$f":"'Org structure'!E94","v":0},null,null,null,null,null,null,null,null,0,0,0,null,null,null,null,0,null,null,null,0]
[{"$f":"'Org structure'!E95","v":0},null,null,null,null,null,null,null,null,0,0,0,null,null,null,null,0,null,null,null,0]
[{"$f":"'Org structure'!E96","v":0},null,null,null,null,null,null,null,null,0,0,0,null,null,null,null,0,null,null,null,0]
[{"$f":"'Org structure'!E97","v":0},null,null,null,null,null,null,null,null,0,0,0,null,null,null,null,0,null,null,null,0]
[{"$f":"'Org structure'!E98","v":0},null,null,null,null,null,null,null,null,0,0,0,null,null,null,null,0,null,null,null,0]
[{"$f":"'Org structure'!E99","v":0},null,null,null,null,null,null,null,null,0,0,0,null,null,null,null,0,null,null,null,0]
[{"$f":"'Org structure'!E100","v":0},null,null,null,null,null,null,null,null,0,0,0,null,null,null,null,0,null,null,null,0]
[{"$f":"'Org structure'!A11","v":"Vote 10 - [NAME OF VOTE 10]"},null,{"$f":"SUM(C106:C115)","v":0},{"$f":"SUM(D106:D115)","v":0},0,0,0,0,0,0,0,0,null,{"$f":"SUM(N106:N115)","v":0},0,0,0,0,0,0,0,0,0,0]
[{"$f":"'Org structure'!E102","v":"10.1 - [Name of sub-vote]"},null,null,null,null,null,null,null,null,{"$f":"Q106+V106","v":0},{"$f":"U106+W106","v":0},{"$f":"X106","v":0},null,null,null,null,{"$f":"SUM(N106:P106)","v":0},null,null,null,0]
[{"$f":"'Org structure'!E103","v":0},null,null,null,null,null,null,null,null,0,0,0,null,null,null,null,0,null,null,null,0]
[{"$f":"'Org structure'!E104","v":0},null,null,null,null,null,null,null,null,0,0,0,null,null,null,null,0,null,null,null,0]
[{"$f":"'Org structure'!E105","v":0},null,null,null,null,null,null,null,null,0,0,0,null,null,null,null,0,null,null,null,0]
[{"$f":"'Org structure'!E106","v":0},null,null,null,null,null,null,null,null,0,0,0,null,null,null,null,0,null,null,null,0]
[{"$f":"'Org structure'!E107","v":0},null,null,null,null,null,null,null,null,0,0,0,null,null,null,null,0,null,null,null,0]
[{"$f":"'Org structure'!E108","v":0},null,null,null,null,null,null,null,null,0,0,0,null,null,null,null,0,null,null,null,0]
[{"$f":"'Org structure'!E109","v":0},null,null,null,null,null,null,null,null,0,0,0,null,null,null,null,0,null,null,null,0]
[{"$f":"'Org structure'!E110","v":0},null,null,null,null,null,null,null,null,0,0,0,null,null,null,null,0,null,null,null,0]
[{"$f":"'Org structure'!E111","v":0},null,null,null,null,null,null,null,null,0,0,0,null,null,null,null,0,null,null,null,0]
[{"$f":"'Org structure'!A12","v":"Vote 11 - [NAME OF VOTE 11]"},null,{"$f":"SUM(C117:C126)","v":0},0,0,0,0,0,0,0,0,0,null,{"$f":"SUM(N117:N126)","v":0},0,0,0,0,0,0,0,0,0,0]
[{"$f":"'Org structure'!E113","v":"11.1 - [Name of sub-vote]"},null,null,null,null,null,null,null,null,{"$f":"Q117+V117","v":0},{"$f":"U117+W117","v":0},{"$f":"X117","v":0},null,null,null,null,{"$f":"SUM(N117:P117)","v":0},null,null,null,0]
[{"$f":"'Org structure'!E114","v":0},null,null,null,null,null,null,null,null,0,0,0,null,null,null,null,0,null,null,null,0]
[{"$f":"'Org structure'!E115","v":0},null,null,null,null,null,null,null,null,0,0,0,null,null,null,null,0,null,null,null,0]
[{"$f":"'Org structure'!E116","v":0},null,null,null,null,null,null,null,null,0,0,0,null,null,null,null,0,null,null,null,0]
[{"$f":"'Org structure'!E117","v":0},null,null,null,null,null,null,null,null,0,0,0,null,null,null,null,0,null,null,null,0]
[{"$f":"'Org structure'!E118","v":0},null,null,null,null,null,null,null,null,0,0,0,null,null,null,null,0,null,null,null,0]
[{"$f":"'Org structure'!E119","v":0},null,null,null,null,null,null,null,null,0,0,0,null,null,null,null,0,null,null,null,0]
[{"$f":"'Org structure'!E120","v":0},null,null,null,null,null,null,null,null,0,0,0,null,null,null,null,0,null,null,null,0]
[{"$f":"'Org structure'!E121","v":0},null,null,null,null,null,null,null,null,0,0,0,null,null,null,null,0,null,null,null,0]
[{"$f":"'Org structure'!E122","v":0},null,null,null,null,null,null,null,null,0,0,0,null,null,null,null,0,null,null,null,0]
[{"$f":"'Org structure'!A13","v":"Vote 12 - [NAME OF VOTE 12]"},null,{"$f":"SUM(C128:C137)","v":0},0,0,0,0,0,0,0,0,0,null,{"$f":"SUM(N128:N137)","v":0},0,0,0,0,0,0,0,0,0,0]
[{"$f":"'Org structure'!E124","v":"12.1 - [Name of sub-vote]"},null,null,null,null,null,null,null,null,{"$f":"Q128+V128","v":0},{"$f":"U128+W128","v":0},{"$f":"X128","v":0},null,null,null,null,{"$f":"SUM(N128:P128)","v":0},null,null,null,0]
[{"$f":"'Org structure'!E125","v":0},null,null,null,null,null,null,null,null,0,0,0,null,null,null,null,0,null,null,null,0]
[{"$f":"'Org structure'!E126","v":0},null,null,null,null,null,null,null,null,0,0,0,null,null,null,null,0,null,null,null,0]
[{"$f":"'Org structure'!E127","v":0},null,null,null,null,null,null,null,null,0,0,0,null,null,null,null,0,null,null,null,0]
[{"$f":"'Org structure'!E128","v":0},null,null,null,null,null,null,null,null,0,0,0,null,null,null,null,0,null,null,null,0]
[{"$f":"'Org structure'!E129","v":0},null,null,null,null,null,null,null,null,{"$f":"Q133+V133","v":0},0,0,null,null,null,null,0,null,null,null,0]
[{"$f":"'Org structure'!E130","v":0},null,null,null,null,null,null,null,null,0,0,0,null,null,null,null,0,null,null,null,0]
[{"$f":"'Org structure'!E131","v":0},null,null,null,null,null,null,null,null,0,0,0,null,null,null,null,0,null,null,null,0]
[{"$f":"'Org structure'!E132","v":0},null,null,null,null,null,null,null,null,0,0,0,null,null,null,null,0,null,null,null,{"$f":"SUM(R136:T136)","v":0}]
[{"$f":"'Org structure'!E133","v":0},null,null,null,null,null,null,null,null,0,0,0,null,null,null,null,0,null,null,null,0]
[{"$f":"'Org structure'!A14","v":"Vote 13 - [NAME OF VOTE 13]"},null,{"$f":"SUM(C139:C148)","v":0},0,0,0,0,0,0,0,0,0,null,{"$f":"SUM(N139:N148)","v":0},0,0,0,0,0,0,0,0,0,0]
[{"$f":"'Org structure'!E135","v":"13.1 - [Name of sub-vote]"},null,null,null,null,null,null,null,null,{"$f":"Q139+V139","v":0},{"$f":"U139+W139","v":0},{"$f":"X139","v":0},null,null,null,null,{"$f":"SUM(N139:P139)","v":0},null,null,null,0]
[{"$f":"'Org structure'!E136","v":0},null,null,null,null,null,null,null,null,0,0,0,null,null,null,null,0,null,null,null,0]
[{"$f":"'Org structure'!E137","v":0},null,null,null,null,null,null,null,null,0,0,0,null,null,null,null,0,null,null,null,0]
[{"$f":"'Org structure'!E138","v":0},null,null,null,null,null,null,null,null,0,0,0,null,null,null,null,0,null,null,null,0]
[{"$f":"'Org structure'!E139","v":0},null,null,null,null,null,null,null,null,0,0,0,null,null,null,null,0,null,null,null,0]
[{"$f":"'Org structure'!E140","v":0},null,null,null,null,null,null,null,null,0,0,0,null,null,null,null,0,null,null,null,0]
[{"$f":"'Org structure'!E141","v":0},null,null,null,null,null,null,null,null,0,0,0,null,null,null,null,0,null,null,null,0]
[{"$f":"'Org structure'!E142","v":0},null,null,null,null,null,null,null,null,0,0,0,null,null,null,null,0,null,null,null,0]
[{"$f":"'Org structure'!E143","v":0},null,null,null,null,null,null,null,null,0,0,0,null,null,null,null,0,null,null,null,0]
[{"$f":"'Org structure'!E144","v":0},null,null,null,null,null,null,null,null,0,0,0,null,null,null,null,0,null,null,null,0]
[{"$f":"'Org structure'!A15","v":"Vote 14 - [NAME OF VOTE 14]"},null,{"$f":"SUM(C150:C159)","v":0},0,0,0,0,0,0,0,0,0,null,{"$f":"SUM(N150:N159)","v":0},0,0,0,0,0,0,0,0,0,0]
[{"$f":"'Org structure'!E146","v":"14.1 - [Name of sub-vote]"},null,null,null,null,null,null,null,null,{"$f":"Q150+V150","v":0},{"$f":"U150+W150","v":0},{"$f":"X150","v":0},null,null,null,null,{"$f":"SUM(N150:P150)","v":0},null,null,null,0]
[{"$f":"'Org structure'!E147","v":0},null,null,null,null,null,null,null,null,0,0,0,null,null,null,null,0,null,null,null,0]
[{"$f":"'Org structure'!E148","v":0},null,null,null,null,null,null,null,null,0,0,0,null,null,null,null,0,null,null,null,0]
[{"$f":"'Org structure'!E149","v":0},null,null,null,null,null,null,null,null,0,0,0,null,null,null,null,0,null,null,null,0]
[{"$f":"'Org structure'!E150","v":0},null,null,null,null,null,null,null,null,0,0,0,null,null,null,null,0,null,null,null,0]
[{"$f":"'Org structure'!E151","v":0},null,null,null,null,null,null,null,null,0,0,0,null,null,null,null,0,null,null,null,0]
[{"$f":"'Org structure'!E152","v":0},null,null,null,null,null,null,null,null,0,0,0,null,null,null,null,0,null,null,null,0]
[{"$f":"'Org structure'!E153","v":0},null,null,null,null,null,null,null,null,0,0,0,null,null,null,null,0,null,null,null,0]
[{"$f":"'Org structure'!E154","v":0},null,null,null,null,null,null,null,null,0,0,0,null,null,null,null,0,null,null,null,0]
[{"$f":"'Org structure'!E155","v":0},null,null,null,null,null,null,null,null,0,0,0,null,null,null,null,0,null,null,null,0]
[{"$f":"'Org structure'!A16","v":"Vote 15 - [NAME OF VOTE 15]"},null,{"$f":"SUM(C161:C170)","v":0},0,0,0,0,0,0,0,0,0,null,{"$f":"SUM(N161:N170)","v":0},0,0,0,0,0,0,0,0,0,0]
[{"$f":"'Org structure'!E157","v":"15.1 - [Name of sub-vote]"},null,null,null,null,null,null,null,null,{"$f":"Q161+V161","v":0},{"$f":"U161+W161","v":0},{"$f":"X161","v":0},null,null,null,null,{"$f":"SUM(N161:P161)","v":0},null,null,null,0]
[{"$f":"'Org structure'!E158","v":0},null,null,null,null,null,null,null,null,0,0,0,null,null,null,null,0,null,null,null,0]
[{"$f":"'Org structure'!E159","v":0},null,null,null,null,null,null,null,null,0,0,0,null,null,null,null,0,null,null,null,0]
[{"$f":"'Org structure'!E160","v":0},null,null,null,null,null,null,null,null,0,0,0,null,null,null,null,0,null,null,null,0]
[{"$f":"'Org structure'!E161","v":0},null,null,null,null,null,null,null,null,0,0,0,null,null,null,null,0,null,null,null,0]
[{"$f":"'Org structure'!E162","v":0},null,null,null,null,null,null,null,null,0,0,0,null,null,null,null,0,null,null,null,0]
[{"$f":"'Org structure'!E163","v":0},null,null,null,null,null,null,null,null,0,0,0,null,null,null,null,0,null,null,null,0]
[{"$f":"'Org structure'!E164","v":0},null,null,null,null,null,null,null,null,0,0,0,null,null,null,null,0,null,null,null,0]
[{"$f":"'Org structure'!E165","v":0},null,null,null,null,null,null,null,null,0,0,0,null,null,null,null,0,null,null,null,0]
[{"$f":"'Org structure'!E166","v":0},null,null,null,null,null,null,null,null,0,0,0,null,null,null,null,0,null,null,null,0]
["Capital multi-year expenditure sub-total",null,{"$f":"C6+C17+C28+C39+C50+C61+C72+C83+C94+C105+C116+C127+C138+C149+C160","v":0},{"$f":"D6+D17+D28+D39+D50+D61+D72+D83+D94+D105+D116+D127+D138+D149+D160","v":0},0,0,0,0,0,0,0,0,null,{"$f":"N6+N17+N28+N39+N50+N61+N72+N83+N94+N105+N116+N127+N138+N149+N160","v":0},0,0,0,0,0,null,0,{"$f":"V6+V17+V28+V39+V50+V61+V72+V83+V94+V105+V116+V127+V138+V149+V160","v":0},{"$f":"W6+W17+W28+W39+W50+W61+W72+W83+W94+W105+W116+W127+W138+W149+W160","v":0}]
[]
["Capital expenditure - Municipal Vote"]
["Single-year expenditure appropriation",2]
[{"$f":"A6","v":"Vote 1 - General Council"},null,{"$f":"SUM(C176:C185)","v":0},0,0,5000.0000000000009,55115,55115,55115,1070000,0,0]
[{"$f":"A7","v":"1.1 - Mayor"},null,null,null,null,1666.6666666666665,55115,55115,55115,570000,0,0]
["1.2 - Speaker",null,null,null,null,2083.3333333333335,0,0,0,500000,0,0]
["1.3 - Council",null,null,null,null,0,0,0,0,0]
["1.4 Youth Development Programme",null,null,null,null,416.66666666666663,0,0,0]
["1.5 Special Programme",null,null,null,null,416.66666666666663,0,0,0]
["1.6 IGR",null,null,null,null,416.66666666666663,0,0,0]
[0]
[0]
[0]
[0]
["Vote 2 - Municipal Manager",null,{"$f":"SUM(C187:C196)","v":0},0,905854,25000,4666.6666666666715,4666.6666666666715,4666.6666666666715,25000,0,0]
["2.1 - Office of the Municipal Manager",null,null,null,905854,5555.5555555555557,0,0,0]
["2.2 - Internal Audit",null,null,null,null,5555.5555555555557,1555.5555555555557,1555.5555555555557,1555.5555555555557,5000,null,{"$f":"K188*1.1","v":0}]
["2.3 - Performance and Monitoring Management",null,null,null,null,5555.5555555555557,3111.1111111111159,3111.1111111111159,3111.1111111111159,10000,null,{"$f":"K189*1.1","v":0}]
["2.4 - Risk Office",null,null,null,null,2777.7777777777778,0,0,0,10000,null,{"$f":"K190*1.1","v":0}]
["2.5 - Disaster management ",null,null,null,null,5555.5555555555557,0,0,0]
[0,null,null,null,null,null,0,0,0]
[0]
[0]
[0]
[0]
["Vote 3 - Budget & Treasury Office",null,{"$f":"SUM(C198:C207)","v":687893},666676,1175141,635000,934252.99703703704,934252.99703703704,934252.99703703704,570000,627000,689700]
["3.1 - Office of the CFO",null,687893,666676,1175141,47037.037037037036,899999.99703703704,899999.99703703704,899999.99703703704,500000,{"$f":"J198*1.1","v":550000},{"$f":"K198*1.1","v":605000}]
["3.2 - Supply Chain Management",null,null,null,null,94074.074074074073,7652.9999999999709,7652.9999999999709,7652.9999999999709,50000,{"$f":"J199*1.1","v":55000.000000000007},60500.000000000015]
["3.3 - Expenditure",null,null,null,null,211666.66666666666,26600,26600,26600,20000,22000,24200.000000000004]
["3.4 - Budget & Reporting ",null,null,null,null,164629.62962962964,0,0,0,0,0,0]
["3.5 - FMG Projects",null,null,null,null,117592.59259259258,0,0,0,0,0,0]
[0,null,null,null,null,null,0,0,0]
[0]
[0]
[0]
[0]
["Vote 4 - Planning & Development",null,{"$f":"SUM(C209:C218)","v":733291},2096675,1586391,449695.65217391378,41844.000000000116,41844.000000000116,41844.000000000116,55000,60500.000000000007,66550.000000000015]
["4.1 - Office of the Director - Planning and Development",null,null,null,null,151826.08695652173,52964,52964,52964,null,{"$f":"J209*1.1","v":0},{"$f":"K209*1.1","v":0}]
["4.2 - Economic Development",null,733291,2096675,1586391,{"$f":"531391.304347826-389000","v":142391.30434782605},-11119.999999999884,-11119.999999999884,-11119.999999999884,null,{"$f":"J210*1.1","v":0},0]
["4.4 - Development Planning",null,null,null,null,{"$f":"227739.130434783-150000","v":77739.130434783001},0,0,0,null,{"$f":"J211*1.1","v":0},0]
["4.5 - Municipal Health",null,null,null,null,{"$f":"227739.130434783-150000","v":77739.130434783001},0,0,0,55000,{"$f":"J212*1.1","v":60500.000000000007},66550.000000000015]
[0,null,null,null,null,null,0,0,0]
[0,null,null,null,null,null,0,0,0]
[0]
[0]
[0]
[0]
["Vote 5 - Corporate Services",null,{"$f":"SUM(C220:C229)","v":4190194},4711538,16409325,1935000,288700.99999999977,288700.99999999977,288700.99999999977,25000,27500.000000000004,30250.000000000007]
["5.1 - Office of the Director - Corporate Services",null,null,null,0,124838.70967741935,0,0,0,null,{"$f":"J220*1.1","v":0},{"$f":"K220*1.1","v":0}]
["5.2 - Administration",null,1670528,null,13772290,624193.54838709673,303700.99999999971,303700.99999999971,303700.99999999971,25000,{"$f":"J221*1.1","v":27500.000000000004},30250.000000000007]
["5.3 - Information Technology",null,571140,357195,491867,187258.06451612903,-14999.999999999971,-14999.999999999971,-14999.999999999971,null,{"$f":"J222*1.1","v":0},0]
["5.4 - Property Services",null,1948526,4354343,2145168,561774.19354838715,0,0,0,null,{"$f":"J223*1.1","v":0},0]
["5.5 - Human Resources",null,null,null,null,436935.48387096776,0,0,0,null,{"$f":"J224*1.1","v":0},0]
[0,null,null,null,null,0,0,0,0]
[0]
[0]
[0]
[0]
["Vote 6 - [NAME OF VOTE 6]",null,{"$f":"SUM(C231:C240)","v":0},0,0,0,0,0,0,0,0,0]
["6.1 - [Name of sub-vote]"]
[0]
[0]
[0]
[0]
[0]
[0]
[0]
[0]
[{"$f":"A71","v":0}]
["Vote 7 - [NAME OF VOTE 7]",null,{"$f":"SUM(C242:C251)","v":0},0,0,0,0,0,0,0,0,0]
["7.1 - [Name of sub-vote]"]
[0]
[0]
[0]
[0]
[0]
[0]
[0]
[0]
[0]
["Vote 8 - [NAME OF VOTE 8]",null,{"$f":"SUM(C253:C262)","v":0},0,0,0,0,0,0,0,0,0]
["8.1 - [Name of sub-vote]"]
[0]
[0]
[0]
[0]
[0]
[0]
[0]
[0]
[0]
["Vote 9 - [NAME OF VOTE 9]",null,{"$f":"SUM(C264:C273)","v":0},0,0,0,0,0,0,0,0,0]
["9.1 - [Name of sub-vote]"]
[0]
[0]
[0]
[0]
[0]
[0]
[0]
[0]
[0]
["Vote 10 - [NAME OF VOTE 10]",null,{"$f":"SUM(C275:C284)","v":0},0,0,0,0,0,0,0,0,0]
["10.1 - [Name of sub-vote]"]
[0]
[0]
[0]
[0]
[0]
[0]
[0]
[0]
[0]
["Vote 11 - [NAME OF VOTE 11]",null,{"$f":"SUM(C286:C295)","v":0},0,0,0,0,0,0,0,0,0]
["11.1 - [Name of sub-vote]"]
[0]
[0]
[0]
[0]
[0]
[0]
[0]
[0]
[0]
["Vote 12 - [NAME OF VOTE 12]",null,{"$f":"SUM(C297:C306)","v":0},0,0,0,0,0,0,0,0,0]
["12.1 - [Name of sub-vote]"]
[0]
[0]
[0]
[0]
[0]
[0]
[{"$f":"A135","v":0}]
[0]
[0]
["Vote 13 - [NAME OF VOTE 13]",null,{"$f":"SUM(C308:C317)","v":0},0,0,0,0,0,0,0,0,0]
["13.1 - [Name of sub-vote]"]
[0]
[0]
[0]
[0]
[0]
[0]
[0]
[0]
[0]
["Vote 14 - [NAME OF VOTE 14]",null,{"$f":"SUM(C319:C328)","v":0},0,0,0,0,0,0,0,0,0]
["14.1 - [Name of sub-vote]"]
[0]
[0]
[0]
[0]
[0]
[0]
[0]
[0]
[0]
["Vote 15 - [NAME OF VOTE 15]",null,{"$f":"SUM(C330:C339)","v":0},0,0,0,0,0,0,0,0,0]
["15.1 - [Name of sub-vote]"]
[0]
[0]
[0]
[0]
[0]
[0]
[0]
[0]
[0]
["Capital single-year expenditure sub-total",null,{"$f":"C175+C186+C197+C208+C219+C230+C241+C252+C263+C274+C285+C296+C307+C318+C329","v":5611378},{"$f":"D175+D186+D197+D208+D219+D230+D241+D252+D263+D274+D285+D296+D307+D318+D329","v":7474889},20076711,3049695.652173914,1324579.6637037036,1324579.6637037036,1324579.6637037036,1745000,715000,786500]
["Total Capital Expenditure",null,{"$f":"C171+C340","v":5611378},{"$f":"D171+D340","v":7474889},20076711,3049695.652173914,1324579.6637037036,1324579.6637037036,1324579.6637037036,1745000,715000,786500]

{"sheet":"A6-FinPos","index":14,"n_rows":55,"n_cols":12,"rows_kept":55,"cut":false,"hidden":false,"merged":[[49,0,49,11],[1,9,1,11],[1,5,1,8]]}
[{"$f":"muni&\" - \"&Approve6","v":"DC16 Xhariep - Table A6 Budgeted Financial Position"}]
[{"$f":"desc","v":"Description"},{"$f":"head27","v":"Ref"},{"$f":"head1b","v":"2010/11"},{"$f":"head1A","v":"2011/12"},{"$f":"Head1","v":"2012/13"},{"$f":"Head2","v":"Current Year 2013/14"},null,null,null,{"$f":"Head3","v":"2014/15 Medium Term Revenue & Expenditure Framework"}]
["R thousand",null,{"$f":"Head5","v":"Audited Outcome"},{"$f":"Head5","v":"Audited Outcome"},{"$f":"Head5","v":"Audited Outcome"},{"$f":"Head6","v":"Original Budget"},{"$f":"Head7","v":"Adjusted Budget"},{"$f":"Head8","v":"Full Year Forecast"},{"$f":"Head5b","v":"Pre-audit outcome"},{"$f":"Head9","v":"Budget Year 2014/15"},{"$f":"Head10","v":"Budget Year +1 2015/16"},{"$f":"Head11","v":"Budget Year +2 2016/17"}]
["ASSETS"]
["Current assets"]
["Cash",null,1358177,11062090,1819068,null,null,null,null,260000,560000,875000]
["Call investment deposits",1,{"$f":"'SA3'!C9","v":5031973},{"$f":"'SA3'!D9","v":5000000},{"$f":"'SA3'!E9","v":0},{"$f":"'SA3'!F9","v":5000000},{"$f":"'SA3'!G9","v":5000000},{"$f":"'SA3'!H9","v":5000000},{"$f":"'SA3'!I9","v":0},{"$f":"'SA3'!J9","v":0},{"$f":"'SA3'!K9","v":0},{"$f":"'SA3'!L9","v":0}]
["Consumer debtors",1,{"$f":"'SA3'!C14","v":8449143},{"$f":"'SA3'!D14","v":17392548},{"$f":"'SA3'!E14","v":847326.26000000164},{"$f":"'SA3'!F14","v":17193230.029800002},{"$f":"'SA3'!G14","v":17193230.029800002},{"$f":"'SA3'!H14","v":17193230.029800002},{"$f":"'SA3'!I14","v":562766.63000000012},{"$f":"'SA3'!J14","v":112000},{"$f":"'SA3'!K14","v":58000},{"$f":"'SA3'!L14","v":0}]
["Other debtors",null,1885489,2465385,0,1033317.68,1033317.68,1033317.68,1033317.68,0,0,0]
["Current portion of long-term receivables",null,0,0,0,0]
["Inventory",2,0,36020,123671,0,null,null,null,46000,385000,0]
["Total current assets",null,{"$f":"SUM(C6:C11)","v":16724782},35956043,2790065.2600000016,23226547.709800001,23226547.709800001,23226547.709800001,1596084.31,418000,1003000,875000]
[]
["Non current assets"]
["Long-term receivables",null,null,null,806729,0]
["Investments",null,-5031973,-5000000,null,-5000000,-5000000,-5000000]
["Investment property",null,null,null,null,0]
["Investment in Associate",null,null,null,null,0]
["Property, plant and equipment",3,{"$f":"'SA3'!C26","v":16777105},{"$f":"'SA3'!D26","v":22042469},{"$f":"'SA3'!E26","v":20082803},{"$f":"'SA3'!F26","v":20716155.752114628},{"$f":"'SA3'!G26","v":20716155.752114628},{"$f":"'SA3'!H26","v":20716155.752114628},{"$f":"'SA3'!I26","v":18807495.870074578},{"$f":"'SA3'!J26","v":15907495.870074576},{"$f":"'SA3'!K26","v":12407495.870074578},{"$f":"'SA3'!L26","v":14761439.800283698}]
["Agricultural",null,0,0,0,0]
["Biological",null,0,0,0,0]
["Intangible",null,344908,455024,739015,408000,408000,408000,580000,460000,386000,300000]
["Other non-current assets",null,0,0,0,0]
["Total non current assets",null,{"$f":"SUM(C15:C23)","v":12090040},{"$f":"SUM(D15:D23)","v":17497493},{"$f":"SUM(E15:E23)","v":21628547},16124155.752114628,16124155.752114628,16124155.752114628,19387495.870074578,16367495.870074576,12793495.870074578,15061439.800283698]
["TOTAL ASSETS",null,{"$f":"C12+C24","v":28814822},{"$f":"D12+D24","v":53453536},{"$f":"E12+E24","v":24418612.260000002},{"$f":"F12+F24","v":39350703.461914629},39350703.461914629,39350703.461914629,20983580.180074576,16785495.870074578,13796495.870074578,15936439.800283698]
[]
["LIABILITIES"]
["Current liabilities"]
["Bank overdraft",1]
["Borrowing",4,{"$f":"'SA3'!C32","v":397947},{"$f":"'SA3'!D32","v":362288},{"$f":"'SA3'!E32","v":0},{"$f":"'SA3'!F32","v":0},{"$f":"'SA3'!G32","v":0},{"$f":"'SA3'!H32","v":0},{"$f":"'SA3'!I32","v":0},{"$f":"'SA3'!J32","v":0},{"$f":"'SA3'!K32","v":0},{"$f":"'SA3'!L32","v":0}]
["Consumer deposits"]
["Trade and other payables",4,{"$f":"'SA3'!C38","v":5578689},{"$f":"'SA3'!D38","v":4132910},{"$f":"'SA3'!E38","v":7303639},{"$f":"'SA3'!F38","v":15076020.66},{"$f":"'SA3'!G38","v":15076020.66},{"$f":"'SA3'!H38","v":15076020.66},{"$f":"'SA3'!I38","v":7201365.8200000003},{"$f":"'SA3'!J38","v":4307053},{"$f":"'SA3'!K38","v":3960033},{"$f":"'SA3'!L38","v":3255984}]
["Provisions",null,107000,84000,0,84000,84000,84000,84000]
["Total current liabilities",null,{"$f":"SUM(C29:C33)","v":6083636},4579198,7303639,15160020.66,15160020.66,15160020.66,7285365.8200000003,4307053,3960033,3255984]
[]
["Non current liabilities"]
["Borrowing",null,{"$f":"'SA3'!C43","v":362289},{"$f":"'SA3'!D43","v":0},{"$f":"'SA3'!E43","v":0},{"$f":"'SA3'!F43","v":701000},{"$f":"'SA3'!G43","v":900000},{"$f":"'SA3'!H43","v":900000},{"$f":"'SA3'!I43","v":0},{"$f":"'SA3'!J43","v":500000},{"$f":"'SA3'!K43","v":550000},{"$f":"'SA3'!L43","v":605000}]
["Provisions",null,{"$f":"'SA3'!C50","v":495889},{"$f":"'SA3'!D50","v":673000},{"$f":"'SA3'!E50","v":879000},{"$f":"'SA3'!F50","v":603000},{"$f":"'SA3'!G50","v":603000},{"$f":"'SA3'!H50","v":603000},{"$f":"'SA3'!I50","v":879000},{"$f":"'SA3'!J50","v":912000},{"$f":"'SA3'!K50","v":984960},{"$f":"'SA3'!L50","v":1063756.8}]
["Total non current liabilities",null,{"$f":"SUM(C37:C38)","v":858178},{"$f":"SUM(D37:D38)","v":673000},{"$f":"SUM(E37:E38)","v":879000},{"$f":"SUM(F37:F38)","v":1304000},1503000,1503000,879000,1412000,{"$f":"SUM(K37:K38)","v":1534960},1668756.8]
["TOTAL LIABILITIES",null,{"$f":"C34+C39","v":6941814},{"$f":"D34+D39","v":5252198},{"$f":"E34+E39","v":8182639},{"$f":"F34+F39","v":16464020.66},16663020.66,16663020.66,8164365.8200000003,5719053,{"$f":"K34+K39","v":5494993},4924740.8]
[]
["NET ASSETS",5,{"$f":"C25-C40","v":21873008},48201338,16235973.260000002,22886682.801914629,22687682.801914629,22687682.801914629,12819214.360074576,11066442.870074578,8301502.8700745776,11011699.000283699]
[]
["COMMUNITY WEALTH/EQUITY"]
["Accumulated Surplus/(Deficit)",null,26904981,53201338,16235973.260000002,28587682.801914629,28587682.801914629,28587682.801914629,12819214.360074576,10966443,8431502.8699999992,11396699]
["Reserves",4,{"$f":"'SA3'!C69","v":0},{"$f":"'SA3'!D69","v":0},{"$f":"'SA3'!E69","v":0},{"$f":"'SA3'!F69","v":0},{"$f":"'SA3'!G69","v":0},{"$f":"'SA3'!H69","v":0},{"$f":"'SA3'!I69","v":0},{"$f":"'SA3'!J69","v":0},{"$f":"'SA3'!K69","v":0},{"$f":"'SA3'!L69","v":0}]
["Minorities' interests"]
["TOTAL COMMUNITY WEALTH/EQUITY",5,{"$f":"SUM(C45:C47)","v":26904981},{"$f":"SUM(D45:D47)","v":53201338},16235973.260000002,28587682.801914629,28587682.801914629,28587682.801914629,12819214.360074576,10966443,8431502.8699999992,11396699]
[{"$f":"head27a","v":"References"}]
["1. Detail to be provided in Table SA3"]
["2. Include completed low cost housing to be transferred to beneficiaries within 12 months"]
["3. Include 'Construction-work-in-progress' (disclosed separately in annual financial statements)"]
["4. Detail to be provided in Table SA3. Includes reserves to be funded by statute."]
["5. Net assets must balance with Total Community Wealth/Equity"]
["check balance",null,{"$f":"C42-C48","v":-5031973},-5000000,0,-5701000,-5900000,-5900000,0,99999.87007457763,-129999.99992542155,-384999.99971630052]

{"sheet":"A7-CFlow","index":15,"n_rows":49,"n_cols":12,"rows_kept":49,"cut":false,"hidden":false,"merged":[[1,9,1,11],[1,5,1,8]]}
[{"$f":"muni&\" - \"&Approve7","v":"DC16 Xhariep - Table A7 Budgeted Cash Flows"}]
[{"$f":"desc","v":"Description"},{"$f":"head27","v":"Ref"},{"$f":"head1b","v":"2010/11"},{"$f":"head1A","v":"2011/12"},{"$f":"Head1","v":"2012/13"},{"$f":"Head2","v":"Current Year 2013/14"},null,null,null,{"$f":"Head3","v":"2014/15 Medium Term Revenue & Expenditure Framework"}]
["R thousand",null,{"$f":"Head5","v":"Audited Outcome"},{"$f":"Head5","v":"Audited Outcome"},{"$f":"Head5","v":"Audited Outcome"},{"$f":"Head6","v":"Original Budget"},{"$f":"Head7","v":"Adjusted Budget"},{"$f":"Head8","v":"Full Year Forecast"},{"$f":"Head5b","v":"Pre-audit outcome"},{"$f":"Head9","v":"Budget Year 2014/15"},{"$f":"Head10","v":"Budget Year +1 2015/16"},{"$f":"Head11","v":"Budget Year +2 2016/17"}]
["CASH FLOW FROM OPERATING ACTIVITIES"]
["Receipts"]
["Ratepayers and other",null,307367,1871229,254017,444496.68421052635,444496.68421052635,444496.68421052635,444496.68421052635,{"$f":"468566+58998+570000-500000","v":597564},{"$f":"J6*1.1","v":657320.4},{"$f":"K6*1.1","v":723052.44000000006}]
["Government - operating",1,40782860,78025800,40588152,59971000,59339904.380000003,59339904.380000003,59339904.380000003,{"$f":"63492000-500000","v":62992000},{"$f":"J7*1.1","v":69291200},76220320]
["Government - capital",1,null,null,null,0,null,null,null,null,{"$f":"J8*1.1","v":0},0]
["Interest",null,382910,731392,283816,139358.35999999999,128599.99999999999,128599.99999999999,128599.99999999999,{"$f":"115806","v":115806},{"$f":"J9*1.1","v":127386.6},140125.26]
["Dividends",null,null,null,null,0,null,null,null,null,{"$f":"J10*1.1","v":0},0]
["Payments"]
["Suppliers and employees",null,-35507730,-64042327,-52725566,-58358463.560000002,-55874533.255303711,-55874533.255303711,-55874533.255303711,{"$f":"-66463879.41+500000-570000+500000+500000","v":-65533879.409999996},{"$f":"J12*1.1","v":-72087267.350999996},{"$f":"K12*1.1","v":-79295994.086099997}]
["Finance charges",null,-497112,-307741,-286676,0,0,0,-1646]
["Transfers and Grants",1,null,null,null,0,0,0,0]
["NET CASH FROM/(USED) OPERATING ACTIVITIES",null,{"$f":"SUM(C6:C10)+SUM(C12:C14)","v":5468295},{"$f":"SUM(D6:D10)+SUM(D12:D14)","v":16278353},-11886257,2196391.484210521,4038467.8089068159,4038467.8089068159,4036821.8089068159,-1828509.4099999964,-2011360.3509999961,-2212496.3860999942]
[]
["CASH FLOWS FROM INVESTING ACTIVITIES"]
["Receipts"]
["Proceeds on disposal of PPE",null,774286,40288,46697,0,0,0,0]
["Decrease (Increase) in non-current debtors",null,null,null,0,0,0,0,0]
["Decrease (increase) other non-current receivables",null,0,-240000,0,0,0,0,0]
["Decrease (increase) in non-current investments",null,-901256,31973,0,0,0,0,0]
["Payments"]
["Capital assets",null,-5611378,-6008753,-1457514,-3746000,-2620913,-2620913,-2620913]
["NET CASH FROM/(USED) INVESTING ACTIVITIES",null,{"$f":"SUM(C19:C22)+C24","v":-5738348},{"$f":"SUM(D19:D22)+D24","v":-6176492},-1410817,-3746000,-2620913,-2620913,-2620913,0,0,0]
[]
["CASH FLOWS FROM FINANCING ACTIVITIES"]
["Receipts"]
["Short term loans"]
["Borrowing long term/refinancing"]
["Increase (decrease) in consumer deposits"]
["Payments"]
["Repayment of borrowing",null,-254470,-397947,-362859,null,null,null,null,-500000,{"$f":"J33*1.1","v":-550000},{"$f":"K33*1.1","v":-605000}]
["NET CASH FROM/(USED) FINANCING ACTIVITIES",null,{"$f":"SUM(C29:C31)+C33","v":-254470},{"$f":"SUM(D29:D31)+D33","v":-397947},-362859,0,0,0,0,-500000,-550000,-605000]
[]
["NET INCREASE/ (DECREASE) IN CASH HELD",null,{"$f":"C15+C25+C34","v":-524523},{"$f":"D15+D25+D34","v":9703914},-13659933,-1549608.515789479,1417554.8089068159,1417554.8089068159,1415908.8089068159,-2328509.4099999964,-2561360.3509999961,-2817496.3860999942]
["Cash/cash equivalents at the year begin:",2,10477349,{"$f":"C38","v":9952826},{"$f":"D38","v":19656740},null,null,null,{"$f":"G37","v":0},null,{"$f":"J38","v":-2328509.4099999964},{"$f":"K38","v":-4889869.7609999925}]
["Cash/cash equivalents at the year end:",2,{"$f":"C36+C37","v":9952826},{"$f":"D36+D37","v":19656740},{"$f":"E36+E37","v":5996807},{"$f":"F36+F37","v":-1549608.515789479},1417554.8089068159,1417554.8089068159,1415908.8089068159,-2328509.4099999964,-4889869.7609999925,-7707366.1470999867]
[{"$f":"head27a","v":"References"}]
["1. Local/District municipalities to include transfers from/to District/Local Municipalities"]
["2. Cash equivalents includes investments with maturities of 3 months or less"]
[]
["Total receipts",null,{"$f":"SUM(C6:C10)+SUM(C19:C21)","v":42247423},{"$f":"SUM(D6:D10)+SUM(D19:D21)","v":80428709},41172682,60554855.044210523,59913001.064210527,59913001.064210527,59913001.064210527,63705370,70075907,77083497.700000003]
["Total payments",null,{"$f":"SUM(C12:C14)+C24","v":-41616220},{"$f":"SUM(D12:D14)+D24","v":-70358821},-54469756,-62104463.560000002,-58495446.255303711,-58495446.255303711,-58497092.255303711,-65533879.409999996,-72087267.350999996,-79295994.086099997]
[null,null,{"$f":"C43+C44","v":631203},{"$f":"D43+D44","v":10069888},-13297074,-1549608.515789479,1417554.8089068159,1417554.8089068159,1415908.8089068159,-1828509.4099999964,-2011360.3509999961,-2212496.3860999942]
["Borrowings & investments & c.deposits",null,{"$f":"C22+C30+C31","v":-901256},{"$f":"D22+D30+D31","v":31973},0,0,0,0,0,0,0,0]
[{"$f":"A33","v":"Repayment of borrowing"},null,{"$f":"C33","v":-254470},{"$f":"D33","v":-397947},-362859,0,0,0,{"$f":"I33","v":0},-500000,-550000,-605000]
[null,null,{"$f":"C45+C46+C47","v":-524523},{"$f":"D45+D46+D47","v":9703914},-13659933,-1549608.515789479,1417554.8089068159,1417554.8089068159,1415908.8089068159,-2328509.4099999964,-2561360.3509999961,-2817496.3860999942]
[null,null,{"$f":"C36-C48","v":0},0,0,0,0,0,0,0,0,0]

{"sheet":"A8-ResRecon","index":16,"n_rows":67,"n_cols":12,"rows_kept":67,"cut":false,"hidden":false,"merged":[[1,9,1,11],[1,5,1,8]]}
[{"$f":"muni&\" - \"&Approve8","v":"DC16 Xhariep - Table A8 Cash backed reserves/accumulated surplus reconciliation"}]
[{"$f":"desc","v":"Description"},{"$f":"head27","v":"Ref"},{"$f":"head1b","v":"2010/11"},{"$f":"head1A","v":"2011/12"},{"$f":"Head1","v":"2012/13"},{"$f":"Head2","v":"Current Year 2013/14"},null,null,null,{"$f":"Head3","v":"2014/15 Medium Term Revenue & Expenditure Framework"}]
["R thousand",null,{"$f":"Head5","v":"Audited Outcome"},{"$f":"Head5","v":"Audited Outcome"},{"$f":"Head5","v":"Audited Outcome"},{"$f":"Head6","v":"Original Budget"},{"$f":"Head7","v":"Adjusted Budget"},{"$f":"Head8","v":"Full Year Forecast"},{"$f":"Head5b","v":"Pre-audit outcome"},{"$f":"Head9","v":"Budget Year 2014/15"},{"$f":"Head10","v":"Budget Year +1 2015/16"},{"$f":"Head11","v":"Budget Year +2 2016/17"}]
["Cash and investments available"]
[{"$f":"LEFT('A7-CFlow'!A38,37)","v":"Cash/cash equivalents at the year end"},1,{"$f":"'A7-CFlow'!C38","v":9952826},{"$f":"'A7-CFlow'!D38","v":19656740},{"$f":"'A7-CFlow'!E38","v":5996807},{"$f":"'A7-CFlow'!F38","v":-1549608.515789479},{"$f":"'A7-CFlow'!G38","v":1417554.8089068159},{"$f":"'A7-CFlow'!H38","v":1417554.8089068159},{"$f":"'A7-CFlow'!I38","v":1415908.8089068159},{"$f":"'A7-CFlow'!J38","v":-2328509.4099999964},{"$f":"'A7-CFlow'!K38","v":-4889869.7609999925},{"$f":"'A7-CFlow'!L38","v":-7707366.1470999867}]
["Other current investments  > 90 days",null,{"$f":"'A6-FinPos'!C6+'A6-FinPos'!C7-'A6-FinPos'!C29-'A8-ResRecon'!C5","v":-3562676},{"$f":"'A6-FinPos'!D6+'A6-FinPos'!D7-'A6-FinPos'!D29-'A8-ResRecon'!D5","v":-3594650},{"$f":"'A6-FinPos'!E6+'A6-FinPos'!E7-'A6-FinPos'!E29-'A8-ResRecon'!E5","v":-4177739},{"$f":"'A6-FinPos'!F6+'A6-FinPos'!F7-'A6-FinPos'!F29-'A8-ResRecon'!F5","v":6549608.515789479},{"$f":"'A6-FinPos'!G6+'A6-FinPos'!G7-'A6-FinPos'!G29-'A8-ResRecon'!G5","v":3582445.1910931841},{"$f":"'A6-FinPos'!H6+'A6-FinPos'!H7-'A6-FinPos'!H29-'A8-ResRecon'!H5","v":3582445.1910931841},{"$f":"'A6-FinPos'!I6+'A6-FinPos'!I7-'A6-FinPos'!I29-'A8-ResRecon'!I5","v":-1415908.8089068159},{"$f":"'A6-FinPos'!J6+'A6-FinPos'!J7-'A6-FinPos'!J29-'A8-ResRecon'!J5","v":2588509.4099999964},{"$f":"'A6-FinPos'!K6+'A6-FinPos'!K7-'A6-FinPos'!K29-'A8-ResRecon'!K5","v":5449869.7609999925},{"$f":"'A6-FinPos'!L6+'A6-FinPos'!L7-'A6-FinPos'!L29-'A8-ResRecon'!L5","v":8582366.1470999867}]
[{"$f":"'A6-FinPos'!A14&\" - \"&'A6-FinPos'!A16","v":"Non current assets - Investments"},1,{"$f":"'A6-FinPos'!C16","v":-5031973},{"$f":"'A6-FinPos'!D16","v":-5000000},{"$f":"'A6-FinPos'!E16","v":0},{"$f":"'A6-FinPos'!F16","v":-5000000},{"$f":"'A6-FinPos'!G16","v":-5000000},{"$f":"'A6-FinPos'!H16","v":-5000000},{"$f":"'A6-FinPos'!I16","v":0},{"$f":"'A6-FinPos'!J16","v":0},{"$f":"'A6-FinPos'!K16","v":0},{"$f":"'A6-FinPos'!L16","v":0}]
["Cash and investments available:",null,{"$f":"SUM(C5:C7)","v":1358177},{"$f":"SUM(D5:D7)","v":11062090},1819068,0,0,0,0,260000,560000,875000]
[]
["Application of cash and investments"]
[{"$f":"'SA3'!A36","v":"Unspent conditional transfers"},null,{"$f":"'SA3'!C36","v":355449},{"$f":"'SA3'!D36","v":1523205},{"$f":"'SA3'!E36","v":1992053},{"$f":"'SA3'!F36","v":0},{"$f":"'SA3'!G36","v":0},{"$f":"'SA3'!H36","v":0},{"$f":"'SA3'!I36","v":3860068.35},{"$f":"'SA3'!J36","v":1292053},{"$f":"'SA3'!K36","v":1292053},{"$f":"'SA3'!L36","v":960000}]
["Unspent borrowing",null,{"$f":"'SA17'!C67","v":0},{"$f":"'SA17'!D67","v":0},{"$f":"'SA17'!E67","v":0},{"$f":"'SA17'!F67","v":0},{"$f":"'SA17'!G67","v":0},{"$f":"'SA17'!H67","v":0},null,{"$f":"'SA17'!I67","v":0},{"$f":"'SA17'!J67","v":0},{"$f":"'SA17'!K67","v":0}]
["Statutory requirements",2]
["Other working capital requirements",3,{"$f":"-C32","v":-5111760},{"$f":"-D32","v":-14781812},5459487,{"$f":"-F32","v":-2719979.34},-3150979.34,-3150979.34,3479081.74,3585000,3261980,3007984]
["Other provisions"]
["Long term investments committed",4,{"$f":"C52","v":0},{"$f":"D52","v":0},0,0,0,0,0,0,0,0]
["Reserves to be backed by cash/investments",5]
[{"$f":"\"Total \"&A10&\":\"","v":"Total Application of cash and investments:"},null,{"$f":"SUM(C11:C17)","v":-4756311},{"$f":"SUM(D11:D17)","v":-13258607},7451540,-2719979.34,-3150979.34,-3150979.34,7339150.0899999999,4877053,4554033,3967984]
["Surplus(shortfall)",null,{"$f":"C8-C18","v":6114488},{"$f":"D8-D18","v":24320697},-5632472,2719979.34,3150979.34,3150979.34,-7339150.0899999999,-4617053,-3994033,-3092984]
[{"$f":"head27a","v":"References"}]
["1. Must reconcile with Budgeted Cash Flows"]
["2. For example: VAT, taxation"]
["3. Council approval for policy required - include sufficient working capital (e.g. allowing for a % of current debtors > 90 days as uncollectable)"]
["4. For example: sinking fund requirements for borrowing"]
["5. Council approval required for each reserve created and basis of cash backing of reserves"]
[]
[]
["Other working capital requirements"]
["Debtors",null,{"$f":"IF(ISERROR(ROUND(C35*C36,-3)),0,(ROUND(C35*C36,-3)))","v":10335000},{"$f":"IF(ISERROR(ROUND(D35*D36,-3)),0,(ROUND(D35*D36,-3)))","v":19858000},832000,17796000,18227000,18227000,1558000,60000,64000,0]
[]
["Creditors due",null,{"$f":"'SA3'!C35","v":5223240},{"$f":"'SA3'!D35","v":5076188},{"$f":"'SA3'!E35","v":6291487},{"$f":"'SA3'!F35","v":15076020.66},{"$f":"'SA3'!G35","v":15076020.66},{"$f":"'SA3'!H35","v":15076020.66},{"$f":"'SA3'!I35","v":5037081.74},{"$f":"'SA3'!J35","v":3645000},{"$f":"'SA3'!K35","v":3325980},{"$f":"'SA3'!L35","v":3007984}]
["Total",null,{"$f":"C29-C31","v":5111760},{"$f":"D29-D31","v":14781812},-5459487,2719979.34,3150979.34,3150979.34,-3479081.74,-3585000,-3261980,-3007984]
[]
["Debtors collection assumptions"]
["Balance outstanding - debtors",null,{"$f":"'A6-FinPos'!C8+'A6-FinPos'!C9+'A6-FinPos'!C15","v":10334632},{"$f":"'A6-FinPos'!D8+'A6-FinPos'!D9+'A6-FinPos'!D15","v":19857933},{"$f":"'A6-FinPos'!E8+'A6-FinPos'!E9+'A6-FinPos'!E15","v":1654055.2600000016},{"$f":"'A6-FinPos'!F8+'A6-FinPos'!F9+'A6-FinPos'!F15","v":18226547.709800001},{"$f":"'A6-FinPos'!G8+'A6-FinPos'!G9+'A6-FinPos'!G15","v":18226547.709800001},{"$f":"'A6-FinPos'!H8+'A6-FinPos'!H9+'A6-FinPos'!H15","v":18226547.709800001},{"$f":"'A6-FinPos'!I8+'A6-FinPos'!I9+'A6-FinPos'!I15","v":1596084.31},{"$f":"'A6-FinPos'!J8+'A6-FinPos'!J9+'A6-FinPos'!J15","v":112000},{"$f":"'A6-FinPos'!K8+'A6-FinPos'!K9+'A6-FinPos'!K15","v":58000},{"$f":"'A6-FinPos'!L8+'A6-FinPos'!L9+'A6-FinPos'!L15","v":0}]
["Estimate of debtors collection rate",null,{"$f":"IF(ISERROR('SA10'!D10),0,('SA10'!D10))","v":1},{"$f":"IF(ISERROR('SA10'!E10),0,('SA10'!E10))","v":1},{"$f":"IF(ISERROR('SA10'!F10),0,('SA10'!F10))","v":0.50286455240131445},{"$f":"IF(ISERROR('SA10'!G10),0,('SA10'!G10))","v":0.97636849907142398},{"$f":"IF(ISERROR('SA10'!H10),0,('SA10'!H10))","v":1},{"$f":"IF(ISERROR('SA10'!I10),0,('SA10'!I10))","v":1},{"$f":"IF(ISERROR('SA10'!J10),0,('SA10'!J10))","v":0.97585053770684327},{"$f":"IF(ISERROR('SA10'!K10),0,('SA10'!K10))","v":0.53855434221717935},{"$f":"IF(ISERROR('SA10'!L10),0,('SA10'!L10))","v":1.1074808985102371},{"$f":"IF(ISERROR('SA10'!M10),0,('SA10'!M10))","v":1.1074808985102373}]
[]
[]
[null,null,null,null,null,null,null,null,null,null,"`"]
[{"$f":"A16","v":"Long term investments committed"}]
["Balance (Insert description; eg sinking fund)"]
[]
[]
[]
[]
[]
[]
[]
[]
[]
[]
[null,null,{"$f":"SUM(C41:C51)","v":0},{"$f":"SUM(D41:D51)","v":0},0,0,0,0,0,0,0,0]
[{"$f":"A17","v":"Reserves to be backed by cash/investments"}]
[{"$f":"'SA3'!A64","v":"Housing Development Fund"},null,{"$f":"'SA3'!C64","v":0},{"$f":"'SA3'!D64","v":0},{"$f":"'SA3'!E64","v":0},{"$f":"'SA3'!F64","v":0},{"$f":"'SA3'!G64","v":0},{"$f":"'SA3'!H64","v":0},{"$f":"'SA3'!I64","v":0},{"$f":"'SA3'!J64","v":0},{"$f":"'SA3'!K64","v":0},{"$f":"'SA3'!L64","v":0}]
[{"$f":"'SA3'!A65","v":"Capital replacement"}]
[{"$f":"'SA3'!A66","v":"Self-insurance"}]
["Other (list)"]
[]
[]
[]
[]
[]
[]
[]
[]
[]
[null,null,{"$f":"SUM(C54:C65)","v":0},0,0,0,0,0,0,0,0,0]

{"sheet":"A9-Asset","index":17,"n_rows":95,"n_cols":11,"rows_kept":95,"cut":false,"hidden":false,"merged":[[1,5,1,7],[1,8,1,10]]}
[{"$f":"muni&\" - \"&Approve9","v":"DC16 Xhariep - Table A9 Asset Management"}]
[{"$f":"desc","v":"Description"},{"$f":"head27","v":"Ref"},{"$f":"head1b","v":"2010/11"},{"$f":"head1A","v":"2011/12"},{"$f":"Head1","v":"2012/13"},{"$f":"Head2","v":"Current Year 2013/14"},null,null,{"$f":"Head3","v":"2014/15 Medium Term Revenue & Expenditure Framework"}]
["R thousand",null,{"$f":"Head5","v":"Audited Outcome"},{"$f":"Head5","v":"Audited Outcome"},{"$f":"Head5","v":"Audited Outcome"},{"$f":"Head6","v":"Original Budget"},{"$f":"Head7","v":"Adjusted Budget"},{"$f":"Head8","v":"Full Year Forecast"},{"$f":"Head9","v":"Budget Year 2014/15"},{"$f":"Head10","v":"Budget Year +1 2015/16"},{"$f":"Head11","v":"Budget Year +2 2016/17"}]
["CAPITAL EXPENDITURE"]
["Total New Assets",1,{"$f":"SUM(C11:C18)","v":2393801},{"$f":"SUM(D11:D18)","v":0},{"$f":"SUM(E11:E18)","v":0},3050000,1324913,1324913,1745000,715000,786500]
["  Infrastructure - Road transport",null,{"$f":"SA34a!C7","v":0},{"$f":"SA34a!D7","v":0},{"$f":"SA34a!E7","v":0},{"$f":"SA34a!F7","v":0},{"$f":"SA34a!G7","v":0},{"$f":"SA34a!H7","v":0},{"$f":"SA34a!I7","v":0},{"$f":"SA34a!J7","v":0},{"$f":"SA34a!K7","v":0}]
["  Infrastructure - Electricity",null,{"$f":"SA34a!C10","v":0},{"$f":"SA34a!D10","v":0},{"$f":"SA34a!E10","v":0},{"$f":"SA34a!F10","v":0},{"$f":"SA34a!G10","v":0},{"$f":"SA34a!H10","v":0},{"$f":"SA34a!I10","v":0},{"$f":"SA34a!J10","v":0},{"$f":"SA34a!K10","v":0}]
["  Infrastructure - Water",null,{"$f":"SA34a!C14","v":0},{"$f":"SA34a!D14","v":0},{"$f":"SA34a!E14","v":0},{"$f":"SA34a!F14","v":0},{"$f":"SA34a!G14","v":0},{"$f":"SA34a!H14","v":0},{"$f":"SA34a!I14","v":0},{"$f":"SA34a!J14","v":0},{"$f":"SA34a!K14","v":0}]
["  Infrastructure - Sanitation",null,{"$f":"SA34a!C18","v":0},{"$f":"SA34a!D18","v":0},{"$f":"SA34a!E18","v":0},{"$f":"SA34a!F18","v":0},{"$f":"SA34a!G18","v":0},{"$f":"SA34a!H18","v":0},{"$f":"SA34a!I18","v":0},{"$f":"SA34a!J18","v":0},{"$f":"SA34a!K18","v":0}]
["  Infrastructure - Other",null,{"$f":"SA34a!C21","v":0},{"$f":"SA34a!D21","v":0},{"$f":"SA34a!E21","v":0},{"$f":"SA34a!F21","v":0},{"$f":"SA34a!G21","v":0},{"$f":"SA34a!H21","v":0},{"$f":"SA34a!I21","v":0},{"$f":"SA34a!J21","v":0},{"$f":"SA34a!K21","v":0}]
["Infrastructure",null,{"$f":"SUM(C6:C10)","v":0},{"$f":"SUM(D6:D10)","v":0},{"$f":"SUM(E6:E10)","v":0},0,0,0,0,0,0]
[{"$f":"$A$42","v":"Community"},null,{"$f":"SA34a!C27","v":0},{"$f":"SA34a!D27","v":0},{"$f":"SA34a!E27","v":0},{"$f":"SA34a!F27","v":0},{"$f":"SA34a!G27","v":0},{"$f":"SA34a!H27","v":0},{"$f":"SA34a!I27","v":0},{"$f":"SA34a!J27","v":0},{"$f":"SA34a!K27","v":0}]
[{"$f":"$A$43","v":"Heritage assets"},null,{"$f":"SA34a!C43","v":0},{"$f":"SA34a!D43","v":0},{"$f":"SA34a!E43","v":0},{"$f":"SA34a!F43","v":0},{"$f":"SA34a!G43","v":0},{"$f":"SA34a!H43","v":0},{"$f":"SA34a!I43","v":0},{"$f":"SA34a!J43","v":0},{"$f":"SA34a!K43","v":0}]
[{"$f":"$A$44","v":"Investment properties"},null,{"$f":"SA34a!C47","v":0},{"$f":"SA34a!D47","v":0},{"$f":"SA34a!E47","v":0},{"$f":"SA34a!F47","v":0},{"$f":"SA34a!G47","v":0},{"$f":"SA34a!H47","v":0},{"$f":"SA34a!I47","v":0},{"$f":"SA34a!J47","v":0},{"$f":"SA34a!K47","v":0}]
[{"$f":"$A$45","v":"Other assets"},6,{"$f":"SA34a!C51","v":2393801},{"$f":"SA34a!D51","v":0},{"$f":"SA34a!E51","v":0},{"$f":"SA34a!F51","v":3050000},{"$f":"SA34a!G51","v":1324913},{"$f":"SA34a!H51","v":1324913},{"$f":"SA34a!I51","v":1745000},{"$f":"SA34a!J51","v":715000},{"$f":"SA34a!K51","v":786500}]
["Agricultural Assets",null,{"$f":"SA34a!C65","v":0},{"$f":"SA34a!D65","v":0},{"$f":"SA34a!E65","v":0},{"$f":"SA34a!F65","v":0},{"$f":"SA34a!G65","v":0},{"$f":"SA34a!H65","v":0},{"$f":"SA34a!I65","v":0},{"$f":"SA34a!J65","v":0},{"$f":"SA34a!K65","v":0}]
[{"$f":"SA34a!A69","v":"Biological assets"},null,{"$f":"SA34a!C69","v":0},{"$f":"SA34a!D69","v":0},{"$f":"SA34a!E69","v":0},{"$f":"SA34a!F69","v":0},{"$f":"SA34a!G69","v":0},{"$f":"SA34a!H69","v":0},{"$f":"SA34a!I69","v":0},{"$f":"SA34a!J69","v":0},{"$f":"SA34a!K69","v":0}]
[{"$f":"SA34a!A73","v":"Intangibles"},null,{"$f":"SA34a!C73","v":0},{"$f":"SA34a!D73","v":0},{"$f":"SA34a!E73","v":0},{"$f":"SA34a!F73","v":0},{"$f":"SA34a!G73","v":0},{"$f":"SA34a!H73","v":0},{"$f":"SA34a!I73","v":0},{"$f":"SA34a!J73","v":0},{"$f":"SA34a!K73","v":0}]
[]
["Total Renewal of Existing Assets",2,{"$f":"SUM(C26:C33)","v":140000},{"$f":"SUM(D26:D33)","v":0},{"$f":"SUM(E26:E33)","v":0},0,0,0,0,0,0]
["  Infrastructure - Road transport",null,{"$f":"SA34b!C7","v":0},{"$f":"SA34b!D7","v":0},{"$f":"SA34b!E7","v":0},{"$f":"SA34b!F7","v":0},{"$f":"SA34b!G7","v":0},{"$f":"SA34b!H7","v":0},{"$f":"SA34b!I7","v":0},{"$f":"SA34b!J7","v":0},{"$f":"SA34b!K7","v":0}]
["  Infrastructure - Electricity",null,{"$f":"SA34b!C10","v":0},{"$f":"SA34b!D10","v":0},{"$f":"SA34b!E10","v":0},{"$f":"SA34b!F10","v":0},{"$f":"SA34b!G10","v":0},{"$f":"SA34b!H10","v":0},{"$f":"SA34b!I10","v":0},{"$f":"SA34b!J10","v":0},{"$f":"SA34b!K10","v":0}]
["  Infrastructure - Water",null,{"$f":"SA34b!C14","v":0},{"$f":"SA34b!D14","v":0},{"$f":"SA34b!E14","v":0},{"$f":"SA34b!F14","v":0},{"$f":"SA34b!G14","v":0},{"$f":"SA34b!H14","v":0},{"$f":"SA34b!I14","v":0},{"$f":"SA34b!J14","v":0},{"$f":"SA34b!K14","v":0}]
["  Infrastructure - Sanitation",null,{"$f":"SA34b!C18","v":0},{"$f":"SA34b!D18","v":0},{"$f":"SA34b!E18","v":0},{"$f":"SA34b!F18","v":0},{"$f":"SA34b!G18","v":0},{"$f":"SA34b!H18","v":0},{"$f":"SA34b!I18","v":0},{"$f":"SA34b!J18","v":0},{"$f":"SA34b!K18","v":0}]
["  Infrastructure - Other",null,{"$f":"SA34b!C21","v":0},{"$f":"SA34b!D21","v":0},{"$f":"SA34b!E21","v":0},{"$f":"SA34b!F21","v":0},{"$f":"SA34b!G21","v":0},{"$f":"SA34b!H21","v":0},{"$f":"SA34b!I21","v":0},{"$f":"SA34b!J21","v":0},{"$f":"SA34b!K21","v":0}]
[{"$f":"$A$11","v":"Infrastructure"},null,{"$f":"SUM(C21:C25)","v":0},{"$f":"SUM(D21:D25)","v":0},{"$f":"SUM(E21:E25)","v":0},0,0,0,0,0,0]
[{"$f":"A12","v":"Community"},null,{"$f":"SA34b!C27","v":0},{"$f":"SA34b!D27","v":0},{"$f":"SA34b!E27","v":0},{"$f":"SA34b!F27","v":0},{"$f":"SA34b!G27","v":0},{"$f":"SA34b!H27","v":0},{"$f":"SA34b!I27","v":0},{"$f":"SA34b!J27","v":0},{"$f":"SA34b!K27","v":0}]
[{"$f":"A13","v":"Heritage assets"},null,{"$f":"SA34b!C43","v":0},{"$f":"SA34b!D43","v":0},{"$f":"SA34b!E43","v":0},{"$f":"SA34b!F43","v":0},{"$f":"SA34b!G43","v":0},{"$f":"SA34b!H43","v":0},{"$f":"SA34b!I43","v":0},{"$f":"SA34b!J43","v":0},{"$f":"SA34b!K43","v":0}]
[{"$f":"A14","v":"Investment properties"},null,{"$f":"SA34b!C47","v":0},{"$f":"SA34b!D47","v":0},{"$f":"SA34b!E47","v":0},{"$f":"SA34b!F47","v":0},{"$f":"SA34b!G47","v":0},{"$f":"SA34b!H47","v":0},{"$f":"SA34b!I47","v":0},{"$f":"SA34b!J47","v":0},{"$f":"SA34b!K47","v":0}]
[{"$f":"A15","v":"Other assets"},6,{"$f":"SA34b!C51","v":140000},{"$f":"SA34b!D51","v":0},{"$f":"SA34b!E51","v":0},{"$f":"SA34b!F51","v":0},{"$f":"SA34b!G51","v":0},{"$f":"SA34b!H51","v":0},{"$f":"SA34b!I51","v":0},{"$f":"SA34b!J51","v":0},{"$f":"SA34b!K51","v":0}]
["Agricultural Assets",null,{"$f":"SA34b!C65","v":0},{"$f":"SA34b!D65","v":0},{"$f":"SA34b!E65","v":0},{"$f":"SA34b!F65","v":0},{"$f":"SA34b!G65","v":0},{"$f":"SA34b!H65","v":0},{"$f":"SA34b!I65","v":0},{"$f":"SA34b!J65","v":0},{"$f":"SA34b!K65","v":0}]
[{"$f":"A17","v":"Biological assets"},null,{"$f":"SA34b!C69","v":0},{"$f":"SA34b!D69","v":0},{"$f":"SA34b!E69","v":0},{"$f":"SA34b!F69","v":0},{"$f":"SA34b!G69","v":0},{"$f":"SA34b!H69","v":0},{"$f":"SA34b!I69","v":0},{"$f":"SA34b!J69","v":0},{"$f":"SA34b!K69","v":0}]
[{"$f":"A18","v":"Intangibles"},null,{"$f":"SA34b!C73","v":0},{"$f":"SA34b!D73","v":0},{"$f":"SA34b!E73","v":0},{"$f":"SA34b!F73","v":0},{"$f":"SA34b!G73","v":0},{"$f":"SA34b!H73","v":0},{"$f":"SA34b!I73","v":0},{"$f":"SA34b!J73","v":0},{"$f":"SA34b!K73","v":0}]
[]
["Total Capital Expenditure",4]
["  Infrastructure - Road transport",null,{"$f":"C6+C21","v":0},{"$f":"D6+D21","v":0},0,0,0,0,0,0,0]
["  Infrastructure - Electricity",null,{"$f":"C7+C22","v":0},{"$f":"D7+D22","v":0},0,0,0,0,0,0,0]
["  Infrastructure - Water",null,{"$f":"C8+C23","v":0},0,0,0,0,0,0,0,0]
["  Infrastructure - Sanitation",null,{"$f":"C9+C24","v":0},{"$f":"D9+D24","v":0},{"$f":"E9+E24","v":0},0,0,0,0,0,0]
["  Infrastructure - Other",null,{"$f":"C10+C25","v":0},0,0,0,0,0,0,0,0]
[{"$f":"$A$11","v":"Infrastructure"},null,{"$f":"SUM(C36:C40)","v":0},{"$f":"SUM(D36:D40)","v":0},0,0,0,0,0,0,0]
[{"$f":"SA34a!A27","v":"Community"},null,{"$f":"C12+C27","v":0},{"$f":"D12+D27","v":0},0,0,0,0,0,0,0]
[{"$f":"SA34a!A43","v":"Heritage assets"},null,0,{"$f":"D13+D28","v":0},0,0,0,0,0,0,0]
[{"$f":"SA34a!A47","v":"Investment properties"},null,0,{"$f":"D14+D29","v":0},0,0,0,0,0,0,0]
[{"$f":"SA34a!A51","v":"Other assets"},null,2533801,{"$f":"D15+D30","v":0},0,3050000,1324913,1324913,1745000,715000,786500]
["Agricultural Assets",null,0,{"$f":"D16+D31","v":0},0,0,0,0,0,0,0]
[{"$f":"A32","v":"Biological assets"},null,0,{"$f":"D17+D32","v":0},0,0,0,0,0,0,0]
[{"$f":"A33","v":"Intangibles"},null,0,{"$f":"D18+D33","v":0},0,0,0,0,0,0,0]
["TOTAL CAPITAL EXPENDITURE - Asset class",2,{"$f":"SUM(C41:C48)","v":2533801},0,0,3050000,1324913,1324913,1745000,715000,786500]
[]
["ASSET REGISTER SUMMARY - PPE (WDV)",5]
["  Infrastructure - Road transport"]
["  Infrastructure - Electricity"]
["  Infrastructure - Water"]
["  Infrastructure - Sanitation"]
["  Infrastructure - Other"]
[{"$f":"A41","v":"Infrastructure"},null,{"$f":"SUM(C52:C56)","v":0},{"$f":"SUM(D52:D56)","v":0},0,0,0,0,0,0,0]
[{"$f":"A12","v":"Community"}]
[{"$f":"A13","v":"Heritage assets"}]
[{"$f":"A14","v":"Investment properties"},null,{"$f":"'A6-FinPos'!C17","v":0},{"$f":"'A6-FinPos'!D17","v":0},{"$f":"'A6-FinPos'!E17","v":0},{"$f":"'A6-FinPos'!F17","v":0},{"$f":"'A6-FinPos'!G17","v":0},{"$f":"'A6-FinPos'!H17","v":0},{"$f":"'A6-FinPos'!J17","v":0},{"$f":"'A6-FinPos'!K17","v":0},{"$f":"'A6-FinPos'!L17","v":0}]
[{"$f":"A15","v":"Other assets"}]
["Agricultural Assets",null,{"$f":"'A6-FinPos'!C20","v":0},{"$f":"'A6-FinPos'!D20","v":0},{"$f":"'A6-FinPos'!E20","v":0},{"$f":"'A6-FinPos'!F20","v":0},{"$f":"'A6-FinPos'!G20","v":0},{"$f":"'A6-FinPos'!H20","v":0},{"$f":"'A6-FinPos'!J20","v":0},{"$f":"'A6-FinPos'!K20","v":0},{"$f":"'A6-FinPos'!L20","v":0}]
[{"$f":"A17","v":"Biological assets"},null,{"$f":"'A6-FinPos'!C21","v":0},{"$f":"'A6-FinPos'!D21","v":0},{"$f":"'A6-FinPos'!E21","v":0},{"$f":"'A6-FinPos'!F21","v":0},{"$f":"'A6-FinPos'!G21","v":0},{"$f":"'A6-FinPos'!H21","v":0},{"$f":"'A6-FinPos'!J21","v":0},{"$f":"'A6-FinPos'!K21","v":0},{"$f":"'A6-FinPos'!L21","v":0}]
[{"$f":"A18","v":"Intangibles"},null,{"$f":"'A6-FinPos'!C22","v":344908},{"$f":"'A6-FinPos'!D22","v":455024},{"$f":"'A6-FinPos'!E22","v":739015},{"$f":"'A6-FinPos'!F22","v":408000},{"$f":"'A6-FinPos'!G22","v":408000},{"$f":"'A6-FinPos'!H22","v":408000},{"$f":"'A6-FinPos'!J22","v":460000},{"$f":"'A6-FinPos'!K22","v":386000},{"$f":"'A6-FinPos'!L22","v":300000}]
["TOTAL ASSET REGISTER SUMMARY - PPE (WDV)",5,{"$f":"SUM(C57:C64)","v":344908},455024,739015,408000,408000,408000,460000,386000,300000]
[]
["EXPENDITURE OTHER ITEMS"]
[{"$f":"'A4-FinPerf RE'!A28","v":"Depreciation & asset impairment"},null,{"$f":"'A4-FinPerf RE'!C28","v":0},{"$f":"'A4-FinPerf RE'!D28","v":2307376},{"$f":"'A4-FinPerf RE'!E28","v":3648189},{"$f":"'A4-FinPerf RE'!F28","v":3866861.7446962921},{"$f":"'A4-FinPerf RE'!G28","v":3366861.7446962921},{"$f":"'A4-FinPerf RE'!H28","v":3366861.7446962921},{"$f":"'A4-FinPerf RE'!J28","v":3500000},{"$f":"'A4-FinPerf RE'!K28","v":3850000.0000000005},{"$f":"'A4-FinPerf RE'!L28","v":4235000.0000000009}]
["Repairs and Maintenance by Asset Class",3,{"$f":"SUM(C75:C79)","v":4878087},{"$f":"SUM(D75:D79)","v":7602087},1271312,1151000,1445465,1445465,528000,580800,638880]
["  Infrastructure - Road transport",null,{"$f":"SA34c!C7","v":0},{"$f":"SA34c!D7","v":0},{"$f":"SA34c!E7","v":0},{"$f":"SA34c!F7","v":0},{"$f":"SA34c!G7","v":0},{"$f":"SA34c!H7","v":0},{"$f":"SA34c!I7","v":0},{"$f":"SA34c!J7","v":0},{"$f":"SA34c!K7","v":0}]
["  Infrastructure - Electricity",null,{"$f":"SA34c!C10","v":0},{"$f":"SA34c!D10","v":0},{"$f":"SA34c!E10","v":0},{"$f":"SA34c!F10","v":0},{"$f":"SA34c!G10","v":0},{"$f":"SA34c!H10","v":0},{"$f":"SA34c!I10","v":0},{"$f":"SA34c!J10","v":0},{"$f":"SA34c!K10","v":0}]
["  Infrastructure - Water",null,{"$f":"SA34c!C14","v":0},{"$f":"SA34c!D14","v":0},{"$f":"SA34c!E14","v":0},{"$f":"SA34c!F14","v":0},{"$f":"SA34c!G14","v":0},{"$f":"SA34c!H14","v":0},{"$f":"SA34c!I14","v":0},{"$f":"SA34c!J14","v":0},{"$f":"SA34c!K14","v":0}]
["  Infrastructure - Sanitation",null,{"$f":"SA34c!C18","v":0},{"$f":"SA34c!D18","v":0},{"$f":"SA34c!E18","v":0},{"$f":"SA34c!F18","v":0},{"$f":"SA34c!G18","v":0},{"$f":"SA34c!H18","v":0},{"$f":"SA34c!I18","v":0},{"$f":"SA34c!J18","v":0},{"$f":"SA34c!K18","v":0}]
["  Infrastructure - Other",null,{"$f":"SA34c!C21","v":0},{"$f":"SA34c!D21","v":0},{"$f":"SA34c!E21","v":0},{"$f":"SA34c!F21","v":0},{"$f":"SA34c!G21","v":0},{"$f":"SA34c!H21","v":0},{"$f":"SA34c!I21","v":0},{"$f":"SA34c!J21","v":0},{"$f":"SA34c!K21","v":0}]
[{"$f":"$A$11","v":"Infrastructure"},null,{"$f":"SUM(C70:C74)","v":0},{"$f":"SUM(D70:D74)","v":0},0,0,0,0,0,0,0]
[{"$f":"A12","v":"Community"},null,{"$f":"SA34c!C27","v":0},{"$f":"SA34c!D27","v":0},{"$f":"SA34c!E27","v":0},{"$f":"SA34c!F27","v":0},{"$f":"SA34c!G27","v":0},{"$f":"SA34c!H27","v":0},{"$f":"SA34c!I27","v":0},{"$f":"SA34c!J27","v":0},{"$f":"SA34c!K27","v":0}]
[{"$f":"A13","v":"Heritage assets"},null,{"$f":"SA34c!C43","v":0},{"$f":"SA34c!D43","v":0},{"$f":"SA34c!E43","v":0},{"$f":"SA34c!F43","v":0},{"$f":"SA34c!G43","v":0},{"$f":"SA34c!H43","v":0},{"$f":"SA34c!I43","v":0},{"$f":"SA34c!J43","v":0},{"$f":"SA34c!K43","v":0}]
[{"$f":"A14","v":"Investment properties"},null,{"$f":"SA34c!C47","v":0},{"$f":"SA34c!D47","v":0},{"$f":"SA34c!E47","v":0},{"$f":"SA34c!F47","v":0},{"$f":"SA34c!G47","v":0},{"$f":"SA34c!H47","v":0},{"$f":"SA34c!I47","v":0},{"$f":"SA34c!J47","v":0},{"$f":"SA34c!K47","v":0}]
[{"$f":"A15","v":"Other assets"},"6, 7",{"$f":"SA34c!C51+SA34c!C65+SA34c!C69+SA34c!C73","v":4878087},{"$f":"SA34c!D51+SA34c!D65+SA34c!D69+SA34c!D73","v":7602087},{"$f":"SA34c!E51+SA34c!E65+SA34c!E69+SA34c!E73","v":1271312},{"$f":"SA34c!F51+SA34c!F65+SA34c!F69+SA34c!F73","v":1151000},{"$f":"SA34c!G51+SA34c!G65+SA34c!G69+SA34c!G73","v":1445465},{"$f":"SA34c!H51+SA34c!H65+SA34c!H69+SA34c!H73","v":1445465},{"$f":"SA34c!I51+SA34c!I65+SA34c!I69+SA34c!I73","v":528000},{"$f":"SA34c!J51+SA34c!J65+SA34c!J69+SA34c!J73","v":580800},{"$f":"SA34c!K51+SA34c!K65+SA34c!K69+SA34c!K73","v":638880}]
["TOTAL EXPENDITURE OTHER ITEMS",null,{"$f":"SUM(C68:C69)","v":4878087},9909463,4919501,5017861.7446962921,4812326.7446962921,4812326.7446962921,4028000,4430800,4873880.0000000009]
[]
["Renewal of Existing Assets as % of total capex",null,{"$f":"IF(ISERROR(C20/C49),0,(C20/C49))","v":5.5252957907902002E-2},{"$f":"IF(ISERROR(D20/D49),0,(D20/D49))","v":0},0,0,0,0,0,0,0]
["Renewal of Existing Assets as % of deprecn\"",null,{"$f":"IF(ISERROR(C20/C68),0,(C20/C68))","v":0},{"$f":"IF(ISERROR(D20/D68),0,(D20/D68))","v":0},0,0,0,0,0,0,0]
["R&M as a % of PPE",null,{"$f":"IF(ISERROR(ROUND(C69/'A6-FinPos'!C19,3)),0,(ROUND(C69/'A6-FinPos'!C19,3)))","v":0.29099999999999998},{"$f":"IF(ISERROR(ROUND(D69/'A6-FinPos'!D19,3)),0,(ROUND(D69/'A6-FinPos'!D19,3)))","v":0.34499999999999997},{"$f":"IF(ISERROR(ROUND(E69/'A6-FinPos'!E19,3)),0,(ROUND(E69/'A6-FinPos'!E19,3)))","v":6.3E-2},{"$f":"IF(ISERROR(ROUND(F69/'A6-FinPos'!F19,3)),0,(ROUND(F69/'A6-FinPos'!F19,3)))","v":5.6000000000000001E-2},{"$f":"IF(ISERROR(ROUND(G69/'A6-FinPos'!G19,3)),0,(ROUND(G69/'A6-FinPos'!G19,3)))","v":7.0000000000000007E-2},{"$f":"IF(ISERROR(ROUND(H69/'A6-FinPos'!H19,3)),0,(ROUND(H69/'A6-FinPos'!H19,3)))","v":7.0000000000000007E-2},{"$f":"IF(ISERROR(ROUND(I69/'A6-FinPos'!J19,3)),0,(ROUND(I69/'A6-FinPos'!J19,3)))","v":3.3000000000000002E-2},{"$f":"IF(ISERROR(ROUND(J69/'A6-FinPos'!K19,3)),0,(ROUND(J69/'A6-FinPos'!K19,3)))","v":4.7E-2},{"$f":"IF(ISERROR(ROUND(K69/'A6-FinPos'!L19,3)),0,(ROUND(K69/'A6-FinPos'!L19,3)))","v":4.2999999999999997E-2}]
["Renewal and R&M as a % of PPE",null,{"$f":"IF(ISERROR(ROUND((C20+C69)/C65,2)),0,(ROUND((C20+C69)/C65,2)))","v":14.55},{"$f":"IF(ISERROR(ROUND((D20+D69)/D65,2)),0,(ROUND((D20+D69)/D65,2)))","v":16.71},1.72,2.82,3.54,3.54,1.1499999999999999,1.5,2.13]
[]
[{"$f":"head27a","v":"References"}]
["1. Detail of new assets provided in Table SA34a"]
["2. Detail of renewal of existing assets provided in Table SA34b"]
["3. Detail of Repairs and Maintenance by Asset Class provided in Table SA34c"]
["4. Must reconcile to total capital expenditure on Budgeted Capital Expenditure"]
["5. Must reconcile to 'Budgeted Financial Position' (written down value)"]
["6. Donated/contributed and assets funded by finance leases to be allocated to the respective category"]
["7. Including repairs and maintenance to agricultural, biological and intangible assets"]
["Check balance to A6",null,{"$f":"C65-'A6-FinPos'!C17-'A6-FinPos'!C19-'A6-FinPos'!C21-'A6-FinPos'!C22","v":-16777105},{"$f":"D65-'A6-FinPos'!D17-'A6-FinPos'!D19-'A6-FinPos'!D21-'A6-FinPos'!D22","v":-22042469},{"$f":"E65-'A6-FinPos'!E17-'A6-FinPos'!E19-'A6-FinPos'!E21-'A6-FinPos'!E22","v":-20082803},{"$f":"F65-'A6-FinPos'!F17-'A6-FinPos'!F19-'A6-FinPos'!F21-'A6-FinPos'!F22","v":-20716155.752114628},{"$f":"G65-'A6-FinPos'!G17-'A6-FinPos'!G19-'A6-FinPos'!G21-'A6-FinPos'!G22","v":-20716155.752114628},{"$f":"H65-'A6-FinPos'!H17-'A6-FinPos'!H19-'A6-FinPos'!H21-'A6-FinPos'!H22","v":-20716155.752114628},{"$f":"I65-'A6-FinPos'!J17-'A6-FinPos'!J19-'A6-FinPos'!J21-'A6-FinPos'!J22","v":-15907495.870074576},{"$f":"J65-'A6-FinPos'!K17-'A6-FinPos'!K19-'A6-FinPos'!K21-'A6-FinPos'!K22","v":-12407495.870074578},{"$f":"K65-'A6-FinPos'!L17-'A6-FinPos'!L19-'A6-FinPos'!L21-'A6-FinPos'!L22","v":-14761439.800283698}]

{"sheet":"A10-SerDel","index":18,"n_rows":95,"n_cols":11,"rows_kept":95,"cut":false,"hidden":false,"merged":[[1,5,1,7],[1,8,1,10],[1,0,2,0],[1,1,2,1]]}
[{"$f":"muni&\" - \"&Approve10","v":"DC16 Xhariep - Table A10 Basic service delivery measurement"}]
[{"$f":"desc","v":"Description"},{"$f":"head27","v":"Ref"},{"$f":"head1b","v":"2010/11"},{"$f":"head1A","v":"2011/12"},{"$f":"Head1","v":"2012/13"},{"$f":"Head2","v":"Current Year 2013/14"},null,null,{"$f":"Head3","v":"2014/15 Medium Term Revenue & Expenditure Framework"}]
[null,null,{"$f":"Head5A","v":"Outcome"},{"$f":"Head5A","v":"Outcome"},{"$f":"Head5A","v":"Outcome"},{"$f":"Head6","v":"Original Budget"},{"$f":"Head7","v":"Adjusted Budget"},{"$f":"Head8","v":"Full Year Forecast"},{"$f":"Head9","v":"Budget Year 2014/15"},{"$f":"Head10","v":"Budget Year +1 2015/16"},{"$f":"Head11","v":"Budget Year +2 2016/17"}]
["Household service targets",1]
["Water:"]
["Piped water inside dwelling"]
["Piped water inside yard (but not in dwelling)"]
["Using public tap (at least min.service level)",2]
["Other water supply (at least min.service level)",4]
["Minimum Service Level and Above sub-total",null,{"$f":"SUM(C6:C9)","v":0},{"$f":"SUM(D6:D9)","v":0},0,0,0,0,0,0,0]
["Using public tap (< min.service level)",3]
["Other water supply (< min.service level)",{"$f":"B9","v":4}]
["No water supply"]
["Below Minimum Service Level sub-total",null,{"$f":"SUM(C11:C13)","v":0},{"$f":"SUM(D11:D13)","v":0},0,0,0,0,0,0,0]
["Total number of households",5,{"$f":"C10+C14","v":0},{"$f":"D10+D14","v":0},0,0,0,0,0,0,0]
["Sanitation/sewerage:"]
["Flush toilet (connected to sewerage)"]
["Flush toilet (with septic tank)"]
["Chemical toilet"]
["Pit toilet (ventilated)"]
["Other toilet provisions (> min.service level)"]
[{"$f":"$A$10","v":"Minimum Service Level and Above sub-total"},null,{"$f":"SUM(C17:C21)","v":0},{"$f":"SUM(D17:D21)","v":0},0,0,0,0,0,0,0]
["Bucket toilet"]
["Other toilet provisions (< min.service level)"]
["No toilet provisions"]
[{"$f":"$A$14","v":"Below Minimum Service Level sub-total"},null,{"$f":"SUM(C23:C25)","v":0},{"$f":"SUM(D23:D25)","v":0},0,0,0,0,0,0,0]
[{"$f":"$A$15","v":"Total number of households"},{"$f":"$B$15","v":5},{"$f":"C22+C26","v":0},{"$f":"D22+D26","v":0},0,0,0,0,0,0,0]
["Energy:"]
["Electricity (at least min.service level)"]
["Electricity - prepaid (min.service level)"]
[{"$f":"$A$10","v":"Minimum Service Level and Above sub-total"},null,{"$f":"SUM(C29:C30)","v":0},{"$f":"SUM(D29:D30)","v":0},0,0,0,0,0,0,0]
["Electricity (< min.service level)"]
["Electricity - prepaid (< min. service level)"]
["Other energy sources"]
[{"$f":"$A$14","v":"Below Minimum Service Level sub-total"},null,{"$f":"SUM(C32:C34)","v":0},{"$f":"SUM(D32:D34)","v":0},0,0,0,0,0,0,0]
[{"$f":"$A$15","v":"Total number of households"},{"$f":"$B$15","v":5},{"$f":"C31+C35","v":0},{"$f":"D31+D35","v":0},0,0,0,0,0,0,0]
["Refuse:"]
["Removed at least once a week"]
[{"$f":"$A$10","v":"Minimum Service Level and Above sub-total"},null,{"$f":"SUM(C38)","v":0},{"$f":"SUM(D38)","v":0},0,0,0,0,0,0,0]
["Removed less frequently than once a week"]
["Using communal refuse dump"]
["Using own refuse dump"]
["Other rubbish disposal"]
["No rubbish disposal"]
[{"$f":"$A$14","v":"Below Minimum Service Level sub-total"},null,{"$f":"SUM(C40:C44)","v":0},0,0,0,0,0,0,0,0]
[{"$f":"$A$15","v":"Total number of households"},{"$f":"$B$15","v":5},{"$f":"C39+C45","v":0},{"$f":"D39+D45","v":0},0,0,0,0,0,0,0]
[]
["Households receiving Free Basic Service",7]
["Water (6 kilolitres per household per month)"]
["Sanitation (free minimum level service)"]
["Electricity/other energy (50kwh per household per month)"]
["Refuse (removed at least once a week)"]
[]
["Cost of Free Basic Services provided (R'000)",8]
["Water (6 kilolitres per household per month)"]
["Sanitation (free sanitation service)"]
["Electricity/other energy (50kwh per household per month)"]
["Refuse (removed once a week)"]
["Total cost of FBS provided (minimum social package) ",null,{"$f":"SUM(C54:C58)","v":0},{"$f":"SUM(D54:D58)","v":0},0,0,0,0,0,0,0]
[]
["Highest level of free service provided"]
["Property rates (R value threshold)"]
["Water (kilolitres per household per month)"]
["Sanitation (kilolitres per household per month)"]
["Sanitation (Rand per household per month)"]
["Electricity (kwh per household per month)"]
["Refuse (average litres per week)"]
["Revenue cost of free services provided (R'000)",9]
["Property rates (R15 000 threshold rebate)"]
["Property rates (other exemptions, reductions and rebates)"]
["Water"]
["Sanitation"]
["Electricity/other energy"]
["Refuse"]
["Municipal Housing - rental rebates"]
["Housing - top structure subsidies",6]
["Other"]
["Total revenue cost of free services provided (total social package)",null,{"$f":"SUM(C69:C77)","v":0},0,0,0,0,0,0,{"$f":"SUM(J69:J77)","v":0},{"$f":"SUM(K69:K77)","v":0}]
[{"$f":"head27a","v":"References"}]
["1. Include services provided by another entity; e.g. Eskom"]
["2. Stand distance <= 200m from dwelling"]
["3. Stand distance > 200m from dwelling"]
["4. Borehole, spring, rain-water tank etc."]
["5. Must agree to total number of households in municipal area"]
["6. Include value of subsidy provided by municipality above provincial subsidy level"]
["7. Show number of households receiving at least these levels of services completely free"]
["8. Must reflect the cost to the municipality of providing the Free Basic Service"]
["9. Reflect the cost to the municipality in terms of 'revenue foregone' of providing free services (note this will not equal 'Revenue Foregone' on SA1)"]
[]
[]
["Check (no. of households)"]
["Water ",null,{"$f":"C15-'SA9'!E76","v":0},{"$f":"D15-'SA9'!F76","v":0},{"$f":"E15-'SA9'!G76","v":0},{"$f":"F15-'SA9'!H76","v":0},{"$f":"G15-'SA9'!I76","v":0},{"$f":"H15-'SA9'!J76","v":0},{"$f":"I15-'SA9'!K76","v":0},{"$f":"J15-'SA9'!L76","v":0},{"$f":"K15-'SA9'!M76","v":0}]
["Sanitation",null,{"$f":"C27-'SA9'!E88","v":0},{"$f":"D27-'SA9'!F88","v":0},{"$f":"E27-'SA9'!G88","v":0},{"$f":"F27-'SA9'!H88","v":0},{"$f":"G27-'SA9'!I88","v":0},{"$f":"H27-'SA9'!J88","v":0},{"$f":"I27-'SA9'!K88","v":0},{"$f":"J27-'SA9'!L88","v":0},{"$f":"K27-'SA9'!M88","v":0}]
["Energy",null,{"$f":"C36-'SA9'!E97","v":0},{"$f":"D36-'SA9'!F97","v":0},{"$f":"E36-'SA9'!G97","v":0},{"$f":"F36-'SA9'!H97","v":0},{"$f":"G36-'SA9'!I97","v":0},{"$f":"H36-'SA9'!J97","v":0},{"$f":"I36-'SA9'!K97","v":0},{"$f":"J36-'SA9'!L97","v":0},{"$f":"K36-'SA9'!M97","v":0}]
["Refuse",null,{"$f":"C46-'SA9'!E107","v":0},{"$f":"D46-'SA9'!F107","v":0},{"$f":"E46-'SA9'!G107","v":0},{"$f":"F46-'SA9'!H107","v":0},{"$f":"G46-'SA9'!I107","v":0},{"$f":"H46-'SA9'!J107","v":0},{"$f":"I46-'SA9'!K107","v":0},{"$f":"J46-'SA9'!L107","v":0},{"$f":"K46-'SA9'!M107","v":0}]

{"sheet":"SA1","index":19,"n_rows":175,"n_cols":12,"rows_kept":175,"cut":false,"hidden":false,"merged":[[1,9,1,11],[1,5,1,8],[1,0,2,0],[1,1,2,1]]}
[{"$f":"muni&\" - \"&TableA1","v":"DC16 Xhariep - Supporting Table SA1 Supportinging detail to 'Budgeted Financial Performance'"}]
[{"$f":"desc","v":"Description"},{"$f":"head27","v":"Ref"},{"$f":"head1b","v":"2010/11"},{"$f":"head1A","v":"2011/12"},{"$f":"Head1","v":"2012/13"},{"$f":"Head2","v":"Current Year 2013/14"},null,null,null,{"$f":"Head3","v":"2014/15 Medium Term Revenue & Expenditure Framework"}]
[null,null,{"$f":"Head5","v":"Audited Outcome"},{"$f":"Head5","v":"Audited Outcome"},{"$f":"Head5","v":"Audited Outcome"},{"$f":"Head6","v":"Original Budget"},{"$f":"Head7","v":"Adjusted Budget"},{"$f":"Head8","v":"Full Year Forecast"},{"$f":"Head5b","v":"Pre-audit outcome"},{"$f":"Head9","v":"Budget Year 2014/15"},{"$f":"Head10","v":"Budget Year +1 2015/16"},{"$f":"Head11","v":"Budget Year +2 2016/17"}]
["R thousand"]
["REVENUE ITEMS:"]
[{"$f":"'A4-FinPerf RE'!A5","v":"Property rates"},6]
["Total Property Rates"]
["less Revenue Foregone"]
["Net Property Rates",null,{"$f":"C7-C8","v":0},{"$f":"D7-D8","v":0},0,0,0,0,0,0,0,0]
[]
[{"$f":"'A4-FinPerf RE'!A7","v":"Service charges - electricity revenue"},6]
[{"$f":"\"Total \"&A11","v":"Total Service charges - electricity revenue"}]
[{"$f":"$A$8","v":"less Revenue Foregone"}]
[{"$f":"\"Net \"& A11","v":"Net Service charges - electricity revenue"},null,{"$f":"C12-C13","v":0},0,0,0,0,0,0,0,0,0]
[]
[{"$f":"'A4-FinPerf RE'!A8","v":"Service charges - water revenue"},6]
[{"$f":"\"Total \"&A16","v":"Total Service charges - water revenue"}]
[{"$f":"$A$8","v":"less Revenue Foregone"}]
[{"$f":"\"Net \"& A16","v":"Net Service charges - water revenue"},null,{"$f":"C17-C18","v":0},0,0,0,0,0,0,0,0,0]
[]
[{"$f":"'A4-FinPerf RE'!A9","v":"Service charges - sanitation revenue"}]
[{"$f":"\"Total \"&A21","v":"Total Service charges - sanitation revenue"}]
[{"$f":"$A$8","v":"less Revenue Foregone"}]
[{"$f":"\"Net \"& A21","v":"Net Service charges - sanitation revenue"},null,{"$f":"C22-C23","v":0},0,0,0,0,0,0,0,0,0]
[]
[{"$f":"'A4-FinPerf RE'!A10","v":"Service charges - refuse revenue"},6]
["Total refuse removal revenue"]
["Total landfill revenue"]
[{"$f":"$A$8","v":"less Revenue Foregone"}]
[{"$f":"\"Net \"& A26","v":"Net Service charges - refuse revenue"},null,{"$f":"SUM(C27:C28)-C29","v":0},{"$f":"SUM(D27:D28)-D29","v":0},0,0,0,0,0,0,0,0]
[]
["Other Revenue by source"]
["Parking Bays",null,null,15741,null,88774,88774,88774,88774,46497.599999999999,{"$f":"J33*1.1","v":51147.360000000001},{"$f":"K33*1.1","v":56262.096000000005}]
["Tender Document Fees",null,16360,22398,null,15000,15000,15000,15000,12500,{"$f":"J34*1.1","v":13750.000000000002},{"$f":"K34*1.1","v":15125.000000000004}]
["Other revenue",null,0,null,72623,null,null,null,null,570000,0,0]
["Donations ",null,50,1466136,0]
[]
[]
[]
[]
[]
[]
[]
[null,3]
["Total 'Other' Revenue",1,{"$f":"SUM(C33:C44)","v":16410},{"$f":"SUM(D33:D44)","v":1504275},72623,103774,103774,103774,103774,628997.6,64897.36,71387.096000000005]
[]
["EXPENDITURE ITEMS:"]
[{"$f":"'A4-FinPerf RE'!A25","v":"Employee related costs"}]
["Basic Salaries and Wages",2,15006210,18228147,22054528,22181857.291687999,19870395.011687998,19870395.011687998,19870395.011687998,26375151.43,{"$f":"J49*1.075","v":28353287.787249997},{"$f":"K49*1.075","v":30479784.371293746}]
["Pension and UIF Contributions",null,2798355,3710754,4686895,3741947.8848670567,3741947.8848670567,3741947.8848670567,3741947.8848670567,4221686.72,{"$f":"J50*1.1","v":4643855.392},5108240.9312000005]
["Medical Aid Contributions",null,0,0,null,1796195.503840284,1796195.503840284,1796195.503840284,1796195.503840284,1923998.58,2116398.4380000001,2328038.2818000005]
["Overtime",null,0,null,null,0,0,0,0,0,0,0]
["Performance Bonus",null,0,null,null,0,0,0,0,12231.29,13454.419000000002,14799.860900000003]
["Motor Vehicle Allowance",null,2070531,2499524,3258437,4063280.3942834004,4063280.3942834004,4063280.3942834004,4063280.3942834004,3885542.14,4274096.3540000003,4701505.9894000003]
["Cellphone Allowance",null,0,null,null,319186.11651000002,319186.11651000002,319186.11651000002,319186.11651000002,329496,362445.60000000003,398690.16000000009]
["Housing Allowances",null,126535,147205,159150,301114.87359999999,301114.87359999999,301114.87359999999,301114.87359999999,282245.15999999997,310469.67599999998,341516.64360000001]
["Other benefits and allowances",null,0,0,null,1983956.8050135465,1983956.8050135465,1983956.8050135465,1983956.8050135465,2134454.63,2347900.0929999999,2582690.1022999999]
["Payments in lieu of leave",null,null,null,null,0,1,1,1,0,0,0]
["Long service awards",null,null,null,null,23467.625999999997,23467.625999999997,23467.625999999997,23467.625999999997,0,0,0]
["Post-retirement benefit obligations",4,null,null,null,0,0,0,0,0,0,0]
["sub-total",5,{"$f":"SUM(C49:C60)","v":20001631},{"$f":"SUM(D49:D60)","v":24585630},30159010,34411006.495802283,32099545.215802278,32099545.215802278,32099545.215802278,39164805.949999996,42421907.75925,45955266.340493746]
["Less: Employees costs capitalised to PPE"]
[{"$f":"\"Total \"&A48","v":"Total Employee related costs"},1,{"$f":"C61-C62","v":20001631},{"$f":"D61-D62","v":24585630},30159010,34411006.495802283,32099545.215802278,32099545.215802278,32099545.215802278,39164805.949999996,42421907.75925,45955266.340493746]
[]
["Contributions recognised - capital"]
["List contributions by contract"]
[]
[]
[]
[]
[]
[{"$f":"\"Total \"&A65","v":"Total Contributions recognised - capital"},null,{"$f":"SUM(C66:C71)","v":0},0,0,0,0,0,0,0,0,0]
[]
[{"$f":"'A4-FinPerf RE'!A28","v":"Depreciation & asset impairment"}]
["Depreciation of Property, Plant & Equipment",null,null,2307376,3648189,3866861.7446962921,3366861.7446962921,3366861.7446962921,3366861.7446962921,3500000,{"$f":"J75*1.1","v":3850000.0000000005},{"$f":"K75*1.1","v":4235000.0000000009}]
["Lease amortisation"]
["Capital asset impairment"]
["Depreciation resulting from revaluation of PPE",10]
[{"$f":"\"Total \"&LEFT(A74,35)","v":"Total Depreciation & asset impairment"},1,{"$f":"SUM(C75:C77)-C78","v":0},{"$f":"SUM(D75:D77)-D78","v":2307376},3648189,3866861.7446962921,3366861.7446962921,3366861.7446962921,3366861.7446962921,{"$f":"SUM(J75:J77)-J78","v":3500000},3850000.0000000005,4235000.0000000009]
[]
[{"$f":"'A4-FinPerf RE'!A30","v":"Bulk purchases"}]
["Electricity Bulk Purchases"]
["Water Bulk Purchases"]
["Total bulk purchases",1,{"$f":"SUM(C82:C83)","v":0},{"$f":"SUM(D82:D83)","v":0},0,0,0,0,0,0,0,0]
[]
["Transfers and grants"]
["Cash transfers and grants",null,{"$f":"'SA21'!C34","v":0},{"$f":"'SA21'!D34","v":0},{"$f":"'SA21'!E34","v":0},{"$f":"'SA21'!F34","v":0},{"$f":"'SA21'!G34","v":1089978},{"$f":"'SA21'!H34","v":1089978},{"$f":"'SA21'!I34","v":1089978},{"$f":"'SA21'!J34","v":0},{"$f":"'SA21'!K34","v":0},{"$f":"'SA21'!L34","v":0}]
["Non-cash transfers and grants",null,{"$f":"'SA21'!C65","v":0},{"$f":"'SA21'!D65","v":0},{"$f":"'SA21'!E65","v":0},{"$f":"'SA21'!F65","v":0},{"$f":"'SA21'!G65","v":0},{"$f":"'SA21'!H65","v":0},{"$f":"'SA21'!I65","v":0},{"$f":"'SA21'!J65","v":0},{"$f":"'SA21'!K65","v":0},{"$f":"'SA21'!L65","v":0}]
["Total transfers and grants",1,{"$f":"SUM(C87:C88)","v":0},{"$f":"SUM(D87:D88)","v":0},0,0,1089978,1089978,1089978,0,0,0]
[]
[{"$f":"'A4-FinPerf RE'!A32","v":"Contracted services"}]
["Finance Lease Contract",null,null,null,null,600000,900000,900000,900000,500000,{"$f":"J92*1.1","v":550000},{"$f":"K92*1.1","v":605000}]
[]
[]
[]
[]
[]
[]
[]
[]
[]
[]
[]
[]
[]
[]
[]
[]
[]
[]
[]
[]
[]
[]
[]
[]
["sub-total",1,{"$f":"SUM(C92:C116)","v":0},0,0,600000,900000,900000,900000,500000,550000,605000]
["Allocations to organs of state:"]
["Electricity"]
["Water"]
["Sanitation"]
["Other"]
["Total contracted services",null,{"$f":"SUM(C117:C122)","v":0},{"$f":"SUM(D117:D122)","v":0},0,600000,900000,900000,900000,500000,550000,605000]
[]
["Other Expenditure By Type"]
["Collection costs",null,0,0,null,0,null,null,null,0,{"$f":"J126*1.1","v":0},{"$f":"K126*1.1","v":0}]
["Contributions to 'other' provisions",null,0,0,null,0,null,null,null,0,{"$f":"J127*1.1","v":0},0]
["Consultant fees",null,1624812,3502707,2842751,810000,471119,471119,471119,130000,{"$f":"J128*1.1","v":143000},157300]
["Audit fees",null,1581379,3682032,1730112,1800000,2777673,2777673,2777673,1800000,{"$f":"J129*1.1","v":1980000.0000000002},2178000.0000000005]
["General expenses",3,5830795,17151196,6419162,11508087.000000007,17006196.600000001,17006196.600000001,17006196.600000001,{"$f":"12505739.98-J129-3500000+3127500-500000","v":9833239.9800000004},{"$f":"J130*1.1","v":10816563.978000002},11898220.375800002]
["Repairs and maintenance",null,1418656,2124674,1271312,1151000,1445465,1445465,1445465,null,{"$f":"J131*1.1","v":0},0]
["Advertising",null,394115,570790,365860,null,null,null,null,null,{"$f":"J132*1.1","v":0},0]
["Bursaries",null,105388,121488,36318,null,null,null,null,null,{"$f":"J133*1.1","v":0},0]
["Conference and Delegation",null,43747,90042,67296,null,null,null,null,null,{"$f":"J134*1.1","v":0},0]
["Disaster Management",null,0,618323,374384,null,null,null,null,null,{"$f":"J135*1.1","v":0},0]
["General expenses",null,null,null,null,null,null,null,null,null,{"$f":"J136*1.1","v":0},0]
["Entertainment",null,398756,405573,166010,null,null,null,null,null,{"$f":"J137*1.1","v":0},0]
["Fuel and Oil",null,275902,380187,309386,null,null,null,null,null,{"$f":"J138*1.1","v":0},0]
["Insurance",null,141800,226986,null,null,null,null,null,null,{"$f":"J139*1.1","v":0},0]
["Legal Expenses",null,231767,75766,101436,5469816.6013013003,0,0,0,null,{"$f":"J140*1.1","v":0},0]
["Licence Fees",null,60426,332626,530930,null,null,null,null,null,{"$f":"J141*1.1","v":0},0]
["Membership Fees",null,166769,217469,459911,null,null,null,null,null,{"$f":"J142*1.1","v":0},0]
["Postage",null,8227,2213,2335,null,null,null,null,null,{"$f":"J143*1.1","v":0},0]
["Printing and stationery",null,199698,483527,376082,null,null,null,null,null,{"$f":"J144*1.1","v":0},0]
["Security Costs",null,4277,11285,1767052,null,null,null,null,null,{"$f":"J145*1.1","v":0},0]
["Training",null,888385,1794359,361873,null,null,null,null,null,{"$f":"J146*1.1","v":0},0]
["Telephone Costs",null,760939,977963,671100,null,null,null,null,null,{"$f":"J147*1.1","v":0},0]
["Travel and Subsistence",null,2533717,4918139,4239138,null,null,null,null,null,{"$f":"J148*1.1","v":0},0]
["Water and Electricity",null,67383,268725,463025,null,null,null,null,null,{"$f":"J149*1.1","v":0},0]
["Repairs and Maitenance",null,null,null,null,0,null,null,null,528000,{"$f":"J150*1.1","v":580800},638880]
["Expenditure on grants",null,null,null,null,null,null,null,null,{"$f":"4636000","v":4636000},{"$f":"J151*1.1","v":5099600},5609560]
["Capital Expenditure",null,null,null,null,null,null,null,null,{"$f":"3027000-1852000+70000+500000","v":1745000},{"$f":"J152*1.1","v":1919500.0000000002},2111450.0000000005]
["Total 'Other' Expenditure",1,{"$f":"SUM(C126:C152)","v":16736938},{"$f":"SUM(D126:D152)","v":37956070},22555473,20738903.601301309,21700453.600000001,21700453.600000001,21700453.600000001,18672239.98,20539463.978,22593410.375800002]
[]
["Repairs and Maintenance \nby Expenditure Item",8]
["Employee related costs"]
["Other materials"]
["Contracted Services"]
["Other Expenditure",null,4878000,7602000,1271312,1151000,1445465,1445465,1445000,528000,{"$f":"J159*1.1","v":580800},{"$f":"K159*1.1","v":638880}]
["Total Repairs and Maintenance Expenditure",9,{"$f":"SUM(C156:C159)","v":4878000},{"$f":"SUM(D156:D159)","v":7602000},1271312,1151000,1445465,1445465,1445000,528000,580800,638880]
[]
["check",null,{"$f":"C160-SA34c!C77","v":-87},{"$f":"D160-SA34c!D77","v":-87},{"$f":"E160-SA34c!E77","v":0},{"$f":"F160-SA34c!F77","v":0},{"$f":"G160-SA34c!G77","v":0},{"$f":"H160-SA34c!H77","v":0},null,{"$f":"J160-SA34c!I77","v":0},{"$f":"K160-SA34c!J77","v":0},{"$f":"L160-SA34c!K77","v":0}]
[]
[]
[{"$f":"head27a","v":"References"}]
["1. Must reconcile with 'Budgeted Financial Performance (Revenue and Expenditure)"]
["2. Must reconcile to supporting documentation on staff salaries"]
["3. Insert other categories where revenue or expenditure is of a material nature (list separate items until 'General expenses' is not > 10% of Total Expenditure)"]
["4. Expenditure to meet any 'unfunded obligations'"]
["5 This sub-total must agree with the total on SA22, but excluding councillor and board member items"]
["6. Include a note for each revenue item that is affected by 'revenue foregone'"]
["7. Special consideration may have to be given to including 'goodwill arising' or 'joint venture' budgets where circumstances require this (include separately under relevant notes)"]
["8. Repairs and Maintenance is not a GRAP item. However to facilitate transparency, municipalities must provide a breakdown of the amounts included in the relevant GRAP items that will be spent on Repairs and Maintenance."]
["9. Must reconcile with Repairs and Maintenance by Asset Class (Total Repairs and Maintenance) on Table SA34c."]
["10. Only applicable to municipalities that have adopted the 'revaluation method' in GRAP 17. The aim is to prevent overstating 'depreciation and asset impairment'"]

{"sheet":"SA2","index":20,"n_rows":45,"n_cols":18,"rows_kept":45,"cut":false,"hidden":false,"merged":[[1,6,2,6],[1,7,2,7],[1,2,2,2],[1,3,2,3],[1,4,2,4],[1,5,2,5],[1,16,2,16],[1,17,2,17],[1,8,2,8],[1,9,2,9],[1,10,2,10],[1,11,2,11],[1,12,2,12],[1,13,2,13],[1,14,2,14],[1,15,2,15]]}
[{"$f":"muni&\" - \"&TableA2","v":"DC16 Xhariep - Supporting Table SA2 Matrix Financial Performance Budget (revenue source/expenditure type and dept.)"}]
[{"$f":"desc","v":"Description"},{"$f":"head27","v":"Ref"},{"$f":"'A3-FinPerf V'!A5","v":"Vote 1 - General Council"},{"$f":"'A3-FinPerf V'!A6","v":"Vote 2 - Municipal Manager"},{"$f":"'A3-FinPerf V'!A7","v":"Vote 3 - Budget & Treasury Office"},{"$f":"'A3-FinPerf V'!A8","v":"Vote 4 - Planning & Development"},{"$f":"'A3-FinPerf V'!A9","v":"Vote 5 - Corporate Services"},{"$f":"'A3-FinPerf V'!A10","v":"Vote 6 - [NAME OF VOTE 6]"},{"$f":"'A3-FinPerf V'!A11","v":"Vote 7 - [NAME OF VOTE 7]"},{"$f":"'A3-FinPerf V'!A12","v":"Vote 8 - [NAME OF VOTE 8]"},{"$f":"'A3-FinPerf V'!A13","v":"Vote 9 - [NAME OF VOTE 9]"},{"$f":"'A3-FinPerf V'!A14","v":"Vote 10 - [NAME OF VOTE 10]"},{"$f":"'A3-FinPerf V'!A15","v":"Vote 11 - [NAME OF VOTE 11]"},{"$f":"'A3-FinPerf V'!A16","v":"Vote 12 - [NAME OF VOTE 12]"},{"$f":"'A3-FinPerf V'!A17","v":"Vote 13 - [NAME OF VOTE 13]"},{"$f":"'A3-FinPerf V'!A18","v":"Vote 14 - [NAME OF VOTE 14]"},{"$f":"'A3-FinPerf V'!A19","v":"Vote 15 - [NAME OF VOTE 15]"},"Total"]
["R thousand",1,"R'000","R'000","R'000","R'000","R'000","R'000",null,null,null,null,null,null,null,null,"R'000","R'000"]
[{"$f":"'A4-FinPerf RE'!A4","v":"Revenue By Source"}]
[{"$f":"'A4-FinPerf RE'!A5","v":"Property rates"},null,null,null,null,null,null,null,null,null,null,null,null,null,null,null,null,{"$f":"SUM(C5:Q5)","v":0}]
[{"$f":"'A4-FinPerf RE'!A6","v":"Property rates - penalties & collection charges"},null,null,null,null,null,null,null,null,null,null,null,null,null,null,null,null,{"$f":"SUM(C6:Q6)","v":0}]
[{"$f":"'A4-FinPerf RE'!A7","v":"Service charges - electricity revenue"},null,null,null,null,null,null,null,null,null,null,null,null,null,null,null,null,0]
[{"$f":"'A4-FinPerf RE'!A8","v":"Service charges - water revenue"},null,null,null,null,null,null,null,null,null,null,null,null,null,null,null,null,0]
[{"$f":"'A4-FinPerf RE'!A9","v":"Service charges - sanitation revenue"},null,null,null,null,null,null,null,null,null,null,null,null,null,null,null,null,0]
[{"$f":"'A4-FinPerf RE'!A10","v":"Service charges - refuse revenue"},null,null,null,null,null,null,null,null,null,null,null,null,null,null,null,null,0]
[{"$f":"'A4-FinPerf RE'!A11","v":"Service charges - other"},null,null,null,null,null,null,null,null,null,null,null,null,null,null,null,null,0]
[{"$f":"'A4-FinPerf RE'!A12","v":"Rental of facilities and equipment"},null,0,0,0,0,468566,0,0,0,0,0,0,0,0,0,0,468566]
[{"$f":"'A4-FinPerf RE'!A13","v":"Interest earned - external investments"},null,0,0,{"$f":"100000+3800","v":103800},null,null,null,null,null,null,null,null,null,null,null,null,103800]
[{"$f":"'A4-FinPerf RE'!A14","v":"Interest earned - outstanding debtors"},null,null,null,{"$f":"8404+3603","v":12007},null,null,null,null,null,null,null,null,null,null,null,null,12007]
[{"$f":"'A4-FinPerf RE'!A15","v":"Dividends received"},null,null,null,null,null,null,null,null,null,null,null,null,null,null,null,null,0]
[{"$f":"'A4-FinPerf RE'!A16","v":"Fines"},null,null,null,null,null,null,null,null,null,null,null,null,null,null,null,null,0]
[{"$f":"'A4-FinPerf RE'!A17","v":"Licences and permits"},null,null,null,null,null,null,null,null,null,null,null,null,null,null,null,null,0]
[{"$f":"'A4-FinPerf RE'!A18","v":"Agency services"},null,null,null,null,null,null,null,null,null,null,null,null,null,null,null,null,0]
[{"$f":"'A4-FinPerf RE'!A20","v":"Other revenue"},null,570000,null,12500,null,46498,null,null,null,null,null,null,null,null,null,null,628998]
[{"$f":"'A4-FinPerf RE'!A19","v":"Transfers recognised - operational"},null,{"$f":"8928332-500000-500000","v":7928332},6379624,14800102,11639009,21744934,null,null,null,null,null,null,null,null,null,null,62492001]
[{"$f":"'A4-FinPerf RE'!A21","v":"Gains on disposal of PPE"},null,null,null,null,null,null,null,null,null,null,null,null,null,null,null,null,0]
[{"$f":"'A4-FinPerf RE'!A22","v":"Total Revenue (excluding capital transfers and contributions)"},null,{"$f":"SUM(C5:C21)","v":8498332},6379624,14928409,11639009,22259998,0,0,0,0,0,0,0,0,0,0,63705372]
[]
[{"$f":"'A4-FinPerf RE'!A24","v":"Expenditure By Type"}]
[{"$f":"'A4-FinPerf RE'!A25","v":"Employee related costs"},null,null,5687728.3300000001,9899658.2599999998,8086166.5,15491252.859999999,null,null,null,null,null,null,null,null,null,null,{"$f":"SUM(C25:Q25)","v":39164805.950000003}]
[{"$f":"'A4-FinPerf RE'!A26","v":"Remuneration of councillors"},null,4696833.4800000004,null,null,null,null,null,null,null,null,null,null,null,null,null,null,{"$f":"SUM(C26:Q26)","v":4696833.4800000004}]
[{"$f":"'A4-FinPerf RE'!A27","v":"Debt impairment"},null,null,null,null,null,null,null,null,null,null,null,null,null,null,null,null,0]
[{"$f":"'A4-FinPerf RE'!A28","v":"Depreciation & asset impairment"},null,null,null,null,null,null,null,null,null,null,null,null,null,null,null,null,0]
[{"$f":"'A4-FinPerf RE'!A29","v":"Finance charges"},null,null,null,null,null,null,null,null,null,null,null,null,null,null,null,null,0]
[{"$f":"'A4-FinPerf RE'!A30","v":"Bulk purchases"},null,null,null,null,null,null,null,null,null,null,null,null,null,null,null,null,0]
[{"$f":"'A4-FinPerf RE'!A31","v":"Other materials"},null,null,null,null,null,null,null,null,null,null,null,null,null,null,null,null,0]
[{"$f":"'A4-FinPerf RE'!A32","v":"Contracted services"},null,null,null,null,null,null,null,null,null,null,null,null,null,null,null,null,0]
[{"$f":"'A4-FinPerf RE'!A33","v":"Transfers and grants"},null,null,null,null,null,null,null,null,null,null,null,null,null,null,null,null,0]
[{"$f":"'A4-FinPerf RE'!A34","v":"Other expenditure"},null,{"$f":"'[5]Annual budget'!$B$117-C26-500000","v":6103307},{"$f":"10030074.33-D25","v":4342346},{"$f":"12354570.26-E25","v":2454912},{"$f":"13806724.02-F25","v":5720557.5199999996},{"$f":"19042370.32-G25","v":3551117.4600000009},null,null,null,null,null,null,null,null,null,null,22172239.98]
[{"$f":"'A4-FinPerf RE'!A35","v":"Loss on disposal of PPE"},null,null,null,null,null,null,null,null,null,null,null,null,null,null,null,null,0]
["Total Expenditure",null,{"$f":"SUM(C25:C35)","v":10800140.48},10030074.33,12354570.26,13806724.02,19042370.32,0,0,0,0,0,0,0,0,0,0,66033879.410000011]
[]
[{"$f":"'A4-FinPerf RE'!A38","v":"Surplus/(Deficit)"},null,{"$f":"C22-C36","v":-2301808.4800000004},-3650450.33,2573838.7400000002,-2167715.0199999996,3217627.6799999997,0,{"$f":"I22-I36","v":0},0,0,0,0,0,0,0,0,{"$f":"R22-R36","v":-2328507.4100000113}]
[{"$f":"'A4-FinPerf RE'!A39","v":"Transfers recognised - capital"},null,null,null,null,null,null,null,null,null,null,null,null,null,null,null,null,{"$f":"SUM(C39:Q39)","v":0}]
[{"$f":"'A4-FinPerf RE'!A40","v":"Contributions recognised - capital"},null,null,null,null,null,null,null,null,null,null,null,null,null,null,null,null,{"$f":"SUM(C40:Q40)","v":0}]
[{"$f":"'A4-FinPerf RE'!A41","v":"Contributed assets"},null,null,null,null,null,null,null,null,null,null,null,null,null,null,null,null,{"$f":"SUM(C41:Q41)","v":0}]
[{"$f":"'A4-FinPerf RE'!A42","v":"Surplus/(Deficit) after capital transfers & contributions"},null,{"$f":"SUM(C38:C41)","v":-2301808.4800000004},-3650450.33,2573838.7400000002,-2167715.0199999996,3217627.6799999997,0,0,0,0,0,0,0,0,0,{"$f":"SUM(Q38:Q41)","v":0},{"$f":"SUM(R38:R41)","v":-2328507.4100000113}]
[{"$f":"head27a","v":"References"}]
["1. Departmental columns to be based on municipal organisation structure"]
["check balance",null,null,null,null,null,null,null,null,null,null,null,null,null,null,null,null,{"$f":"'A4-FinPerf RE'!J42-'SA2'!R42","v":-1.5199999809265137}]

{"sheet":"SA3","index":21,"n_rows":82,"n_cols":12,"rows_kept":82,"cut":false,"hidden":false,"merged":[[1,0,2,0],[1,1,2,1],[1,9,1,11],[1,5,1,8]]}
[{"$f":"muni&\" - \"&TableA3","v":"DC16 Xhariep - Supporting Table SA3 Supportinging detail to 'Budgeted Financial Position'"}]
[{"$f":"desc","v":"Description"},{"$f":"head27","v":"Ref"},{"$f":"head1b","v":"2010/11"},{"$f":"head1A","v":"2011/12"},{"$f":"Head1","v":"2012/13"},{"$f":"Head2","v":"Current Year 2013/14"},null,null,null,{"$f":"Head3","v":"2014/15 Medium Term Revenue & Expenditure Framework"}]
[null,null,{"$f":"Head5","v":"Audited Outcome"},{"$f":"Head5","v":"Audited Outcome"},{"$f":"Head5","v":"Audited Outcome"},{"$f":"Head6","v":"Original Budget"},{"$f":"Head7","v":"Adjusted Budget"},{"$f":"Head8","v":"Full Year Forecast"},{"$f":"Head5b","v":"Pre-audit outcome"},{"$f":"Head9","v":"Budget Year 2014/15"},{"$f":"Head10","v":"Budget Year +1 2015/16"},{"$f":"Head11","v":"Budget Year +2 2016/17"}]
["R thousand"]
["ASSETS"]
[{"$f":"'A6-FinPos'!A7","v":"Call investment deposits"}]
["Call deposits < 90 days",null,5031973,5000000,0,5000000,5000000,5000000]
["Other current investments > 90 days"]
[{"$f":"\"Total \"&A6","v":"Total Call investment deposits"},2,{"$f":"SUM(C7:C8)","v":5031973},{"$f":"SUM(D7:D8)","v":5000000},0,5000000,5000000,5000000,0,0,0,0]
[]
[{"$f":"'A6-FinPos'!A8","v":"Consumer debtors"}]
[{"$f":"A11","v":"Consumer debtors"},null,8449143,17392548,11715267.630000001,17193230.029800002,17193230.029800002,17193230.029800002,2145721.33,400000,360000]
["Less: Provision for debt impairment",null,null,null,-10867941.369999999,0,null,null,-1582954.7,-288000,-302000]
[{"$f":"\"Total \"&A11","v":"Total Consumer debtors"},2,{"$f":"SUM(C12:C13)","v":8449143},{"$f":"SUM(D12:D13)","v":17392548},847326.26000000164,{"$f":"SUM(F12:F13)","v":17193230.029800002},17193230.029800002,17193230.029800002,562766.63000000012,112000,58000,0]
[]
["Debt impairment provision"]
["Balance at the beginning of the year",null,null,null,null,0]
["Contributions to the provision",null,null,null,null,0,null,null,null,600000]
["Bad debts written off",null,0,0,10777736.25,0,0,0,715017.81]
["Balance at end of year",null,{"$f":"SUM(C17:C19)","v":0},{"$f":"SUM(D17:D19)","v":0},10777736.25,0,0,0,715017.81,600000,0,0]
[]
[{"$f":"'A6-FinPos'!A19&\" (PPE)\"","v":"Property, plant and equipment (PPE)"}]
["PPE at cost/valuation (excl. finance leases)",null,16777105,27241634,28514250,33137660,33137660,33137660,28746056.069790877,28746056.069790877,28746056.069790877,29400000]
["Leases recognised as PPE",3,null,1281358,1281358,1281358,1281358,1281358,0,600000,600000,600000]
["Less: Accumulated depreciation",null,null,6480523,9712805,13702862.247885372,13702862.247885372,13702862.247885372,9938560.1997163016,13438560.199716302,16938560.1997163,15238560.199716302]
[{"$f":"\"Total \"&A22","v":"Total Property, plant and equipment (PPE)"},2,{"$f":"SUM(C23:C24)-C25","v":16777105},{"$f":"SUM(D23:D24)-D25","v":22042469},20082803,20716155.752114628,20716155.752114628,20716155.752114628,18807495.870074578,15907495.870074576,12407495.870074578,14761439.800283698]
[]
["LIABILITIES"]
[{"$f":"'A6-FinPos'!A28&\" - \"&'A6-FinPos'!A30","v":"Current liabilities - Borrowing"}]
["Short term loans (other than bank overdraft)"]
["Current portion of long-term liabilities",null,397947,362288,0]
[{"$f":"\"Total \"&A29","v":"Total Current liabilities - Borrowing"},null,{"$f":"SUM(C30:C31)","v":397947},{"$f":"SUM(D30:D31)","v":362288},0,0,0,0,0,0,0,0]
[]
[{"$f":"'A6-FinPos'!A32","v":"Trade and other payables"}]
["Trade and other creditors",null,5223240,5076188,6291487,15076020.66,15076020.66,15076020.66,5037081.74,3645000,3325980,3007984]
["Unspent conditional transfers",null,355449,1523205,1992053,null,null,null,3860068.35,1292053,1292053,960000]
["VAT",null,0,-2466483,-979901,null,null,null,-1695784.27,-630000,-658000,-712000]
[{"$f":"\"Total \"&A34","v":"Total Trade and other payables"},2,{"$f":"SUM(C35:C37)","v":5578689},4132910,7303639,15076020.66,15076020.66,15076020.66,7201365.8200000003,4307053,3960033,{"$f":"SUM(L35:L37)","v":3255984}]
[]
[{"$f":"'A6-FinPos'!A36&\" - \"&'A6-FinPos'!A37","v":"Non current liabilities - Borrowing"}]
["Borrowing",4]
["Finance leases (including PPP asset element)",null,362289,null,null,701000,900000,900000,null,500000,{"$f":"J42*1.1","v":550000},{"$f":"K42*1.1","v":605000}]
[{"$f":"\"Total \"&A40","v":"Total Non current liabilities - Borrowing"},null,{"$f":"SUM(C41:C42)","v":362289},{"$f":"SUM(D41:D42)","v":0},0,701000,900000,900000,0,500000,550000,605000]
[]
[{"$f":"'A6-FinPos'!A38&\" - non-current\"","v":"Provisions - non-current"}]
["Retirement benefits"]
["List other major provision items"]
["Refuse landfill site rehabilitation"]
["Other",null,495889,673000,879000,603000,603000,603000,879000,912000,984960,1063756.8]
[{"$f":"\"Total \"&A45","v":"Total Provisions - non-current"},null,{"$f":"SUM(C46:C49)","v":495889},673000,879000,603000,603000,603000,879000,912000,984960,1063756.8]
[]
["CHANGES IN NET ASSETS"]
[{"$f":"'A6-FinPos'!A45","v":"Accumulated Surplus/(Deficit)"}]
[{"$f":"A53&\" - opening balance\"","v":"Accumulated Surplus/(Deficit) - opening balance"},null,20515702,54199717.990000002,-29396196,68555162.756160855,68555162.756160855]
["GRAP adjustments"]
["Restated balance",null,{"$f":"SUM(C54:C55)","v":20515702},{"$f":"SUM(D54:D55)","v":54199717.990000002},{"$f":"SUM(E54:E55)","v":-29396196},{"$f":"SUM(F54:F55)","v":68555162.756160855},68555162.756160855,0,0,0,0,0]
[{"$f":"'A4-FinPerf RE'!A38","v":"Surplus/(Deficit)"},null,{"$f":"'A4-FinPerf RE'!C46","v":6389279},{"$f":"'A4-FinPerf RE'!D46","v":22817575},{"$f":"'A4-FinPerf RE'!E46","v":-31360030},{"$f":"'A4-FinPerf RE'!F46","v":-2301061.8712759018},{"$f":"'A4-FinPerf RE'!G46","v":-2482886.949974589},{"$f":"'A4-FinPerf RE'!H46","v":-2482886.949974589},{"$f":"'A4-FinPerf RE'!I46","v":-6880886.949974589},{"$f":"'A4-FinPerf RE'!J46","v":-2328508.9299999923},{"$f":"'A4-FinPerf RE'!K46","v":-2388076.0328499973},{"$f":"'A4-FinPerf RE'!L46","v":-1767283.0867457539}]
["Appropriations to Reserves"]
["Transfers from Reserves"]
["Depreciation offsets"]
["Other adjustments"]
["Accumulated Surplus/(Deficit)",1,{"$f":"SUM(C56:C61)","v":26904981},{"$f":"SUM(D56:D61)","v":77017292.99000001},{"$f":"SUM(E56:E61)","v":-60756226},66254100.884884953,66072275.806186266,-2482886.949974589,-6880886.949974589,-2328508.9299999923,-2388076.0328499973,-1767283.0867457539]
["Reserves"]
["Housing Development Fund"]
["Capital replacement"]
["Self-insurance"]
["Other reserves"]
["Revaluation"]
["Total Reserves",2,{"$f":"SUM(C64:C68)","v":0},0,0,0,0,0,0,0,0,0]
[{"$f":"'A6-FinPos'!A48","v":"TOTAL COMMUNITY WEALTH/EQUITY"},2,{"$f":"C62+C69","v":26904981},77017292.99000001,-60756226,66254100.884884953,66072275.806186266,-2482886.949974589,-6880886.949974589,-2328508.9299999923,-2388076.0328499973,-1767283.0867457539]
[]
["Total capital expenditure includes expenditure on nationally significant priorities:"]
["Provision of basic services"]
[]
[]
[{"$f":"head27a","v":"References"}]
[{"$f":"\"1. Must reconcile with \"&'Template names'!F103","v":"1. Must reconcile with Table A4 Budgeted Financial Performance (revenue and expenditure)"}]
[{"$f":"\"2. Must reconcile with \"&'Template names'!F105","v":"2. Must reconcile with Table A6 Budgeted Financial Position"}]
["3. Leases treated as assets to be depreciated as the same as purchased/constructed assets.  Includes PPP asset element accounted for as finance leases"]
["4. Borrowing must reconcile to Table A17"]
["check",null,{"$f":"C70-'A6-FinPos'!C48","v":0},{"$f":"D70-'A6-FinPos'!D48","v":23815954.99000001},{"$f":"E70-'A6-FinPos'!E48","v":-76992199.260000005},{"$f":"F70-'A6-FinPos'!F48","v":37666418.082970321},{"$f":"G70-'A6-FinPos'!G48","v":37484593.004271641},{"$f":"H70-'A6-FinPos'!H48","v":-31070569.751889218},{"$f":"I70-'A6-FinPos'!I48","v":-19700101.310049165},{"$f":"J70-'A6-FinPos'!J48","v":-13294951.929999992},{"$f":"K70-'A6-FinPos'!K48","v":-10819578.902849996},{"$f":"L70-'A6-FinPos'!L48","v":-13163982.086745754}]
[null,null,{"$f":"TREND(D82:H82)","v":0},{"$f":"TREND(E82:H82)","v":0},{"$f":"E73","v":0},{"$f":"H73","v":0},{"$f":"J73","v":0},{"$f":"K73","v":0},{"$f":"L73","v":0}]

{"sheet":"SA4","index":22,"n_rows":26,"n_cols":13,"rows_kept":26,"cut":false,"hidden":false,"merged":[[1,7,1,9],[1,10,1,12],[1,3,2,3]]}
[{"$f":"muni&\" - \"&TableA4","v":"DC16 Xhariep - Supporting Table SA4 Reconciliation of IDP strategic objectives and budget (revenue)"}]
["Strategic Objective","Goal","Goal\nCode",{"$f":"head27","v":"Ref"},{"$f":"head1b","v":"2010/11"},{"$f":"head1A","v":"2011/12"},{"$f":"Head1","v":"2012/13"},{"$f":"Head2","v":"Current Year 2013/14"},null,null,{"$f":"Head3","v":"2014/15 Medium Term Revenue & Expenditure Framework"}]
["R thousand",null,null,null,{"$f":"Head5","v":"Audited Outcome"},{"$f":"Head5","v":"Audited Outcome"},{"$f":"Head5","v":"Audited Outcome"},{"$f":"Head6","v":"Original Budget"},{"$f":"Head7","v":"Adjusted Budget"},{"$f":"Head8","v":"Full Year Forecast"},{"$f":"Head9","v":"Budget Year 2014/15"},{"$f":"Head10","v":"Budget Year +1 2015/16"},{"$f":"Head11","v":"Budget Year +2 2016/17"}]
["To manage and prevent harm to the environment and ensure its sustainability","Municipal Health Services (Environmental Management Projects)",null,null,null,null,null,300000,200000,200000,500000,{"$f":"K4*1.1","v":550000},{"$f":"L4*1.1","v":605000}]
["To improve economic growth.","LED Promotion and Marketing",null,null,null,null,null,0,0,0,0,{"$f":"K5*1.1","v":0},0]
["To provide accredited trainings on animal and plant production to emerging farmers.","LED Trainings",null,null,null,null,null,100000,460000,460000,0,{"$f":"K6*1.1","v":0},0]
["To improve economic growth.","Machinery and Stock for the Arts and Craft centre",null,null,null,null,null,400000,0,0,0,{"$f":"K7*1.1","v":0},0]
["To manage and prevent occurence loss of lives due to disasters","Disaster Management Plan",null,null,null,null,null,40000,0,0,0,{"$f":"K8*1.1","v":0},0]
["To provide awareness on opportunities in the tourism industry","Tourism Awareness",null,null,null,null,null,20000,30000,30000,400000,{"$f":"K9*1.1","v":440000.00000000006},484000.00000000012]
["For cimmunity benefit events,  training SMME's, green and clean projects, food security projects, fodd for waste projects, LED feasibility studies","LED Projects",null,null,null,null,null,500000,630042,630042,950000,{"$f":"K10*1.1","v":1045000.0000000001},1149500.0000000002]
["To coordinate programmes with relevant Stakeholders","District  Forums for LED,Disaster Management and Environmeental Health",null,null,null,null,null,40000,15000,15000,50000,{"$f":"K11*1.1","v":55000.000000000007},60500.000000000015]
["To ensure a smooth running Planning and Development department that effectively grow the economy and deliver services","Business Processes",null,null,null,null,null,0,0,0,0,{"$f":"K12*1.1","v":0},0]
["To coordinate work on AIDS,outreach programmes and enhance publi participation of ward committees.","District AIDS Council, Public Participation, Youth Development Programmes, Special Programmes, Intergovernmental Relations, Mayor's social Responsibility, Mandela Day Celebration",null,null,null,null,null,25000,1228,1228,{"$f":"165000+90000+27500","v":282500},{"$f":"K13*1.1","v":310750},341825]
["To manage and prevent harm to the environment and ensure its sustainability","Health and Hygiene education",null,null,null,null,null,20000,10000,10000,0,{"$f":"K14*1.1","v":0},0]
["To manage and prevent occurence loss of lives due to disasters","Disaster Management Contributions",null,null,null,null,null,50000,null,569841,300000,{"$f":"K15*1.1","v":330000},363000.00000000006]
["Astatutory requirement to ensure good governance","PMS strategy",null,null,null,null,null,0,0,0,70000,{"$f":"K16*1.1","v":77000},84700]
["To continuously prepare, adopt, effectively implement and annually review IDP","Complete the review and adoption of IDP for implementation in 2010/2011 financial year",null,null,null,null,null,150000,0,0,350000,{"$f":"K17*1.1","v":385000.00000000006},423500.00000000012]
["To improve financial viability of the municipality and audit outcomes","GRAP AFS",null,null,null,null,null,600000,505882,505882,200000,{"$f":"K18*1.1","v":220000.00000000003},242000.00000000006]
["To host a succesful Disaster conference as decided in the last ISDR","Disaster Conference",null,null,null,null,null,0,0,0,0,{"$f":"K19*1.1","v":0},0]
["To procure the land on which the municipal building is situated. Upgrading of the Internal Streets in Local Municipalities","Land and Upgrading of Internal Streets",null,null,null,null,null,650000,0,0,0,{"$f":"K20*1.1","v":0},0]
["Allocations to other priorities",null,null,2]
[{"$f":"'A4-FinPerf RE'!A22","v":"Total Revenue (excluding capital transfers and contributions)"},null,null,1,{"$f":"SUM(E4:E21)","v":0},0,0,2895000,1852152,2421993,3102500,3412750,3754025]
[{"$f":"head27a","v":"References"}]
[{"$f":"\"1. Total revenue must reconcile to \"&'Template names'!F103","v":"1. Total revenue must reconcile to Table A4 Budgeted Financial Performance (revenue and expenditure)"}]
["2. Balance of allocations not directly linked to an IDP strategic objective"]
["check op revenue balance",null,null,null,{"$f":"E22-'A4-FinPerf RE'!C60","v":-45576624},{"$f":"F22-'A4-FinPerf RE'!D60","v":-90879214},{"$f":"G22-'A4-FinPerf RE'!E60","v":-39385108},{"$f":"H22-'A4-FinPerf RE'!F60","v":-57660255.044210523},{"$f":"I22-'A4-FinPerf RE'!G60","v":-58061344.684210524},{"$f":"J22-'A4-FinPerf RE'!H60","v":-57491503.684210524},{"$f":"K22-'A4-FinPerf RE'!J60","v":-61102870.480000004},{"$f":"L22-'A4-FinPerf RE'!K60","v":-66586157.527999997},{"$f":"M22-'A4-FinPerf RE'!L60","v":-73244773.2808}]

{"sheet":"SA5","index":23,"n_rows":27,"n_cols":13,"rows_kept":27,"cut":false,"hidden":false,"merged":[[1,7,1,9],[1,10,1,12],[1,3,2,3]]}
[{"$f":"muni&\" - \"&TableA5","v":"DC16 Xhariep - Supporting Table SA5 Reconciliation of IDP strategic objectives and budget (operating expenditure)"}]
["Strategic Objective","Goal","Goal\nCode",{"$f":"head27","v":"Ref"},{"$f":"head1b","v":"2010/11"},{"$f":"head1A","v":"2011/12"},{"$f":"Head1","v":"2012/13"},{"$f":"Head2","v":"Current Year 2013/14"},null,null,{"$f":"Head3","v":"2014/15 Medium Term Revenue & Expenditure Framework"}]
["R thousand",null,null,null,{"$f":"Head5","v":"Audited Outcome"},{"$f":"Head5","v":"Audited Outcome"},{"$f":"Head5","v":"Audited Outcome"},{"$f":"Head6","v":"Original Budget"},{"$f":"Head7","v":"Adjusted Budget"},{"$f":"Head8","v":"Full Year Forecast"},{"$f":"Head9","v":"Budget Year 2014/15"},{"$f":"Head10","v":"Budget Year +1 2015/16"},{"$f":"Head11","v":"Budget Year +2 2016/17"}]
["To manage and prevent harm to the environment and ensure its sustainability","Municipal Health Services (Environmental Management Projects)",null,null,null,null,null,300000,200000,200000,500000,{"$f":"K4*1.1","v":550000},{"$f":"L4*1.1","v":605000}]
["To improve economic growth.","LED Promotion and Marketing",null,null,null,null,null,0,0,0,0,{"$f":"K5*1.1","v":0},0]
["To provide accredited trainings on animal and plant production to emerging farmers.","LED Trainings",null,null,null,null,null,100000,460000,460000,0,{"$f":"K6*1.1","v":0},0]
["To improve economic growth.","Machinery and Stock for the Arts and Craft centre",null,null,null,null,null,400000,0,0,0,{"$f":"K7*1.1","v":0},0]
["To manage and prevent occurence loss of lives due to disasters","Disaster Management Plan",null,null,null,null,null,40000,0,0,0,{"$f":"K8*1.1","v":0},0]
["To provide awareness on opportunities in the tourism industry","Tourism Awareness",null,null,null,null,null,20000,30000,30000,400000,{"$f":"K9*1.1","v":440000.00000000006},484000.00000000012]
["For cimmunity benefit events,  training SMME's, green and clean projects, food security projects, fodd for waste projects, LED feasibility studies","LED Projects",null,null,null,null,null,500000,630042,630042,950000,{"$f":"K10*1.1","v":1045000.0000000001},1149500.0000000002]
["To coordinate programmes with relevant Stakeholders","District  Forums for LED,Disaster Management and Environmeental Health",null,null,null,null,null,40000,15000,15000,50000,{"$f":"K11*1.1","v":55000.000000000007},60500.000000000015]
["To ensure a smooth running Planning and Development department that effectively grow the economy and deliver services","Business Processes",null,null,null,null,null,0,0,0,0,{"$f":"K12*1.1","v":0},0]
["To coordinate work on AIDS,outreach programmes and enhance publi participation of ward committees.","District AIDS Council, Public Participation, Youth Development Programmes, Special Programmes, Intergovernmental Relations, Mayor's social Responsibility, Mandela Day Celebration",null,null,null,null,null,25000,1228,1228,{"$f":"165000+90000+27500","v":282500},{"$f":"K13*1.1","v":310750},341825]
["To manage and prevent harm to the environment and ensure its sustainability","Health and Hygiene education",null,null,null,null,null,20000,10000,10000,0,{"$f":"K14*1.1","v":0},0]
["To manage and prevent occurence loss of lives due to disasters","Disaster Management Contributions",null,null,null,null,null,50000,null,569841,300000,{"$f":"K15*1.1","v":330000},363000.00000000006]
["Astatutory requirement to ensure good governance","PMS strategy",null,null,null,null,null,0,0,0,70000,{"$f":"K16*1.1","v":77000},84700]
["To continuously prepare, adopt, effectively implement and annually review IDP","Complete the review and adoption of IDP for implementation in 2012/2013 financial year",null,null,null,null,null,150000,0,0,350000,{"$f":"K17*1.1","v":385000.00000000006},423500.00000000012]
["To improve financial viability of the municipality and audit outcomes","Compilation of GRAP Compliant AFS",null,null,null,null,null,600000,505882,505882,200000,0,0]
["To host a succesful Disaster conference as decided in the last ISDR","Disaster Conference",null,null,null,null,null,0,0,0,0,0,0]
["To procure the land on which the municipal building is situated","Land",null,null,null,null,null,650000,0,0,0,0,0]
["For continuous review of the finance department's systems","BTO Consultancy",null,null,null,null,null,150000,100000,100000,40000]
["Allocations to other priorities"]
[{"$f":"'A4-FinPerf RE'!A36","v":"Total Expenditure"},null,null,1,{"$f":"SUM(E4:E22)","v":0},0,0,3045000,1952152,2521993,3142500,3192750,3512025]
[{"$f":"head27a","v":"References"}]
[{"$f":"\"1. Total expenditure must reconcile to \"&'Template names'!F103","v":"1. Total expenditure must reconcile to Table A4 Budgeted Financial Performance (revenue and expenditure)"}]
["2. Balance of allocations not directly linked to an IDP strategic objective"]
["check op expenditure balance",null,null,null,{"$f":"E23-'A4-FinPerf RE'!C36","v":-39187345},{"$f":"F23-'A4-FinPerf RE'!D36","v":-68061639},{"$f":"G23-'A4-FinPerf RE'!E36","v":-70745138},{"$f":"H23-'A4-FinPerf RE'!F36","v":-59811316.915486425},{"$f":"I23-'A4-FinPerf RE'!G36","v":-60444231.634185113},{"$f":"J23-'A4-FinPerf RE'!H36","v":-59874390.634185113},{"$f":"K23-'A4-FinPerf RE'!J36","v":-63391379.409999996},{"$f":"L23-'A4-FinPerf RE'!K36","v":-69194233.560849994},{"$f":"M23-'A4-FinPerf RE'!L36","v":-75254056.367545754}]

{"sheet":"SA6","index":24,"n_rows":26,"n_cols":13,"rows_kept":26,"cut":false,"hidden":false,"merged":[[1,7,1,9],[1,10,1,12],[1,3,2,3]]}
[{"$f":"muni&\" - \"&TableA6","v":"DC16 Xhariep - Supporting Table SA6 Reconciliation of IDP strategic objectives and budget (capital expenditure)"}]
["Strategic Objective","Goal","Goal Code",{"$f":"head27","v":"Ref"},{"$f":"head1b","v":"2010/11"},{"$f":"head1A","v":"2011/12"},{"$f":"Head1","v":"2012/13"},{"$f":"Head2","v":"Current Year 2013/14"},null,null,{"$f":"Head3","v":"2014/15 Medium Term Revenue & Expenditure Framework"}]
["R thousand",null,null,null,{"$f":"Head5","v":"Audited Outcome"},{"$f":"Head5","v":"Audited Outcome"},{"$f":"Head5","v":"Audited Outcome"},{"$f":"Head6","v":"Original Budget"},{"$f":"Head7","v":"Adjusted Budget"},{"$f":"Head8","v":"Full Year Forecast"},{"$f":"Head9","v":"Budget Year 2014/15"},{"$f":"Head10","v":"Budget Year +1 2015/16"},{"$f":"Head11","v":"Budget Year +2 2016/17"}]
["To improve economic growth.","Machinery and Stock for the Arts and Craft centre","A",null,70000,null,null,400000,0,0]
["To procure the land on which the municipal building is situated.","Land and Upgrading of Internal Streets","B",null,null,null,null,650000,0,0]
["Procurement of printing machnies(finance lease)",null,"C",null,null,null,null,600000,900000,900000,500000,{"$f":"K6*1.1","v":550000},{"$f":"L6*1.1","v":605000}]
["Procurement of vehicles",null,"D",null,820000,null,null,1250000,185000,185000,1070000,0,0]
["Procurement of furniture and equipment and computers and laptop for officials",null,"E",null,296000,null,null,{"$f":"20000+130000","v":150000},{"$f":"67000+173000","v":240000},{"$f":"67000+173333","v":240333},175000,{"$f":"150000*1.1","v":165000},{"$f":"L8*1.1","v":181500.00000000003}]
["Surplus Assets-(Investment or inventory)",null,"F",null,1208000]
[null,null,"G"]
[null,null,"H"]
[null,null,"I"]
[null,null,"J"]
[null,null,"K"]
[null,null,"L"]
[null,null,"M"]
[null,null,"N"]
[null,null,"O"]
[null,null,"P"]
["Allocations to other priorities",null,null,3]
["Total Capital Expenditure",null,null,1,{"$f":"SUM(E4:E20)","v":2394000},0,0,3050000,1325000,1325333,1745000,715000,786500]
[{"$f":"head27a","v":"References"}]
["1. Total capital expenditure must reconcile to Budgeted Capital Expenditure"]
["2. Goal code must be used on Table SA36"]
["3. Balance of allocations not directly linked to an IDP strategic objective"]
["check capital balance",null,null,null,{"$f":"E21-'A5-Capex'!C40","v":-3217378},{"$f":"F21-'A5-Capex'!D40","v":-7474889},{"$f":"G21-'A5-Capex'!E40","v":-20076711},{"$f":"H21-'A5-Capex'!F40","v":304.34782608598471},{"$f":"I21-'A5-Capex'!G40","v":420.33629629644565},{"$f":"J21-'A5-Capex'!H40","v":753.33629629644565},{"$f":"K21-'A5-Capex'!J40","v":0},{"$f":"L21-'A5-Capex'!K40","v":0},{"$f":"M21-'A5-Capex'!L40","v":0}]

{"sheet":"SA7","index":25,"n_rows":89,"n_cols":11,"rows_kept":89,"cut":false,"hidden":false,"merged":[[1,1,2,1],[1,0,2,0],[1,5,1,7],[1,8,1,10],[87,0,87,10],[67,0,67,10],[72,0,73,0],[72,1,73,1],[72,5,72,7],[72,8,72,10]]}
[{"$f":"muni&\" - \"&TableA7","v":"DC16 Xhariep - Supporting Table SA7 Measureable performance objectives"}]
["Description","Unit of measurement",{"$f":"head1b","v":"2010/11"},{"$f":"head1A","v":"2011/12"},{"$f":"Head1","v":"2012/13"},{"$f":"Head2","v":"Current Year 2013/14"},null,null,{"$f":"Head3","v":"2014/15 Medium Term Revenue & Expenditure Framework"}]
[null,null,{"$f":"Head5","v":"Audited Outcome"},{"$f":"Head5","v":"Audited Outcome"},{"$f":"Head5","v":"Audited Outcome"},{"$f":"Head6","v":"Original Budget"},{"$f":"Head7","v":"Adjusted Budget"},{"$f":"Head8","v":"Full Year Forecast"},{"$f":"Head9","v":"Budget Year 2014/15"},{"$f":"Head10","v":"Budget Year +1 2015/16"},{"$f":"Head11","v":"Budget Year +2 2016/17"}]
["Vote 1 - vote name"]
["Function 1 - (name)"]
["Sub-function 1 - (name)"]
["Insert measure/s description"]
[]
["Sub-function 2 - (name)"]
["Insert measure/s description"]
[]
["Sub-function 3 - (name)"]
["Insert measure/s description"]
[]
["Function 2 - (name)"]
["Sub-function 1 - (name)"]
["Insert measure/s description"]
[]
["Sub-function 2 - (name)"]
["Insert measure/s description"]
[]
["Sub-function 3 - (name)"]
["Insert measure/s description"]
[]
["Vote 2 - vote name"]
["Function 1 - (name)"]
["Sub-function 1 - (name)"]
["Insert measure/s description"]
[]
["Sub-function 2 - (name)"]
["Insert measure/s description"]
[]
["Sub-function 3 - (name)"]
["Insert measure/s description"]
[]
["Function 2 - (name)"]
["Sub-function 1 - (name)"]
["Insert measure/s description"]
[]
["Sub-function 2 - (name)"]
["Insert measure/s description"]
[]
["Sub-function 3 - (name)"]
["Insert measure/s description"]
[]
["Vote 3 - vote name"]
["Function 1 - (name)"]
["Sub-function 1 - (name)"]
["Insert measure/s description"]
[]
["Sub-function 2 - (name)"]
["Insert measure/s description"]
[]
["Sub-function 3 - (name)"]
["Insert measure/s description"]
[]
["Function 2 - (name)"]
["Sub-function 1 - (name)"]
["Insert measure/s description"]
[]
["Sub-function 2 - (name)"]
["Insert measure/s description"]
[]
["Sub-function 3 - (name)"]
["Insert measure/s description"]
[]
["And so on for the rest of the Votes"]
["1. Include a measurable performance objective for each revenue source (within a relevant function) and each vote (MFMA s17(3)(b))"]
["2. Include all Basic Services performance targets from 'Basic Service Delivery' to ensure Table SA7 represents all strategic responsibilities"]
["3. Only include prior year comparative information for individual measures where relevant activity occurred in that year/s"]
[]
[{"$f":"muni&\" - \"&\"Entities measureable performance objectives\"","v":"DC16 Xhariep - Entities measureable performance objectives"}]
[{"$f":"A2","v":"Description"},"Unit of measurement",{"$f":"head1b","v":"2010/11"},{"$f":"head1A","v":"2011/12"},{"$f":"Head1","v":"2012/13"},{"$f":"Head2","v":"Current Year 2013/14"},null,null,{"$f":"Head3","v":"2014/15 Medium Term Revenue & Expenditure Framework"}]
[null,null,{"$f":"Head5","v":"Audited Outcome"},{"$f":"Head5","v":"Audited Outcome"},{"$f":"Head5","v":"Audited Outcome"},{"$f":"Head6","v":"Original Budget"},{"$f":"Head7","v":"Adjusted Budget"},{"$f":"Head8","v":"Full Year Forecast"},{"$f":"Head9","v":"Budget Year 2014/15"},{"$f":"Head10","v":"Budget Year +1 2015/16"},{"$f":"Head11","v":"Budget Year +2 2016/17"}]
["Entity 1 - (name of entity)"]
["Insert measure/s description"]
[]
[]
["Entity 2 - (name of entity)"]
[{"$f":"$A$10","v":"Insert measure/s description"}]
[]
[]
["Entity 3 - (name of entity)"]
[{"$f":"$A$10","v":"Insert measure/s description"}]
[]
[]
["And so on for the rest of the Entities"]
["1. Include a measurable performance objective as agreed with the parent municipality (MFMA s87(5)(d))"]
["2. Only include prior year comparative information for individual measures where relevant activity occurred in that year/s"]

{"sheet":"SA8","index":26,"n_rows":49,"n_cols":12,"rows_kept":49,"cut":false,"hidden":false,"merged":[[28,0,30,0],[1,0,2,0],[1,9,1,11],[1,1,2,1],[1,5,1,8],[25,0,27,0]]}
[{"$f":"muni&\" - \"&TableA8","v":"DC16 Xhariep - Supporting Table SA8 Performance indicators and benchmarks"}]
["Description of financial indicator","Basis of calculation",{"$f":"head1b","v":"2010/11"},{"$f":"head1A","v":"2011/12"},{"$f":"Head1","v":"2012/13"},{"$f":"Head2","v":"Current Year 2013/14"},null,null,null,{"$f":"Head3","v":"2014/15 Medium Term Revenue & Expenditure Framework"}]
[null,null,{"$f":"Head5","v":"Audited Outcome"},{"$f":"Head5","v":"Audited Outcome"},{"$f":"Head5","v":"Audited Outcome"},{"$f":"Head6","v":"Original Budget"},{"$f":"Head7","v":"Adjusted Budget"},{"$f":"Head8","v":"Full Year Forecast"},{"$f":"Head5b","v":"Pre-audit outcome"},{"$f":"Head9","v":"Budget Year 2014/15"},{"$f":"Head10","v":"Budget Year +1 2015/16"},{"$f":"Head11","v":"Budget Year +2 2016/17"}]
["Borrowing Management"]
[]
["Credit Rating"]
["Capital Charges to Operating Expenditure","Interest & Principal Paid /Operating Expenditure",{"$f":"IF(ISERROR(('A4-FinPerf RE'!C29-'A7-CFlow'!C33)/'A4-FinPerf RE'!C36),0,(('A4-FinPerf RE'!C29-'A7-CFlow'!C33)/'A4-FinPerf RE'!C36))","v":1.9179201857130151E-2},{"$f":"IF(ISERROR(('A4-FinPerf RE'!D29-'A7-CFlow'!D33)/'A4-FinPerf RE'!D36),0,(('A4-FinPerf RE'!D29-'A7-CFlow'!D33)/'A4-FinPerf RE'!D36))","v":1.0368366239314336E-2},{"$f":"IF(ISERROR(('A4-FinPerf RE'!E29-'A7-CFlow'!E33)/'A4-FinPerf RE'!E36),0,(('A4-FinPerf RE'!E29-'A7-CFlow'!E33)/'A4-FinPerf RE'!E36))","v":9.1813376630914198E-3},{"$f":"IF(ISERROR(('A4-FinPerf RE'!F29-'A7-CFlow'!F33)/'A4-FinPerf RE'!F36),0,(('A4-FinPerf RE'!F29-'A7-CFlow'!F33)/'A4-FinPerf RE'!F36))","v":0},{"$f":"IF(ISERROR(('A4-FinPerf RE'!G29-'A7-CFlow'!G33)/'A4-FinPerf RE'!G36),0,(('A4-FinPerf RE'!G29-'A7-CFlow'!G33)/'A4-FinPerf RE'!G36))","v":0},{"$f":"IF(ISERROR(('A4-FinPerf RE'!H29-'A7-CFlow'!H33)/'A4-FinPerf RE'!H36),0,(('A4-FinPerf RE'!H29-'A7-CFlow'!H33)/'A4-FinPerf RE'!H36))","v":0},{"$f":"IF(ISERROR(('A4-FinPerf RE'!I29-'A7-CFlow'!I33)/'A4-FinPerf RE'!I36),0,(('A4-FinPerf RE'!I29-'A7-CFlow'!I33)/'A4-FinPerf RE'!I36))","v":0},{"$f":"IF(ISERROR(('A4-FinPerf RE'!J29-'A7-CFlow'!J33)/'A4-FinPerf RE'!J36),0,(('A4-FinPerf RE'!J29-'A7-CFlow'!J33)/'A4-FinPerf RE'!J36))","v":7.5149683805278058E-3},{"$f":"IF(ISERROR(('A4-FinPerf RE'!K29-'A7-CFlow'!K33)/'A4-FinPerf RE'!K36),0,(('A4-FinPerf RE'!K29-'A7-CFlow'!K33)/'A4-FinPerf RE'!K36))","v":7.5980510990302369E-3},{"$f":"IF(ISERROR(('A4-FinPerf RE'!L29-'A7-CFlow'!L33)/'A4-FinPerf RE'!L36),0,(('A4-FinPerf RE'!L29-'A7-CFlow'!L33)/'A4-FinPerf RE'!L36))","v":7.6809711679941481E-3}]
["Capital Charges to Own Revenue","Finance charges & Repayment of borrowing /Own Revenue",{"$f":"IF(ISERROR(('A4-FinPerf RE'!C29-'A7-CFlow'!C33)/('A4-FinPerf RE'!C22-'A4-FinPerf RE'!C19)),0,(('A4-FinPerf RE'!C29-'A7-CFlow'!C33)/('A4-FinPerf RE'!C22-'A4-FinPerf RE'!C19)))","v":1.0888121725046611},{"$f":"IF(ISERROR(('A4-FinPerf RE'!D29-'A7-CFlow'!D33)/('A4-FinPerf RE'!D22-'A4-FinPerf RE'!D19)),0,(('A4-FinPerf RE'!D29-'A7-CFlow'!D33)/('A4-FinPerf RE'!D22-'A4-FinPerf RE'!D19)))","v":0.26890277267593482},{"$f":"IF(ISERROR(('A4-FinPerf RE'!E29-'A7-CFlow'!E33)/('A4-FinPerf RE'!E22-'A4-FinPerf RE'!E19)),0,(('A4-FinPerf RE'!E29-'A7-CFlow'!E33)/('A4-FinPerf RE'!E22-'A4-FinPerf RE'!E19)))","v":0.82328418821835436},{"$f":"IF(ISERROR(('A4-FinPerf RE'!F29-'A7-CFlow'!F33)/('A4-FinPerf RE'!F22-'A4-FinPerf RE'!F19)),0,(('A4-FinPerf RE'!F29-'A7-CFlow'!F33)/('A4-FinPerf RE'!F22-'A4-FinPerf RE'!F19)))","v":0},{"$f":"IF(ISERROR(('A4-FinPerf RE'!G29-'A7-CFlow'!G33)/('A4-FinPerf RE'!G22-'A4-FinPerf RE'!G19)),0,(('A4-FinPerf RE'!G29-'A7-CFlow'!G33)/('A4-FinPerf RE'!G22-'A4-FinPerf RE'!G19)))","v":0},{"$f":"IF(ISERROR(('A4-FinPerf RE'!H29-'A7-CFlow'!H33)/('A4-FinPerf RE'!H22-'A4-FinPerf RE'!H19)),0,(('A4-FinPerf RE'!H29-'A7-CFlow'!H33)/('A4-FinPerf RE'!H22-'A4-FinPerf RE'!H19)))","v":0},{"$f":"IF(ISERROR(('A4-FinPerf RE'!I29-'A7-CFlow'!I33)/('A4-FinPerf RE'!I22-'A4-FinPerf RE'!I19)),0,(('A4-FinPerf RE'!I29-'A7-CFlow'!I33)/('A4-FinPerf RE'!I22-'A4-FinPerf RE'!I19)))","v":0},{"$f":"IF(ISERROR(('A4-FinPerf RE'!J29-'A7-CFlow'!J33)/('A4-FinPerf RE'!J22-'A4-FinPerf RE'!J19)),0,(('A4-FinPerf RE'!J29-'A7-CFlow'!J33)/('A4-FinPerf RE'!J22-'A4-FinPerf RE'!J19)))","v":0.41207529624422568},{"$f":"IF(ISERROR(('A4-FinPerf RE'!K29-'A7-CFlow'!K33)/('A4-FinPerf RE'!K22-'A4-FinPerf RE'!K19)),0,(('A4-FinPerf RE'!K29-'A7-CFlow'!K33)/('A4-FinPerf RE'!K22-'A4-FinPerf RE'!K19)))","v":0.77715719875739719},{"$f":"IF(ISERROR(('A4-FinPerf RE'!L29-'A7-CFlow'!L33)/('A4-FinPerf RE'!L22-'A4-FinPerf RE'!L19)),0,(('A4-FinPerf RE'!L29-'A7-CFlow'!L33)/('A4-FinPerf RE'!L22-'A4-FinPerf RE'!L19)))","v":0.7771571987573942}]
["Borrowed funding of 'own' capital expenditure","Borrowing/Capital expenditure excl. transfers and grants and contributions",{"$f":"IF(ISERROR(C49/C48),0,(C49/C48))","v":0},{"$f":"IF(ISERROR(D49/D48),0,(D49/D48))","v":0},{"$f":"IF(ISERROR(E49/E48),0,(E49/E48))","v":0},0,0,0,0,0,0,0]
["Safety of Capital"]
["Gearing","Long Term Borrowing/ Funds & Reserves",{"$f":"IF(ISERROR(('A6-FinPos'!C37/'A6-FinPos'!C46)),0,(('A6-FinPos'!C37/'A6-FinPos'!C46)))","v":0},{"$f":"IF(ISERROR(('A6-FinPos'!D37/'A6-FinPos'!D46)),0,(('A6-FinPos'!D37/'A6-FinPos'!D46)))","v":0},{"$f":"IF(ISERROR(('A6-FinPos'!E37/'A6-FinPos'!E46)),0,(('A6-FinPos'!E37/'A6-FinPos'!E46)))","v":0},{"$f":"IF(ISERROR(('A6-FinPos'!F37/'A6-FinPos'!F46)),0,(('A6-FinPos'!F37/'A6-FinPos'!F46)))","v":0},{"$f":"IF(ISERROR(('A6-FinPos'!G37/'A6-FinPos'!G46)),0,(('A6-FinPos'!G37/'A6-FinPos'!G46)))","v":0},{"$f":"IF(ISERROR(('A6-FinPos'!H37/'A6-FinPos'!H46)),0,(('A6-FinPos'!H37/'A6-FinPos'!H46)))","v":0},{"$f":"IF(ISERROR(('A6-FinPos'!I37/'A6-FinPos'!I46)),0,(('A6-FinPos'!I37/'A6-FinPos'!I46)))","v":0},{"$f":"IF(ISERROR(('A6-FinPos'!J37/'A6-FinPos'!J46)),0,(('A6-FinPos'!J37/'A6-FinPos'!J46)))","v":0},{"$f":"IF(ISERROR(('A6-FinPos'!K37/'A6-FinPos'!K46)),0,(('A6-FinPos'!K37/'A6-FinPos'!K46)))","v":0},{"$f":"IF(ISERROR(('A6-FinPos'!L37/'A6-FinPos'!L46)),0,(('A6-FinPos'!L37/'A6-FinPos'!L46)))","v":0}]
["Liquidity"]
["Current Ratio","Current assets/current liabilities",{"$f":"IF(ISERROR('A6-FinPos'!C12/'A6-FinPos'!C34),0,('A6-FinPos'!C12/'A6-FinPos'!C34))","v":2.7491424536247733},{"$f":"IF(ISERROR('A6-FinPos'!D12/'A6-FinPos'!D34),0,('A6-FinPos'!D12/'A6-FinPos'!D34))","v":7.85203937458044},{"$f":"IF(ISERROR('A6-FinPos'!E12/'A6-FinPos'!E34),0,('A6-FinPos'!E12/'A6-FinPos'!E34))","v":0.38201029103437362},{"$f":"IF(ISERROR('A6-FinPos'!F12/'A6-FinPos'!F34),0,('A6-FinPos'!F12/'A6-FinPos'!F34))","v":1.5320920881779327},{"$f":"IF(ISERROR('A6-FinPos'!G12/'A6-FinPos'!G34),0,('A6-FinPos'!G12/'A6-FinPos'!G34))","v":1.5320920881779327},{"$f":"IF(ISERROR('A6-FinPos'!H12/'A6-FinPos'!H34),0,('A6-FinPos'!H12/'A6-FinPos'!H34))","v":1.5320920881779327},{"$f":"IF(ISERROR('A6-FinPos'!I12/'A6-FinPos'!I34),0,('A6-FinPos'!I12/'A6-FinPos'!I34))","v":0.21908087382769201},{"$f":"IF(ISERROR('A6-FinPos'!J12/'A6-FinPos'!J34),0,('A6-FinPos'!J12/'A6-FinPos'!J34))","v":9.7050117562983318E-2},{"$f":"IF(ISERROR('A6-FinPos'!K12/'A6-FinPos'!K34),0,('A6-FinPos'!K12/'A6-FinPos'!K34))","v":0.2532807176101815},{"$f":"IF(ISERROR('A6-FinPos'!L12/'A6-FinPos'!L34),0,('A6-FinPos'!L12/'A6-FinPos'!L34))","v":0.26873596430449287}]
["Current Ratio adjusted for aged debtors","Current assets less debtors > 90 days/current liabilities",{"$f":"IF(ISERROR(('A6-FinPos'!C12-'SA8'!C45)/'A6-FinPos'!C34),0,(('A6-FinPos'!C12-'SA8'!C45)/'A6-FinPos'!C34))","v":2.7491424536247733},{"$f":"IF(ISERROR(('A6-FinPos'!D12-'SA8'!D45)/'A6-FinPos'!D34),0,(('A6-FinPos'!D12-'SA8'!D45)/'A6-FinPos'!D34))","v":7.85203937458044},{"$f":"IF(ISERROR(('A6-FinPos'!E12-'SA8'!E45)/'A6-FinPos'!E34),0,(('A6-FinPos'!E12-'SA8'!E45)/'A6-FinPos'!E34))","v":0.38201029103437362},{"$f":"IF(ISERROR(('A6-FinPos'!F12-'SA8'!F45)/'A6-FinPos'!F34),0,(('A6-FinPos'!F12-'SA8'!F45)/'A6-FinPos'!F34))","v":1.5320920881779327},{"$f":"IF(ISERROR(('A6-FinPos'!G12-'SA8'!G45)/'A6-FinPos'!G34),0,(('A6-FinPos'!G12-'SA8'!G45)/'A6-FinPos'!G34))","v":1.5320920881779327},{"$f":"IF(ISERROR(('A6-FinPos'!H12-'SA8'!H45)/'A6-FinPos'!H34),0,(('A6-FinPos'!H12-'SA8'!H45)/'A6-FinPos'!H34))","v":1.5320920881779327},{"$f":"IF(ISERROR(('A6-FinPos'!I12-'SA8'!I45)/'A6-FinPos'!I34),0,(('A6-FinPos'!I12-'SA8'!I45)/'A6-FinPos'!I34))","v":0.21908087382769201},{"$f":"IF(ISERROR(('A6-FinPos'!J12-'SA8'!J45)/'A6-FinPos'!J34),0,(('A6-FinPos'!J12-'SA8'!J45)/'A6-FinPos'!J34))","v":9.7050117562983318E-2},{"$f":"IF(ISERROR(('A6-FinPos'!K12-'SA8'!K45)/'A6-FinPos'!K34),0,(('A6-FinPos'!K12-'SA8'!K45)/'A6-FinPos'!K34))","v":0.2532807176101815},{"$f":"IF(ISERROR(('A6-FinPos'!L12-'SA8'!L45)/'A6-FinPos'!L34),0,(('A6-FinPos'!L12-'SA8'!L45)/'A6-FinPos'!L34))","v":0.26873596430449287}]
["Liquidity Ratio","Monetary Assets/Current Liabilities",{"$f":"IF(ISERROR(('A6-FinPos'!C6+'A6-FinPos'!C7)/'A6-FinPos'!C34),0,(('A6-FinPos'!C6+'A6-FinPos'!C7)/'A6-FinPos'!C34))","v":1.0503833562691784},{"$f":"IF(ISERROR(('A6-FinPos'!D6+'A6-FinPos'!D7)/'A6-FinPos'!D34),0,(('A6-FinPos'!D6+'A6-FinPos'!D7)/'A6-FinPos'!D34))","v":3.5076207667805583},{"$f":"IF(ISERROR(('A6-FinPos'!E6+'A6-FinPos'!E7)/'A6-FinPos'!E34),0,(('A6-FinPos'!E6+'A6-FinPos'!E7)/'A6-FinPos'!E34))","v":0.24906324094057769},{"$f":"IF(ISERROR(('A6-FinPos'!F6+'A6-FinPos'!F7)/'A6-FinPos'!F34),0,(('A6-FinPos'!F6+'A6-FinPos'!F7)/'A6-FinPos'!F34))","v":0.32981485395944043},{"$f":"IF(ISERROR(('A6-FinPos'!G6+'A6-FinPos'!G7)/'A6-FinPos'!G34),0,(('A6-FinPos'!G6+'A6-FinPos'!G7)/'A6-FinPos'!G34))","v":0.32981485395944043},{"$f":"IF(ISERROR(('A6-FinPos'!H6+'A6-FinPos'!H7)/'A6-FinPos'!H34),0,(('A6-FinPos'!H6+'A6-FinPos'!H7)/'A6-FinPos'!H34))","v":0.32981485395944043},{"$f":"IF(ISERROR(('A6-FinPos'!I6+'A6-FinPos'!I7)/'A6-FinPos'!I34),0,(('A6-FinPos'!I6+'A6-FinPos'!I7)/'A6-FinPos'!I34))","v":0},{"$f":"IF(ISERROR(('A6-FinPos'!J6+'A6-FinPos'!J7)/'A6-FinPos'!J34),0,(('A6-FinPos'!J6+'A6-FinPos'!J7)/'A6-FinPos'!J34))","v":6.0366101833434604E-2},{"$f":"IF(ISERROR(('A6-FinPos'!K6+'A6-FinPos'!K7)/'A6-FinPos'!K34),0,(('A6-FinPos'!K6+'A6-FinPos'!K7)/'A6-FinPos'!K34))","v":0.1414129629727833},{"$f":"IF(ISERROR(('A6-FinPos'!L6+'A6-FinPos'!L7)/'A6-FinPos'!L34),0,(('A6-FinPos'!L6+'A6-FinPos'!L7)/'A6-FinPos'!L34))","v":0.26873596430449287}]
["Revenue Management"]
["Annual Debtors Collection Rate (Payment Level %)","Last 12 Mths Receipts/Last 12 Mths Billing",null,{"$f":"IF(ISERROR(('A7-CFlow'!C6+'A7-CFlow'!C20+'A7-CFlow'!C21)/(SUM('A4-FinPerf RE'!C5:C12)+'A4-FinPerf RE'!C14+SUM('A4-FinPerf RE'!C16:C18)+'A4-FinPerf RE'!C20)),0,(('A7-CFlow'!C6+'A7-CFlow'!C20+'A7-CFlow'!C21)/(SUM('A4-FinPerf RE'!C5:C12)+'A4-FinPerf RE'!C14+SUM('A4-FinPerf RE'!C16:C18)+'A4-FinPerf RE'!C20)))","v":1},{"$f":"IF(ISERROR(('A7-CFlow'!D6+'A7-CFlow'!D20+'A7-CFlow'!D21)/(SUM('A4-FinPerf RE'!D5:D12)+'A4-FinPerf RE'!D14+SUM('A4-FinPerf RE'!D16:D18)+'A4-FinPerf RE'!D20)),0,(('A7-CFlow'!D6+'A7-CFlow'!D20+'A7-CFlow'!D21)/(SUM('A4-FinPerf RE'!D5:D12)+'A4-FinPerf RE'!D14+SUM('A4-FinPerf RE'!D16:D18)+'A4-FinPerf RE'!D20)))","v":0.87174204760614549},{"$f":"IF(ISERROR(('A7-CFlow'!E6+'A7-CFlow'!E20+'A7-CFlow'!E21)/(SUM('A4-FinPerf RE'!E5:E12)+'A4-FinPerf RE'!E14+SUM('A4-FinPerf RE'!E16:E18)+'A4-FinPerf RE'!E20)),0,(('A7-CFlow'!E6+'A7-CFlow'!E20+'A7-CFlow'!E21)/(SUM('A4-FinPerf RE'!E5:E12)+'A4-FinPerf RE'!E14+SUM('A4-FinPerf RE'!E16:E18)+'A4-FinPerf RE'!E20)))","v":0.50286455240131445},{"$f":"IF(ISERROR(('A7-CFlow'!F6+'A7-CFlow'!F20+'A7-CFlow'!F21)/(SUM('A4-FinPerf RE'!F5:F12)+'A4-FinPerf RE'!F14+SUM('A4-FinPerf RE'!F16:F18)+'A4-FinPerf RE'!F20)),0,(('A7-CFlow'!F6+'A7-CFlow'!F20+'A7-CFlow'!F21)/(SUM('A4-FinPerf RE'!F5:F12)+'A4-FinPerf RE'!F14+SUM('A4-FinPerf RE'!F16:F18)+'A4-FinPerf RE'!F20)))","v":0.97636849907142398},{"$f":"IF(ISERROR(('A7-CFlow'!G6+'A7-CFlow'!G20+'A7-CFlow'!G21)/(SUM('A4-FinPerf RE'!G5:G12)+'A4-FinPerf RE'!G14+SUM('A4-FinPerf RE'!G16:G18)+'A4-FinPerf RE'!G20)),0,(('A7-CFlow'!G6+'A7-CFlow'!G20+'A7-CFlow'!G21)/(SUM('A4-FinPerf RE'!G5:G12)+'A4-FinPerf RE'!G14+SUM('A4-FinPerf RE'!G16:G18)+'A4-FinPerf RE'!G20)))","v":1},{"$f":"IF(ISERROR(('A7-CFlow'!H6+'A7-CFlow'!H20+'A7-CFlow'!H21)/(SUM('A4-FinPerf RE'!H5:H12)+'A4-FinPerf RE'!H14+SUM('A4-FinPerf RE'!H16:H18)+'A4-FinPerf RE'!H20)),0,(('A7-CFlow'!H6+'A7-CFlow'!H20+'A7-CFlow'!H21)/(SUM('A4-FinPerf RE'!H5:H12)+'A4-FinPerf RE'!H14+SUM('A4-FinPerf RE'!H16:H18)+'A4-FinPerf RE'!H20)))","v":1},{"$f":"IF(ISERROR(('A7-CFlow'!I6+'A7-CFlow'!I20+'A7-CFlow'!I21)/(SUM('A4-FinPerf RE'!I5:I12)+'A4-FinPerf RE'!I14+SUM('A4-FinPerf RE'!I16:I18)+'A4-FinPerf RE'!I20)),0,(('A7-CFlow'!I6+'A7-CFlow'!I20+'A7-CFlow'!I21)/(SUM('A4-FinPerf RE'!I5:I12)+'A4-FinPerf RE'!I14+SUM('A4-FinPerf RE'!I16:I18)+'A4-FinPerf RE'!I20)))","v":0.97585053770684327},{"$f":"IF(ISERROR(('A7-CFlow'!J6+'A7-CFlow'!J20+'A7-CFlow'!J21)/(SUM('A4-FinPerf RE'!J5:J12)+'A4-FinPerf RE'!J14+SUM('A4-FinPerf RE'!J16:J18)+'A4-FinPerf RE'!J20)),0,(('A7-CFlow'!J6+'A7-CFlow'!J20+'A7-CFlow'!J21)/(SUM('A4-FinPerf RE'!J5:J12)+'A4-FinPerf RE'!J14+SUM('A4-FinPerf RE'!J16:J18)+'A4-FinPerf RE'!J20)))","v":0.53855434221717935},{"$f":"IF(ISERROR(('A7-CFlow'!K6+'A7-CFlow'!K20+'A7-CFlow'!K21)/(SUM('A4-FinPerf RE'!K5:K12)+'A4-FinPerf RE'!K14+SUM('A4-FinPerf RE'!K16:K18)+'A4-FinPerf RE'!K20)),0,(('A7-CFlow'!K6+'A7-CFlow'!K20+'A7-CFlow'!K21)/(SUM('A4-FinPerf RE'!K5:K12)+'A4-FinPerf RE'!K14+SUM('A4-FinPerf RE'!K16:K18)+'A4-FinPerf RE'!K20)))","v":1.1074808985102371}]
["Current Debtors Collection Rate (Cash receipts % of Ratepayer & Other revenue)",null,{"$f":"IF(ISERROR(('A7-CFlow'!C6)/(SUM('A4-FinPerf RE'!C5:C12)+'A4-FinPerf RE'!C14+SUM('A4-FinPerf RE'!C16:C18)+'A4-FinPerf RE'!C20)),0,(('A7-CFlow'!C6)/(SUM('A4-FinPerf RE'!C5:C12)+'A4-FinPerf RE'!C14+SUM('A4-FinPerf RE'!C16:C18)+'A4-FinPerf RE'!C20)))","v":1},{"$f":"IF(ISERROR(('A7-CFlow'!D6)/(SUM('A4-FinPerf RE'!D5:D12)+'A4-FinPerf RE'!D14+SUM('A4-FinPerf RE'!D16:D18)+'A4-FinPerf RE'!D20)),0,(('A7-CFlow'!D6)/(SUM('A4-FinPerf RE'!D5:D12)+'A4-FinPerf RE'!D14+SUM('A4-FinPerf RE'!D16:D18)+'A4-FinPerf RE'!D20)))","v":1},{"$f":"IF(ISERROR(('A7-CFlow'!E6)/(SUM('A4-FinPerf RE'!E5:E12)+'A4-FinPerf RE'!E14+SUM('A4-FinPerf RE'!E16:E18)+'A4-FinPerf RE'!E20)),0,(('A7-CFlow'!E6)/(SUM('A4-FinPerf RE'!E5:E12)+'A4-FinPerf RE'!E14+SUM('A4-FinPerf RE'!E16:E18)+'A4-FinPerf RE'!E20)))","v":0.50286455240131445},{"$f":"IF(ISERROR(('A7-CFlow'!F6)/(SUM('A4-FinPerf RE'!F5:F12)+'A4-FinPerf RE'!F14+SUM('A4-FinPerf RE'!F16:F18)+'A4-FinPerf RE'!F20)),0,(('A7-CFlow'!F6)/(SUM('A4-FinPerf RE'!F5:F12)+'A4-FinPerf RE'!F14+SUM('A4-FinPerf RE'!F16:F18)+'A4-FinPerf RE'!F20)))","v":0.97636849907142398},{"$f":"IF(ISERROR(('A7-CFlow'!G6)/(SUM('A4-FinPerf RE'!G5:G12)+'A4-FinPerf RE'!G14+SUM('A4-FinPerf RE'!G16:G18)+'A4-FinPerf RE'!G20)),0,(('A7-CFlow'!G6)/(SUM('A4-FinPerf RE'!G5:G12)+'A4-FinPerf RE'!G14+SUM('A4-FinPerf RE'!G16:G18)+'A4-FinPerf RE'!G20)))","v":1},{"$f":"IF(ISERROR(('A7-CFlow'!H6)/(SUM('A4-FinPerf RE'!H5:H12)+'A4-FinPerf RE'!H14+SUM('A4-FinPerf RE'!H16:H18)+'A4-FinPerf RE'!H20)),0,(('A7-CFlow'!H6)/(SUM('A4-FinPerf RE'!H5:H12)+'A4-FinPerf RE'!H14+SUM('A4-FinPerf RE'!H16:H18)+'A4-FinPerf RE'!H20)))","v":1},{"$f":"IF(ISERROR(('A7-CFlow'!I6)/(SUM('A4-FinPerf RE'!I5:I12)+'A4-FinPerf RE'!I14+SUM('A4-FinPerf RE'!I16:I18)+'A4-FinPerf RE'!I20)),0,(('A7-CFlow'!I6)/(SUM('A4-FinPerf RE'!I5:I12)+'A4-FinPerf RE'!I14+SUM('A4-FinPerf RE'!I16:I18)+'A4-FinPerf RE'!I20)))","v":0.97585053770684327},{"$f":"IF(ISERROR(('A7-CFlow'!J6)/(SUM('A4-FinPerf RE'!J5:J12)+'A4-FinPerf RE'!J14+SUM('A4-FinPerf RE'!J16:J18)+'A4-FinPerf RE'!J20)),0,(('A7-CFlow'!J6)/(SUM('A4-FinPerf RE'!J5:J12)+'A4-FinPerf RE'!J14+SUM('A4-FinPerf RE'!J16:J18)+'A4-FinPerf RE'!J20)))","v":0.53855434221717935},{"$f":"IF(ISERROR(('A7-CFlow'!K6)/(SUM('A4-FinPerf RE'!K5:K12)+'A4-FinPerf RE'!K14+SUM('A4-FinPerf RE'!K16:K18)+'A4-FinPerf RE'!K20)),0,(('A7-CFlow'!K6)/(SUM('A4-FinPerf RE'!K5:K12)+'A4-FinPerf RE'!K14+SUM('A4-FinPerf RE'!K16:K18)+'A4-FinPerf RE'!K20)))","v":1.1074808985102371},{"$f":"IF(ISERROR(('A7-CFlow'!L6)/(SUM('A4-FinPerf RE'!L5:L12)+'A4-FinPerf RE'!L14+SUM('A4-FinPerf RE'!L16:L18)+'A4-FinPerf RE'!L20)),0,(('A7-CFlow'!L6)/(SUM('A4-FinPerf RE'!L5:L12)+'A4-FinPerf RE'!L14+SUM('A4-FinPerf RE'!L16:L18)+'A4-FinPerf RE'!L20)))","v":1.1074808985102373}]
["Outstanding Debtors to Revenue","Total Outstanding Debtors to Annual Revenue",{"$f":"IF(ISERROR(('A6-FinPos'!C8+'A6-FinPos'!C9+'A6-FinPos'!C10+'A6-FinPos'!C15)/'A4-FinPerf RE'!C22),0,(('A6-FinPos'!C8+'A6-FinPos'!C9+'A6-FinPos'!C10+'A6-FinPos'!C15)/'A4-FinPerf RE'!C22))","v":0.22675290736760143},{"$f":"IF(ISERROR(('A6-FinPos'!D8+'A6-FinPos'!D9+'A6-FinPos'!D10+'A6-FinPos'!D15)/'A4-FinPerf RE'!D22),0,(('A6-FinPos'!D8+'A6-FinPos'!D9+'A6-FinPos'!D10+'A6-FinPos'!D15)/'A4-FinPerf RE'!D22))","v":0.21850907513350631},{"$f":"IF(ISERROR(('A6-FinPos'!E8+'A6-FinPos'!E9+'A6-FinPos'!E10+'A6-FinPos'!E15)/'A4-FinPerf RE'!E22),0,(('A6-FinPos'!E8+'A6-FinPos'!E9+'A6-FinPos'!E10+'A6-FinPos'!E15)/'A4-FinPerf RE'!E22))","v":4.1996971545691882E-2},{"$f":"IF(ISERROR(('A6-FinPos'!F8+'A6-FinPos'!F9+'A6-FinPos'!F10+'A6-FinPos'!F15)/'A4-FinPerf RE'!F22),0,(('A6-FinPos'!F8+'A6-FinPos'!F9+'A6-FinPos'!F10+'A6-FinPos'!F15)/'A4-FinPerf RE'!F22))","v":0.3009903549492618},{"$f":"IF(ISERROR(('A6-FinPos'!G8+'A6-FinPos'!G9+'A6-FinPos'!G10+'A6-FinPos'!G15)/'A4-FinPerf RE'!G22),0,(('A6-FinPos'!G8+'A6-FinPos'!G9+'A6-FinPos'!G10+'A6-FinPos'!G15)/'A4-FinPerf RE'!G22))","v":0.30421438771747378},{"$f":"IF(ISERROR(('A6-FinPos'!H8+'A6-FinPos'!H9+'A6-FinPos'!H10+'A6-FinPos'!H15)/'A4-FinPerf RE'!H22),0,(('A6-FinPos'!H8+'A6-FinPos'!H9+'A6-FinPos'!H10+'A6-FinPos'!H15)/'A4-FinPerf RE'!H22))","v":0.30421438771747378},{"$f":"IF(ISERROR(('A6-FinPos'!I8+'A6-FinPos'!I9+'A6-FinPos'!I10+'A6-FinPos'!I15)/'A4-FinPerf RE'!I22),0,(('A6-FinPos'!I8+'A6-FinPos'!I9+'A6-FinPos'!I10+'A6-FinPos'!I15)/'A4-FinPerf RE'!I22))","v":2.8750248224906027E-2},{"$f":"IF(ISERROR(('A6-FinPos'!J8+'A6-FinPos'!J9+'A6-FinPos'!J10+'A6-FinPos'!J15)/'A4-FinPerf RE'!J22),0,(('A6-FinPos'!J8+'A6-FinPos'!J9+'A6-FinPos'!J10+'A6-FinPos'!J15)/'A4-FinPerf RE'!J22))","v":1.7444023632709673E-3},{"$f":"IF(ISERROR(('A6-FinPos'!K8+'A6-FinPos'!K9+'A6-FinPos'!K10+'A6-FinPos'!K15)/'A4-FinPerf RE'!K22),0,(('A6-FinPos'!K8+'A6-FinPos'!K9+'A6-FinPos'!K10+'A6-FinPos'!K15)/'A4-FinPerf RE'!K22))","v":8.285843600744717E-4},{"$f":"IF(ISERROR(('A6-FinPos'!L8+'A6-FinPos'!L9+'A6-FinPos'!L10+'A6-FinPos'!L15)/'A4-FinPerf RE'!L22),0,(('A6-FinPos'!L8+'A6-FinPos'!L9+'A6-FinPos'!L10+'A6-FinPos'!L15)/'A4-FinPerf RE'!L22))","v":0}]
["Longstanding Debtors Recovered","Debtors > 12 Mths Recovered/Total Debtors > 12 Months Old"]
["Creditors Management"]
["Creditors System Efficiency","% of Creditors Paid Within Terms (within`MFMA' s 65(e))"]
["Creditors to Cash and Investments",null,{"$f":"IF(ISERROR('SA3'!C35/'A7-CFlow'!C38), 0, ('SA3'!C35/'A7-CFlow'!C38))","v":0.52479969005787908},{"$f":"IF(ISERROR('SA3'!D35/'A7-CFlow'!D38), 0, ('SA3'!D35/'A7-CFlow'!D38))","v":0.25824160059094237},{"$f":"IF(ISERROR('SA3'!E35/'A7-CFlow'!E38), 0, ('SA3'!E35/'A7-CFlow'!E38))","v":1.049139483728591},{"$f":"IF(ISERROR('SA3'!F35/'A7-CFlow'!F38), 0, ('SA3'!F35/'A7-CFlow'!F38))","v":-9.728922180270299},{"$f":"IF(ISERROR('SA3'!G35/'A7-CFlow'!G38), 0, ('SA3'!G35/'A7-CFlow'!G38))","v":10.635229456578307},{"$f":"IF(ISERROR('SA3'!H35/'A7-CFlow'!H38), 0, ('SA3'!H35/'A7-CFlow'!H38))","v":10.635229456578307},{"$f":"IF(ISERROR('SA3'!I35/'A7-CFlow'!I38), 0, ('SA3'!I35/'A7-CFlow'!I38))","v":3.5574902199308949},{"$f":"IF(ISERROR('SA3'!J35/'A7-CFlow'!J38), 0, ('SA3'!J35/'A7-CFlow'!J38))","v":-1.5653791152168912},{"$f":"IF(ISERROR('SA3'!K35/'A7-CFlow'!K38), 0, ('SA3'!K35/'A7-CFlow'!K38))","v":-0.68017762487805555},{"$f":"IF(ISERROR('SA3'!L35/'A7-CFlow'!L38), 0, ('SA3'!L35/'A7-CFlow'!L38))","v":-0.39027392011625134}]
[]
["Other Indicators"]
["Electricity Distribution Losses (2)","Total Volume Losses (kW)"]
[null,"Total Cost of Losses (Rand '000)"]
[null,"% Volume (units purchased and generated less units sold)/units purchased and generated"]
["Water Distribution Losses (2)","Total Volume Losses (kℓ)"]
[null,"Total Cost of Losses (Rand '000)"]
[null,"% Volume (units purchased and generated less units sold)/units purchased and generated"]
["Employee costs","Employee costs/(Total Revenue - capital revenue)",{"$f":"IF(ISERROR('A4-FinPerf RE'!C25/'A4-FinPerf RE'!C22),0,('A4-FinPerf RE'!C25/'A4-FinPerf RE'!C22))","v":0.43885723084711142},{"$f":"IF(ISERROR('A4-FinPerf RE'!D25/'A4-FinPerf RE'!D22),0,('A4-FinPerf RE'!D25/'A4-FinPerf RE'!D22))","v":0.27053083887807394},{"$f":"IF(ISERROR('A4-FinPerf RE'!E25/'A4-FinPerf RE'!E22),0,('A4-FinPerf RE'!E25/'A4-FinPerf RE'!E22))","v":0.76574653546716187},{"$f":"IF(ISERROR('A4-FinPerf RE'!F25/'A4-FinPerf RE'!F22),0,('A4-FinPerf RE'!F25/'A4-FinPerf RE'!F22))","v":0.56825797316317639},{"$f":"IF(ISERROR('A4-FinPerf RE'!G25/'A4-FinPerf RE'!G22),0,('A4-FinPerf RE'!G25/'A4-FinPerf RE'!G22))","v":0.53576484418846693},{"$f":"IF(ISERROR('A4-FinPerf RE'!H25/'A4-FinPerf RE'!H22),0,('A4-FinPerf RE'!H25/'A4-FinPerf RE'!H22))","v":0.53576484418846693},{"$f":"IF(ISERROR('A4-FinPerf RE'!I25/'A4-FinPerf RE'!I22),0,('A4-FinPerf RE'!I25/'A4-FinPerf RE'!I22))","v":0.57820873689367336},{"$f":"IF(ISERROR('A4-FinPerf RE'!J25/'A4-FinPerf RE'!J22),0,('A4-FinPerf RE'!J25/'A4-FinPerf RE'!J22))","v":0.60999267907347166},{"$f":"IF(ISERROR('A4-FinPerf RE'!K25/'A4-FinPerf RE'!K22),0,('A4-FinPerf RE'!K25/'A4-FinPerf RE'!K22))","v":0.60603671196269704},{"$f":"IF(ISERROR('A4-FinPerf RE'!L25/'A4-FinPerf RE'!L22),0,('A4-FinPerf RE'!L25/'A4-FinPerf RE'!L22))","v":0.59683095537288278}]
["Remuneration","Total remuneration/(Total Revenue - capital revenue)",{"$f":"IF(ISERROR('SA22'!C102/'A4-FinPerf RE'!C22),0,('SA22'!C102/'A4-FinPerf RE'!C22))","v":0.11257964170404548},{"$f":"IF(ISERROR('SA22'!D102/'A4-FinPerf RE'!D22),0,('SA22'!D102/'A4-FinPerf RE'!D22))","v":0.33127940708911269},{"$f":"IF(ISERROR('SA22'!E102/'A4-FinPerf RE'!E22),0,('SA22'!E102/'A4-FinPerf RE'!E22))","v":0.10336483017896003},{"$f":"IF(ISERROR('SA22'!F102/'A4-FinPerf RE'!F22),0,('SA22'!F102/'A4-FinPerf RE'!F22))","v":0.62175531325895173},{"$f":"IF(ISERROR('SA22'!G102/'A4-FinPerf RE'!G22),0,('SA22'!G102/'A4-FinPerf RE'!G22))","v":0.58983519983406374},{"$f":"IF(ISERROR('SA22'!H102/'A4-FinPerf RE'!H22),0,('SA22'!H102/'A4-FinPerf RE'!H22))","v":0.58983519983406374},null,{"$f":"IF(ISERROR('SA22'!I102/'A4-FinPerf RE'!J22),0,('SA22'!I102/'A4-FinPerf RE'!J22))","v":0.68236720845723242},{"$f":"IF(ISERROR('SA22'!J102/'A4-FinPerf RE'!K22),0,('SA22'!J102/'A4-FinPerf RE'!K22))","v":0.66984417335978474},{"$f":"IF(ISERROR('SA22'!K102/'A4-FinPerf RE'!L22),0,('SA22'!K102/'A4-FinPerf RE'!L22))","v":0.65171334921989277}]
["Repairs & Maintenance","R&M/(Total Revenue excluding capital revenue)",{"$f":"IF(ISERROR('A9-Asset'!C69/'A4-FinPerf RE'!C22),0,('A9-Asset'!C69/'A4-FinPerf RE'!C22))","v":0.10703045929860887},{"$f":"IF(ISERROR('A9-Asset'!D69/'A4-FinPerf RE'!D22),0,('A9-Asset'!D69/'A4-FinPerf RE'!D22))","v":8.3650448385260021E-2},{"$f":"IF(ISERROR('A9-Asset'!E69/'A4-FinPerf RE'!E22),0,('A9-Asset'!E69/'A4-FinPerf RE'!E22))","v":3.2279002510288916E-2},{"$f":"IF(ISERROR('A9-Asset'!F69/'A4-FinPerf RE'!F22),0,('A9-Asset'!F69/'A4-FinPerf RE'!F22))","v":1.9007433775312669E-2},{"$f":"IF(ISERROR('A9-Asset'!G69/'A4-FinPerf RE'!G22),0,('A9-Asset'!G69/'A4-FinPerf RE'!G22))","v":2.4125866123599741E-2},{"$f":"IF(ISERROR('A9-Asset'!H69/'A4-FinPerf RE'!H22),0,('A9-Asset'!H69/'A4-FinPerf RE'!H22))","v":2.4125866123599741E-2},null,{"$f":"IF(ISERROR('A9-Asset'!I69/'A4-FinPerf RE'!J22),0,('A9-Asset'!I69/'A4-FinPerf RE'!J22))","v":8.2236111411345594E-3},{"$f":"IF(ISERROR('A9-Asset'!J69/'A4-FinPerf RE'!K22),0,('A9-Asset'!J69/'A4-FinPerf RE'!K22))","v":8.2972723505388476E-3},{"$f":"IF(ISERROR('A9-Asset'!K69/'A4-FinPerf RE'!L22),0,('A9-Asset'!K69/'A4-FinPerf RE'!L22))","v":8.2972723505388476E-3}]
["Finance charges & Depreciation","FC&D/(Total Revenue - capital revenue)",{"$f":"IF(ISERROR(('A4-FinPerf RE'!C29+'A4-FinPerf RE'!C28)/'A4-FinPerf RE'!C22),0,(('A4-FinPerf RE'!C29+'A4-FinPerf RE'!C28)/'A4-FinPerf RE'!C22))","v":1.0907170307304903E-2},{"$f":"IF(ISERROR(('A4-FinPerf RE'!D29+'A4-FinPerf RE'!D28)/'A4-FinPerf RE'!D22),0,(('A4-FinPerf RE'!D29+'A4-FinPerf RE'!D28)/'A4-FinPerf RE'!D22))","v":2.8775744033173525E-2},{"$f":"IF(ISERROR(('A4-FinPerf RE'!E29+'A4-FinPerf RE'!E28)/'A4-FinPerf RE'!E22),0,(('A4-FinPerf RE'!E29+'A4-FinPerf RE'!E28)/'A4-FinPerf RE'!E22))","v":9.990743201719797E-2},{"$f":"IF(ISERROR(('A4-FinPerf RE'!F29+'A4-FinPerf RE'!F28)/'A4-FinPerf RE'!F22),0,(('A4-FinPerf RE'!F29+'A4-FinPerf RE'!F28)/'A4-FinPerf RE'!F22))","v":6.3856749374982438E-2},{"$f":"IF(ISERROR(('A4-FinPerf RE'!G29+'A4-FinPerf RE'!G28)/'A4-FinPerf RE'!G22),0,(('A4-FinPerf RE'!G29+'A4-FinPerf RE'!G28)/'A4-FinPerf RE'!G22))","v":5.6195380524061249E-2},{"$f":"IF(ISERROR(('A4-FinPerf RE'!H29+'A4-FinPerf RE'!H28)/'A4-FinPerf RE'!H22),0,(('A4-FinPerf RE'!H29+'A4-FinPerf RE'!H28)/'A4-FinPerf RE'!H22))","v":5.6195380524061249E-2},{"$f":"IF(ISERROR(('A4-FinPerf RE'!I29+'A4-FinPerf RE'!I28)/'A4-FinPerf RE'!I22),0,(('A4-FinPerf RE'!I29+'A4-FinPerf RE'!I28)/'A4-FinPerf RE'!I22))","v":6.0647241685471226E-2},{"$f":"IF(ISERROR(('A4-FinPerf RE'!J29+'A4-FinPerf RE'!J28)/'A4-FinPerf RE'!J22),0,(('A4-FinPerf RE'!J29+'A4-FinPerf RE'!J28)/'A4-FinPerf RE'!J22))","v":5.4512573852217722E-2},{"$f":"IF(ISERROR(('A4-FinPerf RE'!K29+'A4-FinPerf RE'!K28)/'A4-FinPerf RE'!K22),0,(('A4-FinPerf RE'!K29+'A4-FinPerf RE'!K28)/'A4-FinPerf RE'!K22))","v":5.5000858384253733E-2},{"$f":"IF(ISERROR(('A4-FinPerf RE'!L29+'A4-FinPerf RE'!L28)/'A4-FinPerf RE'!L22),0,(('A4-FinPerf RE'!L29+'A4-FinPerf RE'!L28)/'A4-FinPerf RE'!L22))","v":5.500085838425374E-2}]
["IDP regulation financial viability indicators"]
["i. Debt coverage","(Total Operating Revenue - Operating Grants)/Debt service payments due within financial year)",{"$f":"IF(ISERROR(('A4-FinPerf RE'!C22-'A4-FinPerf RE'!C19)/('A7-CFlow'!D9-'A7-CFlow'!D33)),0,(('A4-FinPerf RE'!C22-'A4-FinPerf RE'!C19)/('A7-CFlow'!D9-'A7-CFlow'!D33)))","v":0.61122213967639483},{"$f":"IF(ISERROR(('A4-FinPerf RE'!D22-'A4-FinPerf RE'!D19)/('A7-CFlow'!E9-'A7-CFlow'!E33)),0,(('A4-FinPerf RE'!D22-'A4-FinPerf RE'!D19)/('A7-CFlow'!E9-'A7-CFlow'!E33)))","v":4.0581806935477633},{"$f":"IF(ISERROR(('A4-FinPerf RE'!E22-'A4-FinPerf RE'!E19)/('A7-CFlow'!F9-'A7-CFlow'!F33)),0,(('A4-FinPerf RE'!E22-'A4-FinPerf RE'!E19)/('A7-CFlow'!F9-'A7-CFlow'!F33)))","v":5.6613467609693462},{"$f":"IF(ISERROR(('A4-FinPerf RE'!F22-'A4-FinPerf RE'!F19)/('A7-CFlow'!G9-'A7-CFlow'!G33)),0,(('A4-FinPerf RE'!F22-'A4-FinPerf RE'!F19)/('A7-CFlow'!G9-'A7-CFlow'!G33)))","v":4.5431963002373514},{"$f":"F37","v":4.5431963002373514},{"$f":"G37","v":4.5431963002373514},{"$f":"IF(ISERROR(('A4-FinPerf RE'!I22-'A4-FinPerf RE'!I19)/('A7-CFlow'!J9-'A7-CFlow'!J33)),0,(('A4-FinPerf RE'!I22-'A4-FinPerf RE'!I19)/('A7-CFlow'!J9-'A7-CFlow'!J33)))","v":0.88420165475900525},{"$f":"IF(ISERROR(('A4-FinPerf RE'!J22-'A4-FinPerf RE'!J19)/('A7-CFlow'!K9-'A7-CFlow'!K33)),0,(('A4-FinPerf RE'!J22-'A4-FinPerf RE'!J19)/('A7-CFlow'!K9-'A7-CFlow'!K33)))","v":1.791252557992739},{"$f":"IF(ISERROR(('A4-FinPerf RE'!K22-'A4-FinPerf RE'!K19)/('A7-CFlow'!L9-'A7-CFlow'!L33)),0,(('A4-FinPerf RE'!K22-'A4-FinPerf RE'!K19)/('A7-CFlow'!L9-'A7-CFlow'!L33)))","v":0.94978329952201213},{"$f":"IF(ISERROR(('A4-FinPerf RE'!L22-'A4-FinPerf RE'!L19)/('A7-CFlow'!L9-'A7-CFlow'!L33)),0,(('A4-FinPerf RE'!L22-'A4-FinPerf RE'!L19)/('A7-CFlow'!L9-'A7-CFlow'!L33)))","v":1.0447616294742172}]
["ii.O/S Service Debtors to Revenue","Total outstanding service debtors/annual revenue received for services",{"$f":"IF(ISERROR(('A6-FinPos'!C8+'A6-FinPos'!C9+'A6-FinPos'!C10)/SUM('A4-FinPerf RE'!C5:C12)),0,(('A6-FinPos'!C8+'A6-FinPos'!C9+'A6-FinPos'!C10)/SUM('A4-FinPerf RE'!C5:C12)))","v":35.519447890925463},{"$f":"IF(ISERROR(('A6-FinPos'!D8+'A6-FinPos'!D9+'A6-FinPos'!D10)/SUM('A4-FinPerf RE'!D5:D12)),0,(('A6-FinPos'!D8+'A6-FinPos'!D9+'A6-FinPos'!D10)/SUM('A4-FinPerf RE'!D5:D12)))","v":54.115592145064504},{"$f":"IF(ISERROR(('A6-FinPos'!E8+'A6-FinPos'!E9+'A6-FinPos'!E10)/SUM('A4-FinPerf RE'!E5:E12)),0,(('A6-FinPos'!E8+'A6-FinPos'!E9+'A6-FinPos'!E10)/SUM('A4-FinPerf RE'!E5:E12)))","v":1.9590588578021249},{"$f":"IF(ISERROR(('A6-FinPos'!F8+'A6-FinPos'!F9+'A6-FinPos'!F10)/SUM('A4-FinPerf RE'!F5:F12)),0,(('A6-FinPos'!F8+'A6-FinPos'!F9+'A6-FinPos'!F10)/SUM('A4-FinPerf RE'!F5:F12)))","v":53.493789977711458},{"$f":"IF(ISERROR(('A6-FinPos'!G8+'A6-FinPos'!G9+'A6-FinPos'!G10)/SUM('A4-FinPerf RE'!G5:G12)),0,(('A6-FinPos'!G8+'A6-FinPos'!G9+'A6-FinPos'!G10)/SUM('A4-FinPerf RE'!G5:G12)))","v":53.493789977711458},{"$f":"IF(ISERROR(('A6-FinPos'!H8+'A6-FinPos'!H9+'A6-FinPos'!H10)/SUM('A4-FinPerf RE'!H5:H12)),0,(('A6-FinPos'!H8+'A6-FinPos'!H9+'A6-FinPos'!H10)/SUM('A4-FinPerf RE'!H5:H12)))","v":53.493789977711458},{"$f":"IF(ISERROR(('A6-FinPos'!I8+'A6-FinPos'!I9+'A6-FinPos'!I10)/SUM('A4-FinPerf RE'!I5:I12)),0,(('A6-FinPos'!I8+'A6-FinPos'!I9+'A6-FinPos'!I10)/SUM('A4-FinPerf RE'!I5:I12)))","v":4.6844087111435426},{"$f":"IF(ISERROR(('A6-FinPos'!J8+'A6-FinPos'!J9+'A6-FinPos'!J10)/SUM('A4-FinPerf RE'!J5:J12)),0,(('A6-FinPos'!J8+'A6-FinPos'!J9+'A6-FinPos'!J10)/SUM('A4-FinPerf RE'!J5:J12)))","v":0.23902722067599116},{"$f":"IF(ISERROR(('A6-FinPos'!K8+'A6-FinPos'!K9+'A6-FinPos'!K10)/SUM('A4-FinPerf RE'!K5:K12)),0,(('A6-FinPos'!K8+'A6-FinPos'!K9+'A6-FinPos'!K10)/SUM('A4-FinPerf RE'!K5:K12)))","v":0.11252904869486596},{"$f":"IF(ISERROR(('A6-FinPos'!L8+'A6-FinPos'!L9+'A6-FinPos'!L10)/SUM('A4-FinPerf RE'!L5:L12)),0,(('A6-FinPos'!L8+'A6-FinPos'!L9+'A6-FinPos'!L10)/SUM('A4-FinPerf RE'!L5:L12)))","v":0}]
["iii. Cost coverage","(Available cash + Investments)/monthly fixed operational expenditure",{"$f":"IF(ISERROR('A7-CFlow'!C38/'SA8'!C46),0,('A7-CFlow'!C38/'SA8'!C46))","v":4.1404705862498679},{"$f":"IF(ISERROR('A7-CFlow'!D38/'SA8'!D46),0,('A7-CFlow'!D38/'SA8'!D46))","v":5.539362793421569},{"$f":"IF(ISERROR('A7-CFlow'!E38/'SA8'!E46),0,('A7-CFlow'!E38/'SA8'!E46))","v":1.352642734951637},{"$f":"IF(ISERROR('A7-CFlow'!F38/'SA8'!F46),0,('A7-CFlow'!F38/'SA8'!F46))","v":-0.39950279383103343},{"$f":"IF(ISERROR('A7-CFlow'!G38/'SA8'!G46),0,('A7-CFlow'!G38/'SA8'!G46))","v":0.36972256246071994},{"$f":"IF(ISERROR('A7-CFlow'!H38/'SA8'!H46),0,('A7-CFlow'!H38/'SA8'!H46))","v":0.36972256246071994},{"$f":"IF(ISERROR('A7-CFlow'!I38/'SA8'!I46),0,('A7-CFlow'!I38/'SA8'!I46))","v":0.36929325748147918},{"$f":"IF(ISERROR('A7-CFlow'!J38/'SA8'!J46),0,('A7-CFlow'!J38/'SA8'!J46))","v":-0.54435654509117237},{"$f":"IF(ISERROR('A7-CFlow'!K38/'SA8'!K46),0,('A7-CFlow'!K38/'SA8'!K46))","v":-1.0541673181016125},{"$f":"IF(ISERROR('A7-CFlow'!L38/'SA8'!L46),0,('A7-CFlow'!L38/'SA8'!L46))","v":-1.5320248455637235}]
[{"$f":"head27a","v":"References"}]
["1. Consumer debtors > 12 months old are excluded from current assets"]
["2. Only include if services provided by the municipality"]
[]
["Calculation data"]
["Debtors > 90 days"]
["Monthly fixed operational expenditure",null,{"$f":"(('A4-FinPerf RE'!C25+'A4-FinPerf RE'!C26+'A4-FinPerf RE'!C27+'A4-FinPerf RE'!C29+'A4-FinPerf RE'!C30+'A4-FinPerf RE'!C32+'SA1'!C87+'A7-CFlow'!C33)+(('A4-FinPerf RE'!C31+'A4-FinPerf RE'!C34)*'SA8'!C47))/12","v":2403791.0166666666},{"$f":"(('A4-FinPerf RE'!D25+'A4-FinPerf RE'!D26+'A4-FinPerf RE'!D27+'A4-FinPerf RE'!D29+'A4-FinPerf RE'!D30+'A4-FinPerf RE'!D32+'SA1'!D87+'A7-CFlow'!D33)+(('A4-FinPerf RE'!D31+'A4-FinPerf RE'!D34)*'SA8'!D47))/12","v":3548556.1666666665},{"$f":"(('A4-FinPerf RE'!E25+'A4-FinPerf RE'!E26+'A4-FinPerf RE'!E27+'A4-FinPerf RE'!E29+'A4-FinPerf RE'!E30+'A4-FinPerf RE'!E32+'SA1'!E87+'A7-CFlow'!E33)+(('A4-FinPerf RE'!E31+'A4-FinPerf RE'!E34)*'SA8'!E47))/12","v":4433400.5166666666},{"$f":"(('A4-FinPerf RE'!F25+'A4-FinPerf RE'!F26+'A4-FinPerf RE'!F27+'A4-FinPerf RE'!F29+'A4-FinPerf RE'!F30+'A4-FinPerf RE'!F32+'SA1'!F87+'A7-CFlow'!F33)+(('A4-FinPerf RE'!F31+'A4-FinPerf RE'!F34)*'SA8'!F47))/12","v":3878842.7508341125},{"$f":"(('A4-FinPerf RE'!G25+'A4-FinPerf RE'!G26+'A4-FinPerf RE'!G27+'A4-FinPerf RE'!G29+'A4-FinPerf RE'!G30+'A4-FinPerf RE'!G32+'SA1'!G87+'A7-CFlow'!G33)+(('A4-FinPerf RE'!G31+'A4-FinPerf RE'!G34)*'SA8'!G47))/12","v":3834104.1441240683},{"$f":"(('A4-FinPerf RE'!H25+'A4-FinPerf RE'!H26+'A4-FinPerf RE'!H27+'A4-FinPerf RE'!H29+'A4-FinPerf RE'!H30+'A4-FinPerf RE'!H32+'SA1'!H87+'A7-CFlow'!H33)+(('A4-FinPerf RE'!H31+'A4-FinPerf RE'!H34)*'SA8'!H47))/12","v":3834104.1441240683},{"$f":"(('A4-FinPerf RE'!I25+'A4-FinPerf RE'!I26+'A4-FinPerf RE'!I27+'A4-FinPerf RE'!I29+'A4-FinPerf RE'!I30+'A4-FinPerf RE'!I32+'SA1'!I87+'A7-CFlow'!I33)+(('A4-FinPerf RE'!I31+'A4-FinPerf RE'!I34)*'SA8'!I47))/12","v":3834104.1441240683},{"$f":"(('A4-FinPerf RE'!J25+'A4-FinPerf RE'!J26+'A4-FinPerf RE'!J27+'A4-FinPerf RE'!J29+'A4-FinPerf RE'!J30+'A4-FinPerf RE'!J32+'SA1'!J87+'A7-CFlow'!J33)+(('A4-FinPerf RE'!J31+'A4-FinPerf RE'!J34)*'SA8'!J47))/12","v":4277544.6184999989},{"$f":"(('A4-FinPerf RE'!K25+'A4-FinPerf RE'!K26+'A4-FinPerf RE'!K27+'A4-FinPerf RE'!K29+'A4-FinPerf RE'!K30+'A4-FinPerf RE'!K32+'SA1'!K87+'A7-CFlow'!K33)+(('A4-FinPerf RE'!K31+'A4-FinPerf RE'!K34)*'SA8'!K47))/12","v":4638608.7645041673},{"$f":"(('A4-FinPerf RE'!L25+'A4-FinPerf RE'!L26+'A4-FinPerf RE'!L27+'A4-FinPerf RE'!L29+'A4-FinPerf RE'!L30+'A4-FinPerf RE'!L32+'SA1'!L87+'A7-CFlow'!L33)+(('A4-FinPerf RE'!L31+'A4-FinPerf RE'!L34)*'SA8'!L47))/12","v":5030836.2618388124}]
["Fixed operational expenditure % assumption",null,0.4,{"$f":"$C$47","v":0.4},{"$f":"$C$47","v":0.4},0.4,0.4,0.4,0.4,0.4,0.4,0.4]
["Own capex",null,{"$f":"'A5-Capex'!C40-'A5-Capex'!C70-'A5-Capex'!C71","v":0},{"$f":"'A5-Capex'!D40-'A5-Capex'!D70-'A5-Capex'!D71","v":0},{"$f":"'A5-Capex'!E40-'A5-Capex'!E70-'A5-Capex'!E71","v":0},{"$f":"'A5-Capex'!F40-'A5-Capex'!F70-'A5-Capex'!F71","v":-0.34782608598470688},{"$f":"'A5-Capex'!G40-'A5-Capex'!G70-'A5-Capex'!G71","v":-3.3333333441987634E-2},{"$f":"'A5-Capex'!H40-'A5-Capex'!H70-'A5-Capex'!H71","v":-3.3333336468786001E-2},{"$f":"'A5-Capex'!I40-'A5-Capex'!I70-'A5-Capex'!I71","v":-3.3333336468786001E-2},{"$f":"'A5-Capex'!J40-'A5-Capex'!J70-'A5-Capex'!J71","v":0},{"$f":"'A5-Capex'!K40-'A5-Capex'!K70-'A5-Capex'!K71","v":0},{"$f":"'A5-Capex'!L40-'A5-Capex'!L70-'A5-Capex'!L71","v":-1.1641532182693481E-10}]
["Borrowing",null,{"$f":"'A7-CFlow'!C29+'A7-CFlow'!C30","v":0},{"$f":"'A7-CFlow'!D29+'A7-CFlow'!D30","v":0},{"$f":"'A7-CFlow'!E29+'A7-CFlow'!E30","v":0},{"$f":"'A7-CFlow'!F29+'A7-CFlow'!F30","v":0},{"$f":"'A7-CFlow'!G29+'A7-CFlow'!G30","v":0},{"$f":"'A7-CFlow'!H29+'A7-CFlow'!H30","v":0},{"$f":"'A7-CFlow'!I29+'A7-CFlow'!I30","v":0},{"$f":"'A7-CFlow'!J29+'A7-CFlow'!J30","v":0},{"$f":"'A7-CFlow'!K29+'A7-CFlow'!K30","v":0},{"$f":"'A7-CFlow'!L29+'A7-CFlow'!L30","v":0}]

{"sheet":"SA9","index":27,"n_rows":261,"n_cols":13,"rows_kept":261,"cut":false,"hidden":false,"merged":[[154,0,155,0],[154,7,154,9],[154,10,154,12],[200,0,201,0],[200,7,200,9],[200,10,200,12],[62,0,63,0],[62,7,62,9],[62,10,62,12],[108,0,109,0],[108,7,108,9],[108,10,108,12],[1,10,1,12],[1,0,2,0],[1,1,2,1],[1,2,2,2],[1,3,2,3],[1,4,2,4],[1,5,2,5]]}
[{"$f":"muni&\" - \"&TableA9","v":"DC16 Xhariep - Supporting Table SA9 Social, economic and demographic statistics and assumptions"}]
["Description of economic indicator","Ref.","Basis of calculation",{"$f":"Head44","v":"2001 Census"},"2007 Survey",{"$f":"Head45","v":"2011 Census"},{"$f":"head1b","v":"2010/11"},{"$f":"head1A","v":"2011/12"},{"$f":"Head1","v":"2012/13"},{"$f":"Head2","v":"Current Year 2013/14"},{"$f":"Head3","v":"2014/15 Medium Term Revenue & Expenditure Framework"}]
[null,null,null,null,null,null,{"$f":"Head5A","v":"Outcome"},"Outcome","Outcome",{"$f":"Head6","v":"Original Budget"},"Outcome","Outcome","Outcome"]
["Demographics"]
["Population"]
["Females aged 5 - 14"]
["Males aged 5 - 14"]
["Females aged 15 - 34"]
["Males aged 15 - 34"]
["Unemployment"]
[]
["Monthly household income (no. of households)","1, 12"]
["No income"]
["R1 - R1 600"]
["R1 601 - R3 200"]
["R3 201 - R6 400"]
["R6 401 - R12 800"]
["R12 801 - R25 600"]
["R25 601 - R51 200"]
["R52 201 - R102 400"]
["R102 401 - R204 800"]
["R204 801 - R409 600"]
["R409 601 - R819 200"]
[" > R819 200"]
[]
[]
["Poverty profiles (no. of households)"]
["< R2 060 per household per month",13]
["Insert description",2]
[]
["Household/demographics (000)"]
["Number of people in municipal area"]
["Number of poor people in municipal area"]
["Number of households in municipal area"]
["Number of poor households in municipal area"]
["Definition of poor household (R per month)"]
[]
["Housing statistics",3]
["Formal"]
["Informal"]
["Total number of households",null,null,{"$f":"SUM(D39:D40)","v":0},{"$f":"SUM(E39:E40)","v":0},0,0,0,0,0,0,0,0]
["Dwellings provided by municipality",4]
["Dwellings provided by province/s"]
["Dwellings provided by private sector",5]
["Total new housing dwellings",null,null,{"$f":"SUM(D42:D44)","v":0},{"$f":"SUM(E42:E44)","v":0},0,0,0,0,0,0,0,0]
[]
["Economic",6]
["Inflation/inflation outlook (CPIX)"]
["Interest rate - borrowing"]
["Interest rate - investment"]
["Remuneration increases"]
["Consumption growth (electricity)"]
["Consumption growth (water)"]
[]
["Collection rates",7]
["Property tax/service charges"]
["Rental of facilities & equipment"]
["Interest - external investments"]
["Interest - debtors"]
["Revenue from agency services"]
[]
["Detail on the provision of municipal services for A10"]
["Total municipal services",null,null,null,{"$f":"head1b","v":"2010/11"},{"$f":"head1A","v":"2011/12"},{"$f":"Head1","v":"2012/13"},{"$f":"Head2","v":"Current Year 2013/14"},null,null,{"$f":"Head3","v":"2014/15 Medium Term Revenue & Expenditure Framework"}]
[null,"Ref.",null,null,{"$f":"Head5A","v":"Outcome"},{"$f":"Head5A","v":"Outcome"},{"$f":"Head5A","v":"Outcome"},{"$f":"Head6","v":"Original Budget"},{"$f":"Head7","v":"Adjusted Budget"},{"$f":"Head8","v":"Full Year Forecast"},{"$f":"Head9","v":"Budget Year 2014/15"},{"$f":"Head10","v":"Budget Year +1 2015/16"},{"$f":"Head11","v":"Budget Year +2 2016/17"}]
[null,null,"Household service targets (000)"]
[null,null,"Water:"]
[null,null,"Piped water inside dwelling"]
[null,null,"Piped water inside yard (but not in dwelling)"]
[null,8,"Using public tap (at least min.service level)"]
[null,10,"Other water supply (at least min.service level)"]
[null,null,"Minimum Service Level and Above sub-total",null,{"$f":"SUM(E67:E70)","v":0},{"$f":"SUM(F67:F70)","v":0},0,0,0,0,0,0,0]
[null,9,"Using public tap (< min.service level)"]
[null,10,"Other water supply (< min.service level)"]
[null,null,"No water supply"]
[null,null,"Below Minimum Service Level sub-total",null,{"$f":"SUM(E72:E74)","v":0},{"$f":"SUM(F72:F74)","v":0},0,0,0,0,0,0,0]
[null,null,"Total number of households",null,{"$f":"E71+E75","v":0},{"$f":"F71+F75","v":0},0,0,0,0,0,0,0]
[null,null,"Sanitation/sewerage:"]
[null,null,"Flush toilet (connected to sewerage)"]
[null,null,"Flush toilet (with septic tank)"]
[null,null,"Chemical toilet"]
[null,null,"Pit toilet (ventilated)"]
[null,null,"Other toilet provisions (> min.service level)"]
[null,null,"Minimum Service Level and Above sub-total",null,{"$f":"SUM(E78:E82)","v":0},{"$f":"SUM(F78:F82)","v":0},0,0,0,0,0,0,0]
[null,null,"Bucket toilet"]
[null,null,"Other toilet provisions (< min.service level)"]
[null,null,"No toilet provisions"]
[null,null,"Below Minimum Service Level sub-total",null,{"$f":"SUM(E84:E86)","v":0},{"$f":"SUM(F84:F86)","v":0},0,0,0,0,0,0,0]
[null,null,"Total number of households",null,{"$f":"E83+E87","v":0},{"$f":"F83+F87","v":0},0,0,0,0,0,0,0]
[null,null,"Energy:"]
[null,null,"Electricity (at least min.service level)"]
[null,null,"Electricity - prepaid (min.service level)"]
[null,null,"Minimum Service Level and Above sub-total",null,{"$f":"SUM(E90:E91)","v":0},{"$f":"SUM(F90:F91)","v":0},0,0,0,0,0,0,0]
[null,null,"Electricity (< min.service level)"]
[null,null,"Electricity - prepaid (< min. service level)"]
[null,null,"Other energy sources"]
[null,null,"Below Minimum Service Level sub-total",null,{"$f":"SUM(E93:E95)","v":0},{"$f":"SUM(F93:F95)","v":0},0,0,0,0,0,0,0]
[null,null,"Total number of households",null,{"$f":"E92+E96","v":0},{"$f":"F92+F96","v":0},0,0,0,0,0,0,0]
[null,null,"Refuse:"]
[null,null,"Removed at least once a week"]
[null,null,"Minimum Service Level and Above sub-total",null,{"$f":"SUM(E99)","v":0},{"$f":"SUM(F99)","v":0},0,0,0,0,0,0,0]
[null,null,"Removed less frequently than once a week"]
[null,null,"Using communal refuse dump"]
[null,null,"Using own refuse dump"]
[null,null,"Other rubbish disposal"]
[null,null,"No rubbish disposal"]
[null,null,"Below Minimum Service Level sub-total",null,{"$f":"SUM(E101:E105)","v":0},0,0,0,0,0,0,0,0]
[null,null,"Total number of households",null,{"$f":"E100+E106","v":0},{"$f":"F100+F106","v":0},0,0,0,0,0,0,0]
[]
["Municipal in-house services",null,null,null,{"$f":"head1b","v":"2010/11"},{"$f":"head1A","v":"2011/12"},{"$f":"Head1","v":"2012/13"},{"$f":"Head2","v":"Current Year 2013/14"},null,null,{"$f":"Head3","v":"2014/15 Medium Term Revenue & Expenditure Framework"}]
[null,"Ref.",null,null,{"$f":"Head5A","v":"Outcome"},{"$f":"Head5A","v":"Outcome"},{"$f":"Head5A","v":"Outcome"},{"$f":"Head6","v":"Original Budget"},{"$f":"Head7","v":"Adjusted Budget"},{"$f":"Head8","v":"Full Year Forecast"},{"$f":"Head9","v":"Budget Year 2014/15"},{"$f":"Head10","v":"Budget Year +1 2015/16"},{"$f":"Head11","v":"Budget Year +2 2016/17"}]
[null,null,"Household service targets (000)"]
[null,null,"Water:"]
[null,null,"Piped water inside dwelling"]
[null,null,"Piped water inside yard (but not in dwelling)"]
[null,8,"Using public tap (at least min.service level)"]
[null,10,"Other water supply (at least min.service level)"]
[null,null,"Minimum Service Level and Above sub-total",null,{"$f":"SUM(E113:E116)","v":0},{"$f":"SUM(F113:F116)","v":0},0,0,0,0,0,0,0]
[null,9,"Using public tap (< min.service level)"]
[null,10,"Other water supply (< min.service level)"]
[null,null,"No water supply"]
[null,null,"Below Minimum Service Level sub-total",null,{"$f":"SUM(E118:E120)","v":0},{"$f":"SUM(F118:F120)","v":0},0,0,0,0,0,0,0]
[null,null,"Total number of households",null,{"$f":"E117+E121","v":0},{"$f":"F117+F121","v":0},0,0,0,0,0,0,0]
[null,null,"Sanitation/sewerage:"]
[null,null,"Flush toilet (connected to sewerage)"]
[null,null,"Flush toilet (with septic tank)"]
[null,null,"Chemical toilet"]
[null,null,"Pit toilet (ventilated)"]
[null,null,"Other toilet provisions (> min.service level)"]
[null,null,"Minimum Service Level and Above sub-total",null,{"$f":"SUM(E124:E128)","v":0},{"$f":"SUM(F124:F128)","v":0},0,0,0,0,0,0,0]
[null,null,"Bucket toilet"]
[null,null,"Other toilet provisions (< min.service level)"]
[null,null,"No toilet provisions"]
[null,null,"Below Minimum Service Level sub-total",null,{"$f":"SUM(E130:E132)","v":0},{"$f":"SUM(F130:F132)","v":0},0,0,0,0,0,0,0]
[null,null,"Total number of households",null,{"$f":"E129+E133","v":0},{"$f":"F129+F133","v":0},0,0,0,0,0,0,0]
[null,null,"Energy:"]
[null,null,"Electricity (at least min.service level)"]
[null,null,"Electricity - prepaid (min.service level)"]
[null,null,"Minimum Service Level and Above sub-total",null,{"$f":"SUM(E136:E137)","v":0},{"$f":"SUM(F136:F137)","v":0},0,0,0,0,0,0,0]
[null,null,"Electricity (< min.service level)"]
[null,null,"Electricity - prepaid (< min. service level)"]
[null,null,"Other energy sources"]
[null,null,"Below Minimum Service Level sub-total",null,{"$f":"SUM(E139:E141)","v":0},{"$f":"SUM(F139:F141)","v":0},0,0,0,0,0,0,0]
[null,null,"Total number of households",null,{"$f":"E138+E142","v":0},{"$f":"F138+F142","v":0},0,0,0,0,0,0,0]
[null,null,"Refuse:"]
[null,null,"Removed at least once a week"]
[null,null,"Minimum Service Level and Above sub-total",null,{"$f":"SUM(E145)","v":0},{"$f":"SUM(F145)","v":0},0,0,0,0,0,0,0]
[null,null,"Removed less frequently than once a week"]
[null,null,"Using communal refuse dump"]
[null,null,"Using own refuse dump"]
[null,null,"Other rubbish disposal"]
[null,null,"No rubbish disposal"]
[null,null,"Below Minimum Service Level sub-total",null,{"$f":"SUM(E147:E151)","v":0},0,0,0,0,0,0,0,0]
[null,null,"Total number of households",null,{"$f":"E146+E152","v":0},{"$f":"F146+F152","v":0},0,0,0,0,0,0,0]
[]
["Municipal entity services",null,null,null,{"$f":"head1b","v":"2010/11"},{"$f":"head1A","v":"2011/12"},{"$f":"Head1","v":"2012/13"},{"$f":"Head2","v":"Current Year 2013/14"},null,null,{"$f":"Head3","v":"2014/15 Medium Term Revenue & Expenditure Framework"}]
[null,"Ref.",null,null,{"$f":"Head5A","v":"Outcome"},{"$f":"Head5A","v":"Outcome"},{"$f":"Head5A","v":"Outcome"},{"$f":"Head6","v":"Original Budget"},{"$f":"Head7","v":"Adjusted Budget"},{"$f":"Head8","v":"Full Year Forecast"},{"$f":"Head9","v":"Budget Year 2014/15"},{"$f":"Head10","v":"Budget Year +1 2015/16"},{"$f":"Head11","v":"Budget Year +2 2016/17"}]
[null,null,"Household service targets (000)"]
["Name of municipal entity",null,"Water:"]
[null,null,"Piped water inside dwelling"]
[null,null,"Piped water inside yard (but not in dwelling)"]
[null,8,"Using public tap (at least min.service level)"]
[null,10,"Other water supply (at least min.service level)"]
[null,null,"Minimum Service Level and Above sub-total",null,{"$f":"SUM(E159:E162)","v":0},{"$f":"SUM(F159:F162)","v":0},0,0,0,0,0,0,0]
[null,9,"Using public tap (< min.service level)"]
[null,10,"Other water supply (< min.service level)"]
[null,null,"No water supply"]
[null,null,"Below Minimum Service Level sub-total",null,{"$f":"SUM(E164:E166)","v":0},{"$f":"SUM(F164:F166)","v":0},0,0,0,0,0,0,0]
[null,null,"Total number of households",null,{"$f":"E163+E167","v":0},{"$f":"F163+F167","v":0},0,0,0,0,0,0,0]
["Name of municipal entity",null,"Sanitation/sewerage:"]
[null,null,"Flush toilet (connected to sewerage)"]
[null,null,"Flush toilet (with septic tank)"]
[null,null,"Chemical toilet"]
[null,null,"Pit toilet (ventilated)"]
[null,null,"Other toilet provisions (> min.service level)"]
[null,null,"Minimum Service Level and Above sub-total",null,{"$f":"SUM(E170:E174)","v":0},{"$f":"SUM(F170:F174)","v":0},0,0,0,0,0,0,0]
[null,null,"Bucket toilet"]
[null,null,"Other toilet provisions (< min.service level)"]
[null,null,"No toilet provisions"]
[null,null,"Below Minimum Service Level sub-total",null,{"$f":"SUM(E176:E178)","v":0},{"$f":"SUM(F176:F178)","v":0},0,0,0,0,0,0,0]
[null,null,"Total number of households",null,{"$f":"E175+E179","v":0},{"$f":"F175+F179","v":0},0,0,0,0,0,0,0]
["Name of municipal entity",null,"Energy:"]
[null,null,"Electricity (at least min.service level)"]
[null,null,"Electricity - prepaid (min.service level)"]
[null,null,"Minimum Service Level and Above sub-total",null,{"$f":"SUM(E182:E183)","v":0},{"$f":"SUM(F182:F183)","v":0},0,0,0,0,0,0,0]
[null,null,"Electricity (< min.service level)"]
[null,null,"Electricity - prepaid (< min. service level)"]
[null,null,"Other energy sources"]
[null,null,"Below Minimum Service Level sub-total",null,{"$f":"SUM(E185:E187)","v":0},{"$f":"SUM(F185:F187)","v":0},0,0,0,0,0,0,0]
[null,null,"Total number of households",null,{"$f":"E184+E188","v":0},{"$f":"F184+F188","v":0},0,0,0,0,0,0,0]
["Name of municipal entity",null,"Refuse:"]
[null,null,"Removed at least once a week"]
[null,null,"Minimum Service Level and Above sub-total",null,{"$f":"SUM(E191)","v":0},{"$f":"SUM(F191)","v":0},0,0,0,0,0,0,0]
[null,null,"Removed less frequently than once a week"]
[null,null,"Using communal refuse dump"]
[null,null,"Using own refuse dump"]
[null,null,"Other rubbish disposal"]
[null,null,"No rubbish disposal"]
[null,null,"Below Minimum Service Level sub-total",null,{"$f":"SUM(E193:E197)","v":0},0,0,0,0,0,0,0,0]
[null,null,"Total number of households",null,{"$f":"E192+E198","v":0},{"$f":"F192+F198","v":0},0,0,0,0,0,0,0]
[]
["Services provided by 'external mechanisms'",null,null,null,{"$f":"head1b","v":"2010/11"},{"$f":"head1A","v":"2011/12"},{"$f":"Head1","v":"2012/13"},{"$f":"Head2","v":"Current Year 2013/14"},null,null,{"$f":"Head3","v":"2014/15 Medium Term Revenue & Expenditure Framework"}]
[null,"Ref.",null,null,{"$f":"Head5A","v":"Outcome"},{"$f":"Head5A","v":"Outcome"},{"$f":"Head5A","v":"Outcome"},{"$f":"Head6","v":"Original Budget"},{"$f":"Head7","v":"Adjusted Budget"},{"$f":"Head8","v":"Full Year Forecast"},{"$f":"Head9","v":"Budget Year 2014/15"},{"$f":"Head10","v":"Budget Year +1 2015/16"},{"$f":"Head11","v":"Budget Year +2 2016/17"}]
["Names of service providers",null,"Household service targets (000)"]
[null,null,"Water:"]
[null,null,"Piped water inside dwelling"]
[null,null,"Piped water inside yard (but not in dwelling)"]
[null,8,"Using public tap (at least min.service level)"]
[null,10,"Other water supply (at least min.service level)"]
[null,null,"Minimum Service Level and Above sub-total",null,{"$f":"SUM(E205:E208)","v":0},{"$f":"SUM(F205:F208)","v":0},0,0,0,0,0,0,0]
[null,9,"Using public tap (< min.service level)"]
[null,10,"Other water supply (< min.service level)"]
[null,null,"No water supply"]
[null,null,"Below Minimum Service Level sub-total",null,{"$f":"SUM(E210:E212)","v":0},{"$f":"SUM(F210:F212)","v":0},0,0,0,0,0,0,0]
[null,null,"Total number of households",null,{"$f":"E209+E213","v":0},{"$f":"F209+F213","v":0},0,0,0,0,0,0,0]
["Names of service providers",null,"Sanitation/sewerage:"]
[null,null,"Flush toilet (connected to sewerage)"]
[null,null,"Flush toilet (with septic tank)"]
[null,null,"Chemical toilet"]
[null,null,"Pit toilet (ventilated)"]
[null,null,"Other toilet provisions (> min.service level)"]
[null,null,"Minimum Service Level and Above sub-total",null,{"$f":"SUM(E216:E220)","v":0},{"$f":"SUM(F216:F220)","v":0},0,0,0,0,0,0,0]
[null,null,"Bucket toilet"]
[null,null,"Other toilet provisions (< min.service level)"]
[null,null,"No toilet provisions"]
[null,null,"Below Minimum Service Level sub-total",null,{"$f":"SUM(E222:E224)","v":0},{"$f":"SUM(F222:F224)","v":0},0,0,0,0,0,0,0]
[null,null,"Total number of households",null,{"$f":"E221+E225","v":0},{"$f":"F221+F225","v":0},0,0,0,0,0,0,0]
["Names of service providers",null,"Energy:"]
[null,null,"Electricity (at least min.service level)"]
[null,null,"Electricity - prepaid (min.service level)"]
[null,null,"Minimum Service Level and Above sub-total",null,{"$f":"SUM(E228:E229)","v":0},{"$f":"SUM(F228:F229)","v":0},0,0,0,0,0,0,0]
[null,null,"Electricity (< min.service level)"]
[null,null,"Electricity - prepaid (< min. service level)"]
[null,null,"Other energy sources"]
[null,null,"Below Minimum Service Level sub-total",null,{"$f":"SUM(E231:E233)","v":0},{"$f":"SUM(F231:F233)","v":0},0,0,0,0,0,0,0]
[null,null,"Total number of households",null,{"$f":"E230+E234","v":0},{"$f":"F230+F234","v":0},0,0,0,0,0,0,0]
["Names of service providers",null,"Refuse:"]
[null,null,"Removed at least once a week"]
[null,null,"Minimum Service Level and Above sub-total",null,{"$f":"SUM(E237)","v":0},{"$f":"SUM(F237)","v":0},0,0,0,0,0,0,0]
[null,null,"Removed less frequently than once a week"]
[null,null,"Using communal refuse dump"]
[null,null,"Using own refuse dump"]
[null,null,"Other rubbish disposal"]
[null,null,"No rubbish disposal"]
[null,null,"Below Minimum Service Level sub-total",null,{"$f":"SUM(E239:E243)","v":0},0,0,0,0,0,0,0,0]
[null,null,"Total number of households",null,{"$f":"E238+E244","v":0},{"$f":"F238+F244","v":0},0,0,0,0,0,0,0]
[]
[]
[{"$f":"head27a","v":"References"}]
["1. Monthly household income threshold. Should include all sources of income."]
["2. Show the poverty analysis the municipality uses to determine its indigents policy and the provision of services"]
["3. Include total of all housing units within the municipality"]
["4. Number of subsidised dwellings to be constructed by the municipality under agency agreement with province"]
["5. Provide estimate based on building approval information. Include any non-subsidised dwellings constructed by the municipality"]
["6. Insert actual or estimated % increases assumed as a basis for budget calculations"]
["7. Insert actual or estimated % collection rate assumed as a basis for budget calculations for each revenue group"]
["8. Stand distance <= 200m from dwelling"]
["9. Stand distance > 200m from dwelling"]
["10. Borehole, spring, rain-water tank etc."]
["11. Must agree to total number of households in municipal area"]
["12. Household income categories assume an average 4 person household. Stats SA - Census 2011 Questionnaire"]
["13. Based on National poverty line of R515 per capita per month (2008 prices), assuming an average household size of 4 persons"]

{"sheet":"SA10","index":28,"n_rows":138,"n_cols":13,"rows_kept":138,"cut":false,"hidden":false,"merged":[[1,0,2,0],[1,10,1,12],[1,1,2,1],[1,2,2,2],[1,6,1,9]]}
[{"$f":"muni &\" \" & TableA10","v":"DC16 Xhariep Supporting Table SA10 Funding measurement"}]
[{"$f":"desc","v":"Description"},"MFMA section",{"$f":"head27","v":"Ref"},{"$f":"head1b","v":"2010/11"},{"$f":"head1A","v":"2011/12"},{"$f":"Head1","v":"2012/13"},{"$f":"Head2","v":"Current Year 2013/14"},null,null,null,{"$f":"Head3","v":"2014/15 Medium Term Revenue & Expenditure Framework"}]
[null,null,null,{"$f":"Head5","v":"Audited Outcome"},{"$f":"Head5","v":"Audited Outcome"},{"$f":"Head5","v":"Audited Outcome"},{"$f":"Head6","v":"Original Budget"},{"$f":"Head7","v":"Adjusted Budget"},{"$f":"Head8","v":"Full Year Forecast"},{"$f":"Head5b","v":"Pre-audit outcome"},{"$f":"Head9","v":"Budget Year 2014/15"},{"$f":"Head10","v":"Budget Year +1 2015/16"},{"$f":"Head11","v":"Budget Year +2 2016/17"}]
["Funding measures"]
[{"$f":"LEFT('A7-CFlow'!A38,37)&\" - R'000\"","v":"Cash/cash equivalents at the year end - R'000"},"18(1)b",1,{"$f":"'A7-CFlow'!C38","v":9952826},{"$f":"'A7-CFlow'!D38","v":19656740},{"$f":"'A7-CFlow'!E38","v":5996807},{"$f":"'A7-CFlow'!F38","v":-1549608.515789479},{"$f":"'A7-CFlow'!G38","v":1417554.8089068159},{"$f":"'A7-CFlow'!H38","v":1417554.8089068159},{"$f":"'A7-CFlow'!I38","v":1415908.8089068159},{"$f":"'A7-CFlow'!J38","v":-2328509.4099999964},{"$f":"'A7-CFlow'!K38","v":-4889869.7609999925},{"$f":"'A7-CFlow'!L38","v":-7707366.1470999867}]
["Cash + investments at the yr end less applications - R'000","18(1)b",2,{"$f":"'A8-ResRecon'!C8-'A8-ResRecon'!C18","v":6114488},{"$f":"'A8-ResRecon'!D8-'A8-ResRecon'!D18","v":24320697},{"$f":"'A8-ResRecon'!E8-'A8-ResRecon'!E18","v":-5632472},{"$f":"'A8-ResRecon'!F8-'A8-ResRecon'!F18","v":2719979.34},{"$f":"'A8-ResRecon'!G8-'A8-ResRecon'!G18","v":3150979.34},{"$f":"'A8-ResRecon'!H8-'A8-ResRecon'!H18","v":3150979.34},{"$f":"'A8-ResRecon'!I8-'A8-ResRecon'!I18","v":-7339150.0899999999},{"$f":"'A8-ResRecon'!J8-'A8-ResRecon'!J18","v":-4617053},{"$f":"'A8-ResRecon'!K8-'A8-ResRecon'!K18","v":-3994033},{"$f":"'A8-ResRecon'!L8-'A8-ResRecon'!L18","v":-3092984}]
["Cash year end/monthly employee/supplier payments","18(1)b",3,{"$f":"IF(ISERROR('SA8'!C39),0,('SA8'!C39))","v":4.1404705862498679},{"$f":"IF(ISERROR('SA8'!D39),0,('SA8'!D39))","v":5.539362793421569},{"$f":"IF(ISERROR('SA8'!E39),0,('SA8'!E39))","v":1.352642734951637},{"$f":"IF(ISERROR('SA8'!F39),0,('SA8'!F39))","v":-0.39950279383103343},{"$f":"IF(ISERROR('SA8'!G39),0,('SA8'!G39))","v":0.36972256246071994},{"$f":"IF(ISERROR('SA8'!H39),0,('SA8'!H39))","v":0.36972256246071994},{"$f":"IF(ISERROR('SA8'!I39),0,('SA8'!I39))","v":0.36929325748147918},{"$f":"IF(ISERROR('SA8'!J39),0,('SA8'!J39))","v":-0.54435654509117237},{"$f":"IF(ISERROR('SA8'!K39),0,('SA8'!K39))","v":-1.0541673181016125},{"$f":"IF(ISERROR('SA8'!L39),0,('SA8'!L39))","v":-1.5320248455637235}]
["Surplus/(Deficit) excluding depreciation offsets: R'000","18(1)",4,{"$f":"'A4-FinPerf RE'!C42+'SA3'!C60","v":6389279},{"$f":"'A4-FinPerf RE'!D42+'SA3'!D60","v":22817575},{"$f":"'A4-FinPerf RE'!E42+'SA3'!E60","v":-31360030},{"$f":"'A4-FinPerf RE'!F42+'SA3'!F60","v":-2301061.8712759018},{"$f":"'A4-FinPerf RE'!G42+'SA3'!G60","v":-2482886.949974589},{"$f":"'A4-FinPerf RE'!H42+'SA3'!H60","v":-2482886.949974589},{"$f":"'A4-FinPerf RE'!I42+'SA3'!I60","v":-6880886.949974589},{"$f":"'A4-FinPerf RE'!J42+'SA3'!J60","v":-2328508.9299999923},{"$f":"'A4-FinPerf RE'!K42+'SA3'!K60","v":-2388076.0328499973},{"$f":"'A4-FinPerf RE'!L42+'SA3'!L60","v":-1767283.0867457539}]
["Service charge rev % change - macro CPIX target exclusive","18(1)a,(2)",5,"N.A.",{"$f":"IF(ISERROR(E36-E61),0,(E36-E61))","v":-0.06},{"$f":"IF(ISERROR(F36-F61),0,(F36-F61))","v":-0.06},-0.06,-0.06,-0.06,-0.06,{"$f":"IF(ISERROR(K36-K61),0,(K36-K61))","v":-0.06},-0.06,-0.06]
["Cash receipts % of Ratepayer & Other revenue","18(1)a,(2)",6,{"$f":"IF(ISERROR(D53/D54),0,(D53/D54))","v":1},{"$f":"IF(ISERROR(E53/E54),0,(E53/E54))","v":1},0.50286455240131445,0.97636849907142398,1,1,0.97585053770684327,0.53855434221717935,1.1074808985102371,1.1074808985102373]
["Debt impairment expense as a % of total billable revenue","18(1)a,(2)",7,{"$f":"IF(ISERROR('A4-FinPerf RE'!C27/'SA10'!D43),0,('A4-FinPerf RE'!C27/'SA10'!D43))","v":-2.267015400901164},{"$f":"IF(ISERROR('A4-FinPerf RE'!D27/'SA10'!E43),0,('A4-FinPerf RE'!D27/'SA10'!E43))","v":2.558358813366253E-2},{"$f":"IF(ISERROR('A4-FinPerf RE'!E27/'SA10'!F43),0,('A4-FinPerf RE'!E27/'SA10'!F43))","v":24.918641348201341},{"$f":"IF(ISERROR('A4-FinPerf RE'!F27/'SA10'!G43),0,('A4-FinPerf RE'!F27/'SA10'!G43))","v":0},{"$f":"IF(ISERROR('A4-FinPerf RE'!G27/'SA10'!H43),0,('A4-FinPerf RE'!G27/'SA10'!H43))","v":0},{"$f":"IF(ISERROR('A4-FinPerf RE'!H27/'SA10'!I43),0,('A4-FinPerf RE'!H27/'SA10'!I43))","v":0},{"$f":"IF(ISERROR('A4-FinPerf RE'!I27/'SA10'!J43),0,('A4-FinPerf RE'!I27/'SA10'!J43))","v":0},{"$f":"IF(ISERROR('A4-FinPerf RE'!J27/'SA10'!K43),0,('A4-FinPerf RE'!J27/'SA10'!K43))","v":0},{"$f":"IF(ISERROR('A4-FinPerf RE'!K27/'SA10'!L43),0,('A4-FinPerf RE'!K27/'SA10'!L43))","v":0},{"$f":"IF(ISERROR('A4-FinPerf RE'!L27/'SA10'!M43),0,('A4-FinPerf RE'!L27/'SA10'!M43))","v":0}]
["Capital payments % of capital expenditure","18(1)c;19",8,{"$f":"IF(ISERROR(-'A7-CFlow'!C24/'A5-Capex'!C40),0,(-'A7-CFlow'!C24/'A5-Capex'!C40))","v":1},{"$f":"IF(ISERROR(-'A7-CFlow'!D24/'A5-Capex'!D40),0,(-'A7-CFlow'!D24/'A5-Capex'!D40))","v":0.8038584920792804},{"$f":"IF(ISERROR(-'A7-CFlow'!E24/'A5-Capex'!E40),0,(-'A7-CFlow'!E24/'A5-Capex'!E40))","v":7.2597249619222995E-2},{"$f":"IF(ISERROR(-'A7-CFlow'!F24/'A5-Capex'!F40),0,(-'A7-CFlow'!F24/'A5-Capex'!F40))","v":1.2283192905920759},{"$f":"IF(ISERROR(-'A7-CFlow'!G24/'A5-Capex'!G40),0,(-'A7-CFlow'!G24/'A5-Capex'!G40))","v":1.9786752520958788},{"$f":"IF(ISERROR(-'A7-CFlow'!H24/'A5-Capex'!H40),0,(-'A7-CFlow'!H24/'A5-Capex'!H40))","v":1.9786752520958788},{"$f":"IF(ISERROR(-'A7-CFlow'!I24/'A5-Capex'!I40),0,(-'A7-CFlow'!I24/'A5-Capex'!I40))","v":1.9786752520958788},{"$f":"IF(ISERROR(-'A7-CFlow'!J24/'A5-Capex'!J40),0,(-'A7-CFlow'!J24/'A5-Capex'!J40))","v":0},{"$f":"IF(ISERROR(-'A7-CFlow'!K24/'A5-Capex'!K40),0,(-'A7-CFlow'!K24/'A5-Capex'!K40))","v":0},{"$f":"IF(ISERROR(-'A7-CFlow'!L24/'A5-Capex'!L40),0,(-'A7-CFlow'!L24/'A5-Capex'!L40))","v":0}]
["Borrowing receipts % of capital expenditure (excl. transfers)","18(1)c",9,{"$f":"IF(ISERROR('A7-CFlow'!C30/'SA10'!D52),0,('A7-CFlow'!C30/'SA10'!D52))","v":0},{"$f":"IF(ISERROR('A7-CFlow'!D30/'SA10'!E52),0,('A7-CFlow'!D30/'SA10'!E52))","v":0},{"$f":"IF(ISERROR('A7-CFlow'!E30/'SA10'!F52),0,('A7-CFlow'!E30/'SA10'!F52))","v":0},{"$f":"IF(ISERROR('A7-CFlow'!F30/'SA10'!G52),0,('A7-CFlow'!F30/'SA10'!G52))","v":0},{"$f":"IF(ISERROR('A7-CFlow'!G30/'SA10'!H52),0,('A7-CFlow'!G30/'SA10'!H52))","v":0},{"$f":"IF(ISERROR('A7-CFlow'!H30/'SA10'!I52),0,('A7-CFlow'!H30/'SA10'!I52))","v":0},{"$f":"IF(ISERROR('A7-CFlow'!I30/'SA10'!J52),0,('A7-CFlow'!I30/'SA10'!J52))","v":0},{"$f":"IF(ISERROR('A7-CFlow'!J30/'SA10'!K52),0,('A7-CFlow'!J30/'SA10'!K52))","v":0},{"$f":"IF(ISERROR('A7-CFlow'!K30/'SA10'!L52),0,('A7-CFlow'!K30/'SA10'!L52))","v":0},{"$f":"IF(ISERROR('A7-CFlow'!L30/'SA10'!M52),0,('A7-CFlow'!L30/'SA10'!M52))","v":0}]
["Grants % of Govt. legislated/gazetted allocations","18(1)a",10,null,null,null,null,null,null,null,{"$f":"IF(ISERROR(K56/K68),0,(K56/K68))","v":0},{"$f":"IF(ISERROR(L56/L68),0,(L56/L68))","v":0},{"$f":"IF(ISERROR(M56/M68),0,(M56/M68))","v":0}]
["Current consumer debtors % change - incr(decr)","18(1)a",11,"N.A.",{"$f":"IF(ISERROR(ROUND((SUM('A6-FinPos'!D8:D10)-SUM('A6-FinPos'!C8:C10))/SUM('A6-FinPos'!C8:C10),3)),0,(ROUND((SUM('A6-FinPos'!D8:D10)-SUM('A6-FinPos'!C8:C10))/SUM('A6-FinPos'!C8:C10),3)))","v":0.92100000000000004},{"$f":"IF(ISERROR(ROUND((SUM('A6-FinPos'!E8:E10)-SUM('A6-FinPos'!D8:D10))/SUM('A6-FinPos'!D8:D10),3)),0,(ROUND((SUM('A6-FinPos'!E8:E10)-SUM('A6-FinPos'!D8:D10))/SUM('A6-FinPos'!D8:D10),3)))","v":-0.95699999999999996},{"$f":"IF(ISERROR(ROUND((SUM('A6-FinPos'!F8:F10)-SUM('A6-FinPos'!E8:E10))/SUM('A6-FinPos'!E8:E10),3)),0,(ROUND((SUM('A6-FinPos'!F8:F10)-SUM('A6-FinPos'!E8:E10))/SUM('A6-FinPos'!E8:E10),3)))","v":20.510999999999999},{"$f":"IF(ISERROR(ROUND((SUM('A6-FinPos'!G8:G10)-SUM('A6-FinPos'!F8:F10))/SUM('A6-FinPos'!F8:F10),3)),0,(ROUND((SUM('A6-FinPos'!G8:G10)-SUM('A6-FinPos'!F8:F10))/SUM('A6-FinPos'!F8:F10),3)))","v":0},{"$f":"IF(ISERROR(ROUND((SUM('A6-FinPos'!H8:H10)-SUM('A6-FinPos'!G8:G10))/SUM('A6-FinPos'!G8:G10),3)),0,(ROUND((SUM('A6-FinPos'!H8:H10)-SUM('A6-FinPos'!G8:G10))/SUM('A6-FinPos'!G8:G10),3)))","v":0},{"$f":"IF(ISERROR(ROUND((SUM('A6-FinPos'!I8:I10)-SUM('A6-FinPos'!H8:H10))/SUM('A6-FinPos'!H8:H10),3)),0,(ROUND((SUM('A6-FinPos'!I8:I10)-SUM('A6-FinPos'!H8:H10))/SUM('A6-FinPos'!H8:H10),3)))","v":-0.91200000000000003},{"$f":"IF(ISERROR(ROUND((SUM('A6-FinPos'!J8:J10)-SUM('A6-FinPos'!G8:G10))/SUM('A6-FinPos'!G8:G10),3)),0,(ROUND((SUM('A6-FinPos'!J8:J10)-SUM('A6-FinPos'!G8:G10))/SUM('A6-FinPos'!G8:G10),3)))","v":-0.99399999999999999},{"$f":"IF(ISERROR(ROUND((SUM('A6-FinPos'!K8:K10)-SUM('A6-FinPos'!J8:J10))/SUM('A6-FinPos'!J8:J10),3)),0,(ROUND((SUM('A6-FinPos'!K8:K10)-SUM('A6-FinPos'!J8:J10))/SUM('A6-FinPos'!J8:J10),3)))","v":-0.48199999999999998},{"$f":"IF(ISERROR(ROUND((SUM('A6-FinPos'!L8:L10)-SUM('A6-FinPos'!K8:K10))/SUM('A6-FinPos'!K8:K10),3)),0,(ROUND((SUM('A6-FinPos'!L8:L10)-SUM('A6-FinPos'!K8:K10))/SUM('A6-FinPos'!K8:K10),3)))","v":-1}]
["Long term receivables % change - incr(decr)","18(1)a",12,"N.A.",{"$f":"IF(ISERROR(ROUND(('A6-FinPos'!D15-'A6-FinPos'!C15)/'A6-FinPos'!C15,3)),0,(ROUND(('A6-FinPos'!D15-'A6-FinPos'!C15)/'A6-FinPos'!C15,3)))","v":0},{"$f":"IF(ISERROR(ROUND(('A6-FinPos'!E15-'A6-FinPos'!D15)/'A6-FinPos'!D15,3)),0,(ROUND(('A6-FinPos'!E15-'A6-FinPos'!D15)/'A6-FinPos'!D15,3)))","v":0},{"$f":"IF(ISERROR(ROUND(('A6-FinPos'!F15-'A6-FinPos'!E15)/'A6-FinPos'!E15,3)),0,(ROUND(('A6-FinPos'!F15-'A6-FinPos'!E15)/'A6-FinPos'!E15,3)))","v":-1},{"$f":"IF(ISERROR(ROUND(('A6-FinPos'!G15-'A6-FinPos'!F15)/'A6-FinPos'!F15,3)),0,(ROUND(('A6-FinPos'!G15-'A6-FinPos'!F15)/'A6-FinPos'!F15,3)))","v":0},{"$f":"IF(ISERROR(ROUND(('A6-FinPos'!H15-'A6-FinPos'!G15)/'A6-FinPos'!G15,3)),0,(ROUND(('A6-FinPos'!H15-'A6-FinPos'!G15)/'A6-FinPos'!G15,3)))","v":0},{"$f":"IF(ISERROR(ROUND(('A6-FinPos'!I15-'A6-FinPos'!H15)/'A6-FinPos'!H15,3)),0,(ROUND(('A6-FinPos'!I15-'A6-FinPos'!H15)/'A6-FinPos'!H15,3)))","v":0},{"$f":"IF(ISERROR(ROUND(('A6-FinPos'!J15-'A6-FinPos'!G15)/'A6-FinPos'!G15,3)),0,(ROUND(('A6-FinPos'!J15-'A6-FinPos'!G15)/'A6-FinPos'!G15,3)))","v":0},{"$f":"IF(ISERROR(ROUND(('A6-FinPos'!K15-'A6-FinPos'!J15)/'A6-FinPos'!J15,3)),0,(ROUND(('A6-FinPos'!K15-'A6-FinPos'!J15)/'A6-FinPos'!J15,3)))","v":0},{"$f":"IF(ISERROR(ROUND(('A6-FinPos'!L15-'A6-FinPos'!K15)/'A6-FinPos'!K15,3)),0,(ROUND(('A6-FinPos'!L15-'A6-FinPos'!K15)/'A6-FinPos'!K15,3)))","v":0}]
["R&M % of Property Plant & Equipment","20(1)(vi)",13,{"$f":"IF(ISERROR('A9-Asset'!C69/'A6-FinPos'!C19),0,('A9-Asset'!C69/'A6-FinPos'!C19))","v":0.29075856651072995},{"$f":"IF(ISERROR('A9-Asset'!D69/'A6-FinPos'!D19),0,('A9-Asset'!D69/'A6-FinPos'!D19))","v":0.34488364257198229},{"$f":"IF(ISERROR('A9-Asset'!E69/'A6-FinPos'!E19),0,('A9-Asset'!E69/'A6-FinPos'!E19))","v":6.3303513956692203E-2},{"$f":"IF(ISERROR('A9-Asset'!F69/'A6-FinPos'!F19),0,('A9-Asset'!F69/'A6-FinPos'!F19))","v":5.5560501367755463E-2},{"$f":"IF(ISERROR('A9-Asset'!G69/'A6-FinPos'!G19),0,('A9-Asset'!G69/'A6-FinPos'!G19))","v":6.9774769860593097E-2},{"$f":"IF(ISERROR('A9-Asset'!H69/'A6-FinPos'!H19),0,('A9-Asset'!H69/'A6-FinPos'!H19))","v":6.9774769860593097E-2},{"$f":"IF(ISERROR('A9-Asset'!I69/'A6-FinPos'!I19),0,('A9-Asset'!I69/'A6-FinPos'!I19))","v":2.8073912850892804E-2},{"$f":"IF(ISERROR('A9-Asset'!I69/'A6-FinPos'!J19),0,('A9-Asset'!I69/'A6-FinPos'!J19))","v":3.3191899234956378E-2},{"$f":"IF(ISERROR('A9-Asset'!J69/'A6-FinPos'!K19),0,('A9-Asset'!J69/'A6-FinPos'!K19))","v":4.6810412518518051E-2},{"$f":"IF(ISERROR('A9-Asset'!K69/'A6-FinPos'!L19),0,('A9-Asset'!K69/'A6-FinPos'!L19))","v":4.3280330959837771E-2}]
["Asset renewal % of capital budget",{"$f":"B17","v":"20(1)(vi)"},14,{"$f":"IF(ISERROR(D58/D57),0,(D58/D57))","v":2.4949308351709686E-2},0,0,0,0,0,0,0,0,{"$f":"IF(ISERROR(M58/M57),0,((M58/M57)))","v":0}]
[]
[{"$f":"head27a","v":"References"}]
["1. Positive cash balances indicative of minimum compliance - subject to 2"]
["2. Deduct cash and investment applications (defined) from cash balances"]
["3. Indicative of sufficient liquidity to meet average monthly operating payments"]
["4. Indicative of funded operational requirements"]
["5. Indicative of adherence to macro-economic targets (prior to 2003/04 revenue not available for high capacity municipalities and later for other capacity classifications)"]
["6. Realistic average cash collection forecasts as % of annual billed revenue"]
["7. Realistic average increase in debt impairment (doubtful debt) provision"]
["8. Indicative of planned capital expenditure level & cash payment timing"]
["9. Indicative of compliance with borrowing 'only' for the capital budget - should not exceed 100% unless refinancing"]
["10. Substantiation of National/Province allocations included in budget"]
["11. Indicative of realistic current arrear debtor collection targets (prior to 2003/04 revenue not available for high capacity municipalities and later for other capacity classifications)"]
["12. Indicative of realistic long term arrear debtor collection targets (prior to 2003/04 revenue not available for high capacity municipalities and later for other capacity classifications)"]
["13. Indicative of a credible allowance for repairs & maintenance of assets - functioning assets revenue protection"]
["14. Indicative of a credible allowance for asset renewal (requires analysis of asset renewal projects as % of total capital projects - detailed capital plan) - functioning assets revenue protection"]
["Supporting indicators"]
["% incr total service charges (incl prop rates)","18(1)a",null,null,{"$f":"IF(ISERROR((E44/D44)-1),0,((E44/D44)-1))","v":0},{"$f":"IF(ISERROR((F44/E44)-1),0,((F44/E44)-1))","v":0},{"$f":"IF(ISERROR((G44/F44)-1),0,((G44/F44)-1))","v":0},{"$f":"IF(ISERROR((H44/G44)-1),0,((H44/G44)-1))","v":0},{"$f":"IF(ISERROR((I44/H44)-1),0,((I44/H44)-1))","v":0},{"$f":"IF(ISERROR((J44/I44)-1),0,((J44/I44)-1))","v":0},{"$f":"IF(ISERROR((K44/H44)-1),0,((K44/H44)-1))","v":0},{"$f":"IF(ISERROR((L44/K44)-1),0,((L44/K44)-1))","v":0},{"$f":"IF(ISERROR((M44/L44)-1),0,((M44/L44)-1))","v":0}]
["% incr Property Tax","18(1)a",null,null,0,{"$f":"IF(ISERROR((F45/E45)-1),0,((F45/E45)-1))","v":0},0,0,0,0,{"$f":"IF(ISERROR((K45/H45)-1),0,((K45/H45)-1))","v":0},0,0]
[{"$f":"\"% incr \"&'A4-FinPerf RE'!A7","v":"% incr Service charges - electricity revenue"},"18(1)a",null,null,0,0,0,0,0,0,0,0,{"$f":"IF(ISERROR((M46/L46)-1),0,((M46/L46)-1))","v":0}]
[{"$f":"\"% incr \"&'A4-FinPerf RE'!A8","v":"% incr Service charges - water revenue"},"18(1)a",null,null,0,0,0,0,0,0,0,0,0]
[{"$f":"\"% incr \"&'A4-FinPerf RE'!A9","v":"% incr Service charges - sanitation revenue"},"18(1)a",null,null,0,0,0,0,0,0,0,0,0]
[{"$f":"\"% incr \"&'A4-FinPerf RE'!A10","v":"% incr Service charges - refuse revenue"},"18(1)a",null,null,0,0,0,0,0,0,0,0,0]
[{"$f":"\"% incr in \"&'A4-FinPerf RE'!A11","v":"% incr in Service charges - other"},"18(1)a",null,null,0,0,0,0,{"$f":"IF(ISERROR((I50/H50)-1),0,((I50/H50)-1))","v":0},0,0,{"$f":"IF(ISERROR((L50/K50)-1),0,((L50/K50)-1))","v":0},0]
["Total billable revenue","18(1)a",null,{"$f":"SUM(D45:D51)","v":290957},{"$f":"SUM(E45:E51)","v":366954},432517,340722.68421052635,340722.68421052635,340722.68421052635,{"$f":"SUM(J45:J51)","v":340722.68421052635},{"$f":"SUM(K45:K51)","v":468565.88},515422.46800000005,566964.71480000007]
["Service charges",null,null,{"$f":"SUM(D45:D50)","v":0},{"$f":"SUM(E45:E50)","v":0},0,0,0,0,{"$f":"SUM(J45:J50)","v":0},0,0,0]
["Property rates",null,null,{"$f":"'A4-FinPerf RE'!C5+'A4-FinPerf RE'!C6","v":0},{"$f":"'A4-FinPerf RE'!D5+'A4-FinPerf RE'!D6","v":0},{"$f":"'A4-FinPerf RE'!E5+'A4-FinPerf RE'!E6","v":0},{"$f":"'A4-FinPerf RE'!F5+'A4-FinPerf RE'!F6","v":0},{"$f":"'A4-FinPerf RE'!G5+'A4-FinPerf RE'!G6","v":0},{"$f":"'A4-FinPerf RE'!H5+'A4-FinPerf RE'!H6","v":0},{"$f":"'A4-FinPerf RE'!I5+'A4-FinPerf RE'!I6","v":0},{"$f":"'A4-FinPerf RE'!J5+'A4-FinPerf RE'!J6","v":0},{"$f":"'A4-FinPerf RE'!K5+'A4-FinPerf RE'!K6","v":0},{"$f":"'A4-FinPerf RE'!L5+'A4-FinPerf RE'!L6","v":0}]
["Service charges - electricity revenue",null,null,{"$f":"'A4-FinPerf RE'!C7","v":0},{"$f":"'A4-FinPerf RE'!D7","v":0},{"$f":"'A4-FinPerf RE'!E7","v":0},{"$f":"'A4-FinPerf RE'!F7","v":0},{"$f":"'A4-FinPerf RE'!G7","v":0},{"$f":"'A4-FinPerf RE'!H7","v":0},{"$f":"'A4-FinPerf RE'!I7","v":0},{"$f":"'A4-FinPerf RE'!J7","v":0},{"$f":"'A4-FinPerf RE'!K7","v":0},{"$f":"'A4-FinPerf RE'!L7","v":0}]
["Service charges - water revenue",null,null,{"$f":"'A4-FinPerf RE'!C8","v":0},{"$f":"'A4-FinPerf RE'!D8","v":0},{"$f":"'A4-FinPerf RE'!E8","v":0},{"$f":"'A4-FinPerf RE'!F8","v":0},{"$f":"'A4-FinPerf RE'!G8","v":0},{"$f":"'A4-FinPerf RE'!H8","v":0},{"$f":"'A4-FinPerf RE'!I8","v":0},{"$f":"'A4-FinPerf RE'!J8","v":0},{"$f":"'A4-FinPerf RE'!K8","v":0},{"$f":"'A4-FinPerf RE'!L8","v":0}]
["Service charges - sanitation revenue",null,null,{"$f":"'A4-FinPerf RE'!C9","v":0},{"$f":"'A4-FinPerf RE'!D9","v":0},{"$f":"'A4-FinPerf RE'!E9","v":0},{"$f":"'A4-FinPerf RE'!F9","v":0},{"$f":"'A4-FinPerf RE'!G9","v":0},{"$f":"'A4-FinPerf RE'!H9","v":0},{"$f":"'A4-FinPerf RE'!I9","v":0},{"$f":"'A4-FinPerf RE'!J9","v":0},{"$f":"'A4-FinPerf RE'!K9","v":0},{"$f":"'A4-FinPerf RE'!L9","v":0}]
["Service charges - refuse removal",null,null,{"$f":"'A4-FinPerf RE'!C10","v":0},{"$f":"'A4-FinPerf RE'!D10","v":0},{"$f":"'A4-FinPerf RE'!E10","v":0},{"$f":"'A4-FinPerf RE'!F10","v":0},{"$f":"'A4-FinPerf RE'!G10","v":0},{"$f":"'A4-FinPerf RE'!H10","v":0},{"$f":"'A4-FinPerf RE'!I10","v":0},{"$f":"'A4-FinPerf RE'!J10","v":0},{"$f":"'A4-FinPerf RE'!K10","v":0},{"$f":"'A4-FinPerf RE'!L10","v":0}]
["Service charges - other",null,null,{"$f":"'A4-FinPerf RE'!C11","v":0},{"$f":"'A4-FinPerf RE'!D11","v":0},{"$f":"'A4-FinPerf RE'!E11","v":0},{"$f":"'A4-FinPerf RE'!F11","v":0},{"$f":"'A4-FinPerf RE'!G11","v":0},{"$f":"'A4-FinPerf RE'!H11","v":0},{"$f":"'A4-FinPerf RE'!I11","v":0},{"$f":"'A4-FinPerf RE'!J11","v":0},{"$f":"'A4-FinPerf RE'!K11","v":0},{"$f":"'A4-FinPerf RE'!L11","v":0}]
[{"$f":"'A4-FinPerf RE'!A12","v":"Rental of facilities and equipment"},null,null,{"$f":"'A4-FinPerf RE'!C12","v":290957},{"$f":"'A4-FinPerf RE'!D12","v":366954},{"$f":"'A4-FinPerf RE'!E12","v":432517},{"$f":"'A4-FinPerf RE'!F12","v":340722.68421052635},{"$f":"'A4-FinPerf RE'!G12","v":340722.68421052635},{"$f":"'A4-FinPerf RE'!H12","v":340722.68421052635},{"$f":"'A4-FinPerf RE'!I12","v":340722.68421052635},{"$f":"'A4-FinPerf RE'!J12","v":468565.88},{"$f":"'A4-FinPerf RE'!K12","v":515422.46800000005},{"$f":"'A4-FinPerf RE'!L12","v":566964.71480000007}]
["Capital expenditure excluding capital grant funding",null,null,{"$f":"'A5-Capex'!C40-'A5-Capex'!C70","v":0},{"$f":"'A5-Capex'!D40-'A5-Capex'!D70","v":0},{"$f":"'A5-Capex'!E40-'A5-Capex'!E70","v":0},{"$f":"'A5-Capex'!F40-'A5-Capex'!F70","v":-0.34782608598470688},{"$f":"'A5-Capex'!G40-'A5-Capex'!G70","v":-3.3333333441987634E-2},{"$f":"'A5-Capex'!H40-'A5-Capex'!H70","v":-3.3333336468786001E-2},{"$f":"'A5-Capex'!I40-'A5-Capex'!I70","v":-3.3333336468786001E-2},{"$f":"'A5-Capex'!J40-'A5-Capex'!J70","v":0},{"$f":"'A5-Capex'!K40-'A5-Capex'!K70","v":0},{"$f":"'A5-Capex'!L40-'A5-Capex'!L70","v":0}]
["Cash receipts from ratepayers","18(1)a",null,{"$f":"'A7-CFlow'!C6","v":307367},{"$f":"'A7-CFlow'!D6","v":1871229},{"$f":"'A7-CFlow'!E6","v":254017},{"$f":"'A7-CFlow'!F6","v":444496.68421052635},{"$f":"'A7-CFlow'!G6","v":444496.68421052635},{"$f":"'A7-CFlow'!H6","v":444496.68421052635},{"$f":"'A7-CFlow'!I6","v":444496.68421052635},{"$f":"'A7-CFlow'!J6","v":597564},{"$f":"'A7-CFlow'!K6","v":657320.4},{"$f":"'A7-CFlow'!L6","v":723052.44000000006}]
["Ratepayer & Other revenue","18(1)a",null,{"$f":"SUM('A4-FinPerf RE'!C5:C12)+'A4-FinPerf RE'!C14+SUM('A4-FinPerf RE'!C16:C18)+'A4-FinPerf RE'!C20","v":307367},{"$f":"SUM('A4-FinPerf RE'!D5:D12)+'A4-FinPerf RE'!D14+SUM('A4-FinPerf RE'!D16:D18)+'A4-FinPerf RE'!D20","v":1871229},{"$f":"SUM('A4-FinPerf RE'!E5:E12)+'A4-FinPerf RE'!E14+SUM('A4-FinPerf RE'!E16:E18)+'A4-FinPerf RE'!E20","v":505140},{"$f":"SUM('A4-FinPerf RE'!F5:F12)+'A4-FinPerf RE'!F14+SUM('A4-FinPerf RE'!F16:F18)+'A4-FinPerf RE'!F20","v":455255.04421052634},{"$f":"SUM('A4-FinPerf RE'!G5:G12)+'A4-FinPerf RE'!G14+SUM('A4-FinPerf RE'!G16:G18)+'A4-FinPerf RE'!G20","v":444496.68421052635},{"$f":"SUM('A4-FinPerf RE'!H5:H12)+'A4-FinPerf RE'!H14+SUM('A4-FinPerf RE'!H16:H18)+'A4-FinPerf RE'!H20","v":444496.68421052635},{"$f":"SUM('A4-FinPerf RE'!I5:I12)+'A4-FinPerf RE'!I14+SUM('A4-FinPerf RE'!I16:I18)+'A4-FinPerf RE'!I20","v":455496.68421052635},{"$f":"SUM('A4-FinPerf RE'!J5:J12)+'A4-FinPerf RE'!J14+SUM('A4-FinPerf RE'!J16:J18)+'A4-FinPerf RE'!J20","v":1109570.48},{"$f":"SUM('A4-FinPerf RE'!K5:K12)+'A4-FinPerf RE'!K14+SUM('A4-FinPerf RE'!K16:K18)+'A4-FinPerf RE'!K20","v":593527.52800000005},{"$f":"SUM('A4-FinPerf RE'!L5:L12)+'A4-FinPerf RE'!L14+SUM('A4-FinPerf RE'!L16:L18)+'A4-FinPerf RE'!L20","v":652880.28080000007}]
["Change in consumer debtors (current and non-current)",null,null,{"$f":"D84","v":1877786.7450000038},{"$f":"(SUM('A6-FinPos'!D8:D10)+'A6-FinPos'!D15)-(SUM('A6-FinPos'!C8:C10)+'A6-FinPos'!C15)","v":9523301},{"$f":"(SUM('A6-FinPos'!E8:E10)+'A6-FinPos'!E15)-(SUM('A6-FinPos'!D8:D10)+'A6-FinPos'!D15)","v":-18203877.739999998},{"$f":"(SUM('A6-FinPos'!F8:F10)+'A6-FinPos'!F15)-(SUM('A6-FinPos'!E8:E10)+'A6-FinPos'!E15)","v":16572492.4498},{"$f":"(SUM('A6-FinPos'!G8:G10)+'A6-FinPos'!G15)-(SUM('A6-FinPos'!E8:E10)+'A6-FinPos'!E15)","v":16572492.4498},{"$f":"(SUM('A6-FinPos'!H8:H10)+'A6-FinPos'!H15)-(SUM('A6-FinPos'!E8:E10)+'A6-FinPos'!E15)","v":16572492.4498},{"$f":"(SUM('A6-FinPos'!I8:I10)+'A6-FinPos'!I15)-(SUM('A6-FinPos'!E8:E10)+'A6-FinPos'!E15)","v":-57970.950000001583},{"$f":"(SUM('A6-FinPos'!J8:J10)+'A6-FinPos'!J15)-(SUM('A6-FinPos'!F8:F10)+'A6-FinPos'!F15)","v":-18114547.709800001},{"$f":"(SUM('A6-FinPos'!K8:K10)+'A6-FinPos'!K15)-(SUM('A6-FinPos'!J8:J10)+'A6-FinPos'!J15)","v":-54000},{"$f":"(SUM('A6-FinPos'!L8:L10)+'A6-FinPos'!L15)-(SUM('A6-FinPos'!K8:K10)+'A6-FinPos'!K15)","v":-58000}]
["Operating and Capital Grant Revenue","18(1)a",null,{"$f":"'A4-FinPerf RE'!C19+'A4-FinPerf RE'!C39","v":44886347},{"$f":"'A4-FinPerf RE'!D19+'A4-FinPerf RE'!D39","v":88254890},{"$f":"'A4-FinPerf RE'!E19+'A4-FinPerf RE'!E39","v":38596152},{"$f":"'A4-FinPerf RE'!F19+'A4-FinPerf RE'!F39","v":59971000},{"$f":"'A4-FinPerf RE'!G19+'A4-FinPerf RE'!G39","v":59340000},{"$f":"'A4-FinPerf RE'!H19+'A4-FinPerf RE'!H39","v":59340000},{"$f":"'A4-FinPerf RE'!I19+'A4-FinPerf RE'!I39","v":54971000},{"$f":"'A4-FinPerf RE'!J19+'A4-FinPerf RE'!J39","v":62992000},{"$f":"'A4-FinPerf RE'!K19+'A4-FinPerf RE'!K39","v":69291200},{"$f":"'A4-FinPerf RE'!L19+'A4-FinPerf RE'!L39","v":76220320}]
["Capital expenditure - total",{"$f":"B17","v":"20(1)(vi)"},null,{"$f":"'A5-Capex'!C40","v":5611378},{"$f":"'A5-Capex'!D40","v":7474889},{"$f":"'A5-Capex'!E40","v":20076711},{"$f":"'A5-Capex'!F40","v":3049695.652173914},{"$f":"'A5-Capex'!G40","v":1324579.6637037036},{"$f":"'A5-Capex'!H40","v":1324579.6637037036},{"$f":"'A5-Capex'!I40","v":1324579.6637037036},{"$f":"'A5-Capex'!J40","v":1745000},{"$f":"'A5-Capex'!K40","v":715000},{"$f":"'A5-Capex'!L40","v":786500}]
["Capital expenditure - renewal",{"$f":"B18","v":"20(1)(vi)"},null,{"$f":"'A9-Asset'!C20","v":140000},{"$f":"'A9-Asset'!D20","v":0},{"$f":"'A9-Asset'!E20","v":0},{"$f":"'A9-Asset'!F20","v":0},{"$f":"'A9-Asset'!G20","v":0},{"$f":"'A9-Asset'!H20","v":0},null,{"$f":"'A9-Asset'!I20","v":0},{"$f":"'A9-Asset'!J20","v":0},{"$f":"'A9-Asset'!K20","v":0}]
[]
["Supporting benchmarks"]
["Growth guideline maximum",null,null,0.06,0.06,0.06,0.06,0.06,0.06,0.06,0.06,0.06,0.06]
["CPI guideline",null,null,4.2999999999999997E-2,3.9E-2,4.5999999999999999E-2,0.05,0.05,0.05,0.05,5.3999999999999999E-2,5.6000000000000001E-2,5.3999999999999999E-2]
["DoRA operating grants total MFY"]
["DoRA capital grants total MFY"]
["Provincial operating grants"]
["Provincial capital grants"]
["District Municipality grants"]
["Total gazetted/advised national, provincial and district grants",null,null,null,null,null,null,null,null,null,{"$f":"SUM(K63:K67)","v":0},{"$f":"SUM(L63:L67)","v":0},{"$f":"SUM(M63:M67)","v":0}]
["Average annual collection rate (arrears inclusive)"]
[]
["DoRA operating"]
["List operating grants"]
[]
[]
[]
[null,null,null,null,null,null,null,null,null,null,{"$f":"SUM(K72:K75)","v":0},{"$f":"SUM(L72:L75)","v":0},{"$f":"SUM(M72:M75)","v":0}]
["DoRA capital"]
["List capital grants"]
[]
[]
[]
[null,null,null,null,null,null,null,null,null,null,{"$f":"SUM(K78:K81)","v":0},{"$f":"SUM(L78:L81)","v":0},{"$f":"SUM(M78:M81)","v":0}]
["Trend"]
[{"$f":"A55","v":"Change in consumer debtors (current and non-current)"},null,null,{"$f":"TREND(E84:G84)","v":1877786.7450000038},{"$f":"E55","v":9523301},{"$f":"F55","v":-18203877.739999998},{"$f":"J55","v":-57970.950000001583},{"$f":"K55","v":-18114547.709800001},-54000,-58000,0,0,0]
[]
["Total Operating Revenue",null,null,{"$f":"'A1-Sum'!B10","v":45576624},{"$f":"'A1-Sum'!C10","v":90879214},{"$f":"'A1-Sum'!D10","v":39385108},{"$f":"'A1-Sum'!E10","v":60555255.044210523},{"$f":"'A1-Sum'!F10","v":59913496.684210524},{"$f":"'A1-Sum'!G10","v":59913496.684210524},{"$f":"'A1-Sum'!H10","v":55515496.684210524},{"$f":"'A1-Sum'!I10","v":64205370.479999997},{"$f":"'A1-Sum'!J10","v":69998907.527999997},{"$f":"'A1-Sum'!K10","v":76998798.2808}]
["Total Operating Expenditure",null,null,{"$f":"'A1-Sum'!B18","v":39187345},{"$f":"'A1-Sum'!C18","v":68061639},{"$f":"'A1-Sum'!D18","v":70745138},{"$f":"'A1-Sum'!E18","v":62856316.915486425},{"$f":"'A1-Sum'!F18","v":62396383.634185113},{"$f":"'A1-Sum'!G18","v":62396383.634185113},{"$f":"'A1-Sum'!H18","v":62396383.634185113},{"$f":"'A1-Sum'!I18","v":66533879.409999996},{"$f":"'A1-Sum'!J18","v":72386983.560849994},{"$f":"'A1-Sum'!K18","v":78766081.367545754}]
["Operating Performance Surplus/(Deficit)",null,null,{"$f":"D86-D87","v":6389279},{"$f":"E86-E87","v":22817575},-31360030,-2301061.8712759018,-2482886.949974589,-2482886.949974589,-6880886.949974589,{"$f":"K86-K87","v":-2328508.9299999997},-2388076.0328499973,-1767283.0867457539]
["Cash and Cash Equivalents (30 June 2012)",null,null,null,null,null,null,null,null,null,{"$f":"'A7-CFlow'!J38","v":-2328509.4099999964}]
["Revenue"]
["% Increase in Total Operating Revenue",null,null,null,{"$f":"IF(ISERROR(('A1-Sum'!C10-'A1-Sum'!B10)/'A1-Sum'!B10),0,(('A1-Sum'!C10-'A1-Sum'!B10)/'A1-Sum'!B10))","v":0.99398740020761522},{"$f":"IF(ISERROR(('A1-Sum'!D10-'A1-Sum'!C10)/'A1-Sum'!C10),0,(('A1-Sum'!D10-'A1-Sum'!C10)/'A1-Sum'!C10))","v":-0.56662138385131722},{"$f":"IF(ISERROR(('A1-Sum'!E10-'A1-Sum'!D10)/'A1-Sum'!D10),0,(('A1-Sum'!E10-'A1-Sum'!D10)/'A1-Sum'!D10))","v":0.53751654163828932},{"$f":"IF(ISERROR(('A1-Sum'!F10-'A1-Sum'!E10)/'A1-Sum'!E10),0,(('A1-Sum'!F10-'A1-Sum'!E10)/'A1-Sum'!E10))","v":-1.0597897069898572E-2},{"$f":"IF(ISERROR(('A1-Sum'!G10-'A1-Sum'!F10)/'A1-Sum'!F10),0,(('A1-Sum'!G10-'A1-Sum'!F10)/'A1-Sum'!F10))","v":0},{"$f":"IF(ISERROR(('A1-Sum'!H10-'A1-Sum'!G10)/'A1-Sum'!G10),0,(('A1-Sum'!H10-'A1-Sum'!G10)/'A1-Sum'!G10))","v":-7.3405830796035645E-2},{"$f":"IF(ISERROR(('A1-Sum'!I10-'A1-Sum'!F10)/'A1-Sum'!F10),0,(('A1-Sum'!I10-'A1-Sum'!F10)/'A1-Sum'!F10))","v":7.1634506969454587E-2},{"$f":"IF(ISERROR(('A1-Sum'!J10-'A1-Sum'!I10)/'A1-Sum'!I10),0,(('A1-Sum'!J10-'A1-Sum'!I10)/'A1-Sum'!I10))","v":9.0234461769902727E-2},{"$f":"IF(ISERROR(('A1-Sum'!K10-'A1-Sum'!J10)/'A1-Sum'!J10),0,(('A1-Sum'!K10-'A1-Sum'!J10)/'A1-Sum'!J10))","v":0.10000000000000005}]
["% Increase in Property Rates Revenue",null,null,null,{"$f":"IF(ISERROR(('A4-FinPerf RE'!D5-'A4-FinPerf RE'!C5)/'A4-FinPerf RE'!C5),0,(('A4-FinPerf RE'!D5-'A4-FinPerf RE'!C5)/'A4-FinPerf RE'!C5))","v":0},{"$f":"IF(ISERROR(('A4-FinPerf RE'!E5-'A4-FinPerf RE'!D5)/'A4-FinPerf RE'!D5),0,(('A4-FinPerf RE'!E5-'A4-FinPerf RE'!D5)/'A4-FinPerf RE'!D5))","v":0},{"$f":"IF(ISERROR(('A4-FinPerf RE'!F5-'A4-FinPerf RE'!E5)/'A4-FinPerf RE'!E5),0,(('A4-FinPerf RE'!F5-'A4-FinPerf RE'!E5)/'A4-FinPerf RE'!E5))","v":0},{"$f":"IF(ISERROR(('A4-FinPerf RE'!G5-'A4-FinPerf RE'!F5)/'A4-FinPerf RE'!F5),0,(('A4-FinPerf RE'!G5-'A4-FinPerf RE'!F5)/'A4-FinPerf RE'!F5))","v":0},{"$f":"IF(ISERROR(('A4-FinPerf RE'!H5-'A4-FinPerf RE'!G5)/'A4-FinPerf RE'!G5),0,(('A4-FinPerf RE'!H5-'A4-FinPerf RE'!G5)/'A4-FinPerf RE'!G5))","v":0},{"$f":"IF(ISERROR(('A4-FinPerf RE'!I5-'A4-FinPerf RE'!H5)/'A4-FinPerf RE'!H5),0,(('A4-FinPerf RE'!I5-'A4-FinPerf RE'!H5)/'A4-FinPerf RE'!H5))","v":0},{"$f":"IF(ISERROR(('A4-FinPerf RE'!J5-'A4-FinPerf RE'!G5)/'A4-FinPerf RE'!G5),0,(('A4-FinPerf RE'!J5-'A4-FinPerf RE'!G5)/'A4-FinPerf RE'!G5))","v":0},{"$f":"IF(ISERROR(('A4-FinPerf RE'!K5-'A4-FinPerf RE'!J5)/'A4-FinPerf RE'!J5),0,(('A4-FinPerf RE'!K5-'A4-FinPerf RE'!J5)/'A4-FinPerf RE'!J5))","v":0},{"$f":"IF(ISERROR(('A4-FinPerf RE'!L5-'A4-FinPerf RE'!K5)/'A4-FinPerf RE'!K5),0,(('A4-FinPerf RE'!L5-'A4-FinPerf RE'!K5)/'A4-FinPerf RE'!K5))","v":0}]
["% Increase in Electricity Revenue",null,null,null,{"$f":"IF(ISERROR(('A4-FinPerf RE'!D7-'A4-FinPerf RE'!C7)/'A4-FinPerf RE'!C7),0,(('A4-FinPerf RE'!D7-'A4-FinPerf RE'!C7)/'A4-FinPerf RE'!C7))","v":0},{"$f":"IF(ISERROR(('A4-FinPerf RE'!E7-'A4-FinPerf RE'!D7)/'A4-FinPerf RE'!D7),0,(('A4-FinPerf RE'!E7-'A4-FinPerf RE'!D7)/'A4-FinPerf RE'!D7))","v":0},{"$f":"IF(ISERROR(('A4-FinPerf RE'!F7-'A4-FinPerf RE'!E7)/'A4-FinPerf RE'!E7),0,(('A4-FinPerf RE'!F7-'A4-FinPerf RE'!E7)/'A4-FinPerf RE'!E7))","v":0},{"$f":"IF(ISERROR(('A4-FinPerf RE'!G7-'A4-FinPerf RE'!F7)/'A4-FinPerf RE'!F7),0,(('A4-FinPerf RE'!G7-'A4-FinPerf RE'!F7)/'A4-FinPerf RE'!F7))","v":0},{"$f":"IF(ISERROR(('A4-FinPerf RE'!H7-'A4-FinPerf RE'!G7)/'A4-FinPerf RE'!G7),0,(('A4-FinPerf RE'!H7-'A4-FinPerf RE'!G7)/'A4-FinPerf RE'!G7))","v":0},{"$f":"IF(ISERROR(('A4-FinPerf RE'!I7-'A4-FinPerf RE'!H7)/'A4-FinPerf RE'!H7),0,(('A4-FinPerf RE'!I7-'A4-FinPerf RE'!H7)/'A4-FinPerf RE'!H7))","v":0},{"$f":"IF(ISERROR(('A4-FinPerf RE'!J7-'A4-FinPerf RE'!G7)/'A4-FinPerf RE'!G7),0,(('A4-FinPerf RE'!J7-'A4-FinPerf RE'!G7)/'A4-FinPerf RE'!G7))","v":0},{"$f":"IF(ISERROR(('A4-FinPerf RE'!K7-'A4-FinPerf RE'!J7)/'A4-FinPerf RE'!J7),0,(('A4-FinPerf RE'!K7-'A4-FinPerf RE'!J7)/'A4-FinPerf RE'!J7))","v":0},{"$f":"IF(ISERROR(('A4-FinPerf RE'!L7-'A4-FinPerf RE'!K7)/'A4-FinPerf RE'!K7),0,(('A4-FinPerf RE'!L7-'A4-FinPerf RE'!K7)/'A4-FinPerf RE'!K7))","v":0}]
["% Increase in Property Rates & Services Charges",null,null,null,{"$f":"IF(ISERROR((('A1-Sum'!C5+'A1-Sum'!C6)-('A1-Sum'!B5+'A1-Sum'!B6))/('A1-Sum'!B5+'A1-Sum'!B6)),0,((('A1-Sum'!C5+'A1-Sum'!C6)-('A1-Sum'!B5+'A1-Sum'!B6))/('A1-Sum'!B5+'A1-Sum'!B6)))","v":0},{"$f":"IF(ISERROR((('A1-Sum'!D5+'A1-Sum'!D6)-('A1-Sum'!C5+'A1-Sum'!C6))/('A1-Sum'!C5+'A1-Sum'!C6)),0,((('A1-Sum'!D5+'A1-Sum'!D6)-('A1-Sum'!C5+'A1-Sum'!C6))/('A1-Sum'!C5+'A1-Sum'!C6)))","v":0},{"$f":"IF(ISERROR((('A1-Sum'!E5+'A1-Sum'!E6)-('A1-Sum'!D5+'A1-Sum'!D6))/('A1-Sum'!D5+'A1-Sum'!D6)),0,((('A1-Sum'!E5+'A1-Sum'!E6)-('A1-Sum'!D5+'A1-Sum'!D6))/('A1-Sum'!D5+'A1-Sum'!D6)))","v":0},{"$f":"IF(ISERROR((('A1-Sum'!F5+'A1-Sum'!F6)-('A1-Sum'!E5+'A1-Sum'!E6))/('A1-Sum'!E5+'A1-Sum'!E6)),0,((('A1-Sum'!F5+'A1-Sum'!F6)-('A1-Sum'!E5+'A1-Sum'!E6))/('A1-Sum'!E5+'A1-Sum'!E6)))","v":0},{"$f":"IF(ISERROR((('A1-Sum'!G5+'A1-Sum'!G6)-('A1-Sum'!F5+'A1-Sum'!F6))/('A1-Sum'!F5+'A1-Sum'!F6)),0,((('A1-Sum'!G5+'A1-Sum'!G6)-('A1-Sum'!F5+'A1-Sum'!F6))/('A1-Sum'!F5+'A1-Sum'!F6)))","v":0},{"$f":"IF(ISERROR((('A1-Sum'!H5+'A1-Sum'!H6)-('A1-Sum'!G5+'A1-Sum'!G6))/('A1-Sum'!G5+'A1-Sum'!G6)),0,((('A1-Sum'!H5+'A1-Sum'!H6)-('A1-Sum'!G5+'A1-Sum'!G6))/('A1-Sum'!G5+'A1-Sum'!G6)))","v":0},{"$f":"IF(ISERROR((('A1-Sum'!I5+'A1-Sum'!I6)-('A1-Sum'!F5+'A1-Sum'!F6))/('A1-Sum'!F5+'A1-Sum'!F6)),0,((('A1-Sum'!I5+'A1-Sum'!I6)-('A1-Sum'!F5+'A1-Sum'!F6))/('A1-Sum'!F5+'A1-Sum'!F6)))","v":0},{"$f":"IF(ISERROR((('A1-Sum'!J5+'A1-Sum'!J6)-('A1-Sum'!I5+'A1-Sum'!I6))/('A1-Sum'!I5+'A1-Sum'!I6)),0,((('A1-Sum'!J5+'A1-Sum'!J6)-('A1-Sum'!I5+'A1-Sum'!I6))/('A1-Sum'!I5+'A1-Sum'!I6)))","v":0},{"$f":"IF(ISERROR((('A1-Sum'!K5+'A1-Sum'!K6)-('A1-Sum'!J5+'A1-Sum'!J6))/('A1-Sum'!J5+'A1-Sum'!J6)),0,((('A1-Sum'!K5+'A1-Sum'!K6)-('A1-Sum'!J5+'A1-Sum'!J6))/('A1-Sum'!J5+'A1-Sum'!J6)))","v":0}]
["Expenditure"]
["% Increase in Total Operating Expenditure",null,null,null,{"$f":"IF(ISERROR(('A1-Sum'!C18-'A1-Sum'!B18)/'A1-Sum'!B18),0,(('A1-Sum'!C18-'A1-Sum'!B18)/'A1-Sum'!B18))","v":0.73682700371765431},{"$f":"IF(ISERROR(('A1-Sum'!D18-'A1-Sum'!C18)/'A1-Sum'!C18),0,(('A1-Sum'!D18-'A1-Sum'!C18)/'A1-Sum'!C18))","v":3.9427481315870164E-2},{"$f":"IF(ISERROR(('A1-Sum'!E18-'A1-Sum'!D18)/'A1-Sum'!D18),0,(('A1-Sum'!E18-'A1-Sum'!D18)/'A1-Sum'!D18))","v":-0.11151043460419252},{"$f":"IF(ISERROR(('A1-Sum'!F18-'A1-Sum'!E18)/'A1-Sum'!E18),0,(('A1-Sum'!F18-'A1-Sum'!E18)/'A1-Sum'!E18))","v":-7.3172165324245182E-3},{"$f":"IF(ISERROR(('A1-Sum'!G18-'A1-Sum'!F18)/'A1-Sum'!F18),0,(('A1-Sum'!G18-'A1-Sum'!F18)/'A1-Sum'!F18))","v":0},{"$f":"IF(ISERROR(('A1-Sum'!H18-'A1-Sum'!G18)/'A1-Sum'!G18),0,(('A1-Sum'!H18-'A1-Sum'!G18)/'A1-Sum'!G18))","v":0},{"$f":"IF(ISERROR(('A1-Sum'!I18-'A1-Sum'!F18)/'A1-Sum'!F18),0,(('A1-Sum'!I18-'A1-Sum'!F18)/'A1-Sum'!F18))","v":6.6309865008716204E-2},{"$f":"IF(ISERROR(('A1-Sum'!J18-'A1-Sum'!I18)/'A1-Sum'!I18),0,(('A1-Sum'!J18-'A1-Sum'!I18)/'A1-Sum'!I18))","v":8.7971785243147582E-2},{"$f":"IF(ISERROR(('A1-Sum'!K18-'A1-Sum'!J18)/'A1-Sum'!J18),0,(('A1-Sum'!K18-'A1-Sum'!J18)/'A1-Sum'!J18))","v":8.8124929274520161E-2}]
["% Increase in Employee Costs",null,null,null,{"$f":"IF(ISERROR(('A1-Sum'!C11-'A1-Sum'!B11)/'A1-Sum'!B11),0,(('A1-Sum'!C11-'A1-Sum'!B11)/'A1-Sum'!B11))","v":0.22918126026822513},{"$f":"IF(ISERROR(('A1-Sum'!D11-'A1-Sum'!C11)/'A1-Sum'!C11),0,(('A1-Sum'!D11-'A1-Sum'!C11)/'A1-Sum'!C11))","v":0.22669258424534983},{"$f":"IF(ISERROR(('A1-Sum'!E11-'A1-Sum'!D11)/'A1-Sum'!D11),0,(('A1-Sum'!E11-'A1-Sum'!D11)/'A1-Sum'!D11))","v":0.14098594402807929},{"$f":"IF(ISERROR(('A1-Sum'!F11-'A1-Sum'!E11)/'A1-Sum'!E11),0,(('A1-Sum'!F11-'A1-Sum'!E11)/'A1-Sum'!E11))","v":-6.7172149709773074E-2},{"$f":"IF(ISERROR(('A1-Sum'!G11-'A1-Sum'!F11)/'A1-Sum'!F11),0,(('A1-Sum'!G11-'A1-Sum'!F11)/'A1-Sum'!F11))","v":0},{"$f":"IF(ISERROR(('A1-Sum'!H11-'A1-Sum'!G11)/'A1-Sum'!G11),0,(('A1-Sum'!H11-'A1-Sum'!G11)/'A1-Sum'!G11))","v":0},{"$f":"IF(ISERROR(('A1-Sum'!I11-'A1-Sum'!F11)/'A1-Sum'!F11),0,(('A1-Sum'!I11-'A1-Sum'!F11)/'A1-Sum'!F11))","v":0.22010469888899115},{"$f":"IF(ISERROR(('A1-Sum'!J11-'A1-Sum'!I11)/'A1-Sum'!I11),0,(('A1-Sum'!J11-'A1-Sum'!I11)/'A1-Sum'!I11))","v":8.3163997120481198E-2},{"$f":"IF(ISERROR(('A1-Sum'!K11-'A1-Sum'!J11)/'A1-Sum'!J11),0,(('A1-Sum'!K11-'A1-Sum'!J11)/'A1-Sum'!J11))","v":8.3290893028574495E-2}]
["% Increase in Electricity Bulk Purchases",null,null,null,{"$f":"IF(ISERROR(('SA1'!D82-'SA1'!C82)/'SA1'!C82),0,(('SA1'!D82-'SA1'!C82)/'SA1'!C82))","v":0},{"$f":"IF(ISERROR(('SA1'!E82-'SA1'!D82)/'SA1'!D82),0,(('SA1'!E82-'SA1'!D82)/'SA1'!D82))","v":0},{"$f":"IF(ISERROR(('SA1'!F82-'SA1'!E82)/'SA1'!E82),0,(('SA1'!F82-'SA1'!E82)/'SA1'!E82))","v":0},{"$f":"IF(ISERROR(('SA1'!G82-'SA1'!F82)/'SA1'!F82),0,(('SA1'!G82-'SA1'!F82)/'SA1'!F82))","v":0},{"$f":"IF(ISERROR(('SA1'!H82-'SA1'!G82)/'SA1'!G82),0,(('SA1'!H82-'SA1'!G82)/'SA1'!G82))","v":0},{"$f":"IF(ISERROR(('SA1'!I82-'SA1'!H82)/'SA1'!H82),0,(('SA1'!I82-'SA1'!H82)/'SA1'!H82))","v":0},{"$f":"IF(ISERROR(('SA1'!J82-'SA1'!G82)/'SA1'!G82),0,(('SA1'!J82-'SA1'!G82)/'SA1'!G82))","v":0},{"$f":"IF(ISERROR(('SA1'!K82-'SA1'!J82)/'SA1'!J82),0,(('SA1'!K82-'SA1'!J82)/'SA1'!J82))","v":0},{"$f":"IF(ISERROR(('SA1'!L82-'SA1'!K82)/'SA1'!K82),0,(('SA1'!L82-'SA1'!K82)/'SA1'!K82))","v":0}]
["Average Cost Per Budgeted Employee Position (Remuneration)",null,null,null,null,{"$f":"IF(ISERROR('A1-Sum'!D11/('SA24'!D36+'SA24'!E36-'SA24'!C5)),0,('A1-Sum'!D11/('SA24'!D36+'SA24'!E36-'SA24'!C5)))","v":1884938.125},{"$f":"IF(ISERROR('A1-Sum'!E11/('SA24'!F36-'SA24'!F5)),0,('A1-Sum'!E11/('SA24'!F36-'SA24'!F5)))","v":354752.64428662148},null,null,null,{"$f":"IF(ISERROR('A1-Sum'!I11/('SA24'!I36-'SA24'!I5)),0,('A1-Sum'!I11/('SA24'!I36-'SA24'!I5)))","v":416646.87180851056}]
["Average Cost Per Councillor (Remuneration)",null,null,null,null,{"$f":"IF(ISERROR('A1-Sum'!D12/'SA24'!C5),0,('A1-Sum'!D12/'SA24'!C5))","v":207378.375},{"$f":"IF(ISERROR('A1-Sum'!E12/'SA24'!F5),0,('A1-Sum'!E12/'SA24'!F5))","v":202471.56710540876},null,null,null,{"$f":"IF(ISERROR('A1-Sum'!I12/'SA24'!I5),0,('A1-Sum'!I12/'SA24'!I5))","v":293552.09250000003}]
["R&M % of PPE",null,null,{"$f":"'A9-Asset'!C84","v":0.29099999999999998},{"$f":"'A9-Asset'!D84","v":0.34499999999999997},{"$f":"'A9-Asset'!E84","v":6.3E-2},{"$f":"'A9-Asset'!F84","v":5.6000000000000001E-2},{"$f":"'A9-Asset'!G84","v":7.0000000000000007E-2},{"$f":"'A9-Asset'!H84","v":7.0000000000000007E-2},null,{"$f":"'A9-Asset'!I84","v":3.3000000000000002E-2},{"$f":"'A9-Asset'!J84","v":4.7E-2},{"$f":"'A9-Asset'!K84","v":4.2999999999999997E-2}]
["Asset Renewal and R&M as a % of PPE",null,null,{"$f":"'A9-Asset'!C85","v":14.55},{"$f":"'A9-Asset'!D85","v":16.71},{"$f":"'A9-Asset'!E85","v":1.72},{"$f":"'A9-Asset'!F85","v":2.82},{"$f":"'A9-Asset'!G85","v":3.54},{"$f":"'A9-Asset'!H85","v":3.54},null,{"$f":"'A9-Asset'!I85","v":1.1499999999999999},{"$f":"'A9-Asset'!J85","v":1.5},{"$f":"'A9-Asset'!K85","v":2.13}]
["Debt Impairment % of Total Billable Revenue",null,null,{"$f":"'SA10'!D11","v":-2.267015400901164},{"$f":"'SA10'!E11","v":2.558358813366253E-2},{"$f":"'SA10'!F11","v":24.918641348201341},{"$f":"'SA10'!G11","v":0},{"$f":"'SA10'!H11","v":0},{"$f":"'SA10'!I11","v":0},{"$f":"'SA10'!J11","v":0},{"$f":"'SA10'!K11","v":0},{"$f":"'SA10'!L11","v":0},{"$f":"'SA10'!M11","v":0}]
["Capital Revenue"]
["Internally Funded & Other (R'000)",null,null,{"$f":"'A1-Sum'!B29+'A1-Sum'!B31","v":0},{"$f":"'A1-Sum'!C29+'A1-Sum'!C31","v":0},{"$f":"'A1-Sum'!D29+'A1-Sum'!D31","v":0},{"$f":"'A1-Sum'!E29+'A1-Sum'!E31","v":0},{"$f":"'A1-Sum'!F29+'A1-Sum'!F31","v":0},{"$f":"'A1-Sum'!G29+'A1-Sum'!G31","v":0},{"$f":"'A1-Sum'!H29+'A1-Sum'!H31","v":0},{"$f":"'A1-Sum'!I29+'A1-Sum'!I31","v":0},{"$f":"'A1-Sum'!J29+'A1-Sum'!J31","v":0},{"$f":"'A1-Sum'!K29+'A1-Sum'!K31","v":0}]
["Borrowing (R'000)",null,null,{"$f":"'A1-Sum'!B30","v":0},{"$f":"'A1-Sum'!C30","v":0},{"$f":"'A1-Sum'!D30","v":0},{"$f":"'A1-Sum'!E30","v":0},{"$f":"'A1-Sum'!F30","v":0},{"$f":"'A1-Sum'!G30","v":0},{"$f":"'A1-Sum'!H30","v":0},{"$f":"'A1-Sum'!I30","v":0},{"$f":"'A1-Sum'!J30","v":0},{"$f":"'A1-Sum'!K30","v":0}]
["Grant Funding and Other (R'000)",null,null,{"$f":"'A1-Sum'!B28","v":5611378},{"$f":"'A1-Sum'!C28","v":7474889},{"$f":"'A1-Sum'!D28","v":20076711},{"$f":"'A1-Sum'!E28","v":3049696},{"$f":"'A1-Sum'!F28","v":1324579.697037037},{"$f":"'A1-Sum'!G28","v":1324579.69703704},{"$f":"'A1-Sum'!H28","v":1324579.69703704},{"$f":"'A1-Sum'!I28","v":1745000},{"$f":"'A1-Sum'!J28","v":715000},{"$f":"'A1-Sum'!K28","v":786500.00000000012}]
["Internally Generated funds % of Non Grant Funding",null,null,{"$f":"IF(ISERROR(('A1-Sum'!B29+'A1-Sum'!B31)/('A1-Sum'!B32-'A1-Sum'!B28)),0,(('A1-Sum'!B29+'A1-Sum'!B31)/('A1-Sum'!B32-'A1-Sum'!B28)))","v":0},{"$f":"IF(ISERROR(('A1-Sum'!C29+'A1-Sum'!C31)/('A1-Sum'!C32-'A1-Sum'!C28)),0,(('A1-Sum'!C29+'A1-Sum'!C31)/('A1-Sum'!C32-'A1-Sum'!C28)))","v":0},{"$f":"IF(ISERROR(('A1-Sum'!D29+'A1-Sum'!D31)/('A1-Sum'!D32-'A1-Sum'!D28)),0,(('A1-Sum'!D29+'A1-Sum'!D31)/('A1-Sum'!D32-'A1-Sum'!D28)))","v":0},{"$f":"IF(ISERROR(('A1-Sum'!E29+'A1-Sum'!E31)/('A1-Sum'!E32-'A1-Sum'!E28)),0,(('A1-Sum'!E29+'A1-Sum'!E31)/('A1-Sum'!E32-'A1-Sum'!E28)))","v":0},{"$f":"IF(ISERROR(('A1-Sum'!F29+'A1-Sum'!F31)/('A1-Sum'!F32-'A1-Sum'!F28)),0,(('A1-Sum'!F29+'A1-Sum'!F31)/('A1-Sum'!F32-'A1-Sum'!F28)))","v":0},{"$f":"IF(ISERROR(('A1-Sum'!G29+'A1-Sum'!G31)/('A1-Sum'!G32-'A1-Sum'!G28)),0,(('A1-Sum'!G29+'A1-Sum'!G31)/('A1-Sum'!G32-'A1-Sum'!G28)))","v":0},{"$f":"IF(ISERROR(('A1-Sum'!H29+'A1-Sum'!H31)/('A1-Sum'!H32-'A1-Sum'!H28)),0,(('A1-Sum'!H29+'A1-Sum'!H31)/('A1-Sum'!H32-'A1-Sum'!H28)))","v":0},{"$f":"IF(ISERROR(('A1-Sum'!I29+'A1-Sum'!I31)/('A1-Sum'!I32-'A1-Sum'!I28)),0,(('A1-Sum'!I29+'A1-Sum'!I31)/('A1-Sum'!I32-'A1-Sum'!I28)))","v":0},{"$f":"IF(ISERROR(('A1-Sum'!J29+'A1-Sum'!J31)/('A1-Sum'!J32-'A1-Sum'!J28)),0,(('A1-Sum'!J29+'A1-Sum'!J31)/('A1-Sum'!J32-'A1-Sum'!J28)))","v":0},{"$f":"IF(ISERROR(('A1-Sum'!K29+'A1-Sum'!K31)/('A1-Sum'!K32-'A1-Sum'!K28)),0,(('A1-Sum'!K29+'A1-Sum'!K31)/('A1-Sum'!K32-'A1-Sum'!K28)))","v":0}]
["Borrowing % of Non Grant Funding",null,null,{"$f":"IF(ISERROR('A1-Sum'!B30/('A1-Sum'!B32-'A1-Sum'!B28)),0,('A1-Sum'!B30/('A1-Sum'!B32-'A1-Sum'!B28)))","v":0},{"$f":"IF(ISERROR('A1-Sum'!C30/('A1-Sum'!C32-'A1-Sum'!C28)),0,('A1-Sum'!C30/('A1-Sum'!C32-'A1-Sum'!C28)))","v":0},{"$f":"IF(ISERROR('A1-Sum'!D30/('A1-Sum'!D32-'A1-Sum'!D28)),0,('A1-Sum'!D30/('A1-Sum'!D32-'A1-Sum'!D28)))","v":0},{"$f":"IF(ISERROR('A1-Sum'!E30/('A1-Sum'!E32-'A1-Sum'!E28)),0,('A1-Sum'!E30/('A1-Sum'!E32-'A1-Sum'!E28)))","v":0},{"$f":"IF(ISERROR('A1-Sum'!F30/('A1-Sum'!F32-'A1-Sum'!F28)),0,('A1-Sum'!F30/('A1-Sum'!F32-'A1-Sum'!F28)))","v":0},{"$f":"IF(ISERROR('A1-Sum'!G30/('A1-Sum'!G32-'A1-Sum'!G28)),0,('A1-Sum'!G30/('A1-Sum'!G32-'A1-Sum'!G28)))","v":0},{"$f":"IF(ISERROR('A1-Sum'!H30/('A1-Sum'!H32-'A1-Sum'!H28)),0,('A1-Sum'!H30/('A1-Sum'!H32-'A1-Sum'!H28)))","v":0},{"$f":"IF(ISERROR('A1-Sum'!I30/('A1-Sum'!I32-'A1-Sum'!I28)),0,('A1-Sum'!I30/('A1-Sum'!I32-'A1-Sum'!I28)))","v":0},{"$f":"IF(ISERROR('A1-Sum'!J30/('A1-Sum'!J32-'A1-Sum'!J28)),0,('A1-Sum'!J30/('A1-Sum'!J32-'A1-Sum'!J28)))","v":0},{"$f":"IF(ISERROR('A1-Sum'!K30/('A1-Sum'!K32-'A1-Sum'!K28)),0,('A1-Sum'!K30/('A1-Sum'!K32-'A1-Sum'!K28)))","v":0}]
["Grant Funding % of Total Funding",null,null,{"$f":"IF(ISERROR('A1-Sum'!B28/'A1-Sum'!B32),0,('A1-Sum'!B28/'A1-Sum'!B32))","v":1},{"$f":"IF(ISERROR('A1-Sum'!C28/'A1-Sum'!C32),0,('A1-Sum'!C28/'A1-Sum'!C32))","v":1},{"$f":"IF(ISERROR('A1-Sum'!D28/'A1-Sum'!D32),0,('A1-Sum'!D28/'A1-Sum'!D32))","v":1},{"$f":"IF(ISERROR('A1-Sum'!E28/'A1-Sum'!E32),0,('A1-Sum'!E28/'A1-Sum'!E32))","v":1},{"$f":"IF(ISERROR('A1-Sum'!F28/'A1-Sum'!F32),0,('A1-Sum'!F28/'A1-Sum'!F32))","v":1},{"$f":"IF(ISERROR('A1-Sum'!G28/'A1-Sum'!G32),0,('A1-Sum'!G28/'A1-Sum'!G32))","v":1},{"$f":"IF(ISERROR('A1-Sum'!H28/'A1-Sum'!H32),0,('A1-Sum'!H28/'A1-Sum'!H32))","v":1},{"$f":"IF(ISERROR('A1-Sum'!I28/'A1-Sum'!I32),0,('A1-Sum'!I28/'A1-Sum'!I32))","v":1},{"$f":"IF(ISERROR('A1-Sum'!J28/'A1-Sum'!J32),0,('A1-Sum'!J28/'A1-Sum'!J32))","v":1},{"$f":"IF(ISERROR('A1-Sum'!K28/'A1-Sum'!K32),0,('A1-Sum'!K28/'A1-Sum'!K32))","v":1}]
["Capital Expenditure"]
["Total Capital Programme (R'000)",null,null,{"$f":"'A1-Sum'!B27","v":5611378},{"$f":"'A1-Sum'!C27","v":7474889},{"$f":"'A1-Sum'!D27","v":20077000},{"$f":"'A1-Sum'!E27","v":4490000},{"$f":"'A1-Sum'!F27","v":1324579.697037037},{"$f":"'A1-Sum'!G27","v":1324579.697037037},{"$f":"'A1-Sum'!H27","v":1324579.697037037},{"$f":"'A1-Sum'!I27","v":1745000},{"$f":"'A1-Sum'!J27","v":715000},{"$f":"'A1-Sum'!K27","v":786500}]
["Asset Renewal",null,null,{"$f":"'A1-Sum'!B55","v":140000},{"$f":"'A1-Sum'!C55","v":0},{"$f":"'A1-Sum'!D55","v":0},{"$f":"'A1-Sum'!E55","v":0},{"$f":"'A1-Sum'!F55","v":0},{"$f":"'A1-Sum'!G55","v":0},{"$f":"'A1-Sum'!H55","v":0},{"$f":"'A1-Sum'!I55","v":0},{"$f":"'A1-Sum'!J55","v":0},{"$f":"'A1-Sum'!K55","v":0}]
["Asset Renewal % of Total Capital Expenditure",null,null,{"$f":"IF(ISERROR('A1-Sum'!B55/'A1-Sum'!B32),0,('A1-Sum'!B55/'A1-Sum'!B32))","v":2.4949308351709686E-2},{"$f":"IF(ISERROR('A1-Sum'!C55/'A1-Sum'!C32),0,('A1-Sum'!C55/'A1-Sum'!C32))","v":0},{"$f":"IF(ISERROR('A1-Sum'!D55/'A1-Sum'!D32),0,('A1-Sum'!D55/'A1-Sum'!D32))","v":0},{"$f":"IF(ISERROR('A1-Sum'!E55/'A1-Sum'!E32),0,('A1-Sum'!E55/'A1-Sum'!E32))","v":0},{"$f":"IF(ISERROR('A1-Sum'!F55/'A1-Sum'!F32),0,('A1-Sum'!F55/'A1-Sum'!F32))","v":0},{"$f":"IF(ISERROR('A1-Sum'!G55/'A1-Sum'!G32),0,('A1-Sum'!G55/'A1-Sum'!G32))","v":0},{"$f":"IF(ISERROR('A1-Sum'!H55/'A1-Sum'!H32),0,('A1-Sum'!H55/'A1-Sum'!H32))","v":0},{"$f":"IF(ISERROR('A1-Sum'!I55/'A1-Sum'!I32),0,('A1-Sum'!I55/'A1-Sum'!I32))","v":0},{"$f":"IF(ISERROR('A1-Sum'!J55/'A1-Sum'!J32),0,('A1-Sum'!J55/'A1-Sum'!J32))","v":0},{"$f":"IF(ISERROR('A1-Sum'!K55/'A1-Sum'!K32),0,('A1-Sum'!K55/'A1-Sum'!K32))","v":0}]
["Cash"]
["Cash Receipts % of Rate Payer & Other",null,null,{"$f":"'SA10'!D10","v":1},{"$f":"'SA10'!E10","v":1},{"$f":"'SA10'!F10","v":0.50286455240131445},{"$f":"'SA10'!G10","v":0.97636849907142398},{"$f":"'SA10'!H10","v":1},{"$f":"'SA10'!I10","v":1},{"$f":"'SA10'!J10","v":0.97585053770684327},{"$f":"'SA10'!K10","v":0.53855434221717935},{"$f":"'SA10'!L10","v":1.1074808985102371},{"$f":"'SA10'!M10","v":1.1074808985102373}]
["Cash Coverage Ratio",null,null,{"$f":"'SA10'!D7","v":4.1404705862498679},{"$f":"'SA10'!E7","v":5.539362793421569},{"$f":"'SA10'!F7","v":1.352642734951637},{"$f":"'SA10'!G7","v":-0.39950279383103343},{"$f":"'SA10'!H7","v":0.36972256246071994},{"$f":"'SA10'!I7","v":0.36972256246071994},{"$f":"'SA10'!J7","v":0.36929325748147918},{"$f":"'SA10'!K7","v":-0.54435654509117237},{"$f":"'SA10'!L7","v":-1.0541673181016125},{"$f":"'SA10'!M7","v":-1.5320248455637235}]
["Borrowing"]
[]
["Credit Rating (2009/10)",null,null,null,null,null,null,null,null,null,{"$f":"'SA8'!F6","v":0}]
["Capital Charges to Operating",null,null,{"$f":"'SA8'!C7","v":1.9179201857130151E-2},{"$f":"'SA8'!D7","v":1.0368366239314336E-2},{"$f":"'SA8'!E7","v":9.1813376630914198E-3},{"$f":"'SA8'!F7","v":0},{"$f":"'SA8'!G7","v":0},{"$f":"'SA8'!H7","v":0},{"$f":"'SA8'!I7","v":0},{"$f":"'SA8'!J7","v":7.5149683805278058E-3},{"$f":"'SA8'!K7","v":7.5980510990302369E-3},{"$f":"'SA8'!L7","v":7.6809711679941481E-3}]
["Borrowing Receipts % of Capital Expenditure",null,null,{"$f":"'SA10'!D13","v":0},{"$f":"'SA10'!E13","v":0},{"$f":"'SA10'!F13","v":0},{"$f":"'SA10'!G13","v":0},{"$f":"'SA10'!H13","v":0},{"$f":"'SA10'!I13","v":0},{"$f":"'SA10'!J13","v":0},{"$f":"'SA10'!K13","v":0},{"$f":"'SA10'!L13","v":0},{"$f":"'SA10'!M13","v":0}]
["Reserves"]
["Surplus/(Deficit)",null,null,{"$f":"'A8-ResRecon'!C19","v":6114488},{"$f":"'A8-ResRecon'!D19","v":24320697},{"$f":"'A8-ResRecon'!E19","v":-5632472},{"$f":"'A8-ResRecon'!F19","v":2719979.34},{"$f":"'A8-ResRecon'!G19","v":3150979.34},{"$f":"'A8-ResRecon'!H19","v":3150979.34},{"$f":"'A8-ResRecon'!I19","v":-7339150.0899999999},{"$f":"'A8-ResRecon'!J19","v":-4617053},{"$f":"'A8-ResRecon'!K19","v":-3994033},{"$f":"'A8-ResRecon'!L19","v":-3092984}]
["Free Services"]
["Free Basic Services as a % of Equitable Share",null,null,{"$f":"IF(ISERROR('A10-SerDel'!C59/'SA18'!C8),0,('A10-SerDel'!C59/'SA18'!C8))","v":0},{"$f":"IF(ISERROR('A10-SerDel'!D59/'SA18'!D8),0,('A10-SerDel'!D59/'SA18'!D8))","v":0},{"$f":"IF(ISERROR('A10-SerDel'!E59/'SA18'!E8),0,('A10-SerDel'!E59/'SA18'!E8))","v":0},{"$f":"IF(ISERROR('A10-SerDel'!F59/'SA18'!F8),0,('A10-SerDel'!F59/'SA18'!F8))","v":0},{"$f":"IF(ISERROR('A10-SerDel'!G59/'SA18'!G8),0,('A10-SerDel'!G59/'SA18'!G8))","v":0},{"$f":"IF(ISERROR('A10-SerDel'!H59/'SA18'!H8),0,('A10-SerDel'!H59/'SA18'!H8))","v":0},null,{"$f":"IF(ISERROR('A10-SerDel'!I59/'SA18'!I8),0,('A10-SerDel'!I59/'SA18'!I8))","v":0},{"$f":"IF(ISERROR('A10-SerDel'!J59/'SA18'!J8),0,('A10-SerDel'!J59/'SA18'!J8))","v":0},{"$f":"IF(ISERROR('A10-SerDel'!K59/'SA18'!K8),0,('A10-SerDel'!K59/'SA18'!K8))","v":0}]
["Free Services as a % of Operating Revenue \n(excl operational transfers)",null,null,{"$f":"IF(ISERROR('A10-SerDel'!C78/('A1-Sum'!B10-'A1-Sum'!B8)),0,('A10-SerDel'!C78/('A1-Sum'!B10-'A1-Sum'!B8)))","v":0},{"$f":"IF(ISERROR('A10-SerDel'!D78/('A1-Sum'!C10-'A1-Sum'!C8)),0,('A10-SerDel'!D78/('A1-Sum'!C10-'A1-Sum'!C8)))","v":0},{"$f":"IF(ISERROR('A10-SerDel'!E78/('A1-Sum'!D10-'A1-Sum'!D8)),0,('A10-SerDel'!E78/('A1-Sum'!D10-'A1-Sum'!D8)))","v":0},{"$f":"IF(ISERROR('A10-SerDel'!F78/('A1-Sum'!E10-'A1-Sum'!E8)),0,('A10-SerDel'!F78/('A1-Sum'!E10-'A1-Sum'!E8)))","v":0},{"$f":"IF(ISERROR('A10-SerDel'!G78/('A1-Sum'!F10-'A1-Sum'!F8)),0,('A10-SerDel'!G78/('A1-Sum'!F10-'A1-Sum'!F8)))","v":0},{"$f":"IF(ISERROR('A10-SerDel'!H78/('A1-Sum'!G10-'A1-Sum'!G8)),0,('A10-SerDel'!H78/('A1-Sum'!G10-'A1-Sum'!G8)))","v":0},null,{"$f":"IF(ISERROR('A10-SerDel'!I78/('A1-Sum'!I10-'A1-Sum'!I8)),0,('A10-SerDel'!I78/('A1-Sum'!I10-'A1-Sum'!I8)))","v":0},{"$f":"IF(ISERROR('A10-SerDel'!J78/('A1-Sum'!J10-'A1-Sum'!J8)),0,('A10-SerDel'!J78/('A1-Sum'!J10-'A1-Sum'!J8)))","v":0},{"$f":"IF(ISERROR('A10-SerDel'!K78/('A1-Sum'!K10-'A1-Sum'!K8)),0,('A10-SerDel'!K78/('A1-Sum'!K10-'A1-Sum'!K8)))","v":0}]
[]
["High Level Outcome of Funding Compliance"]
["Total Operating Revenue",null,null,{"$f":"D86","v":45576624},{"$f":"E86","v":90879214},39385108,60555255.044210523,59913496.684210524,59913496.684210524,{"$f":"J86","v":55515496.684210524},64205370.479999997,69998907.527999997,76998798.2808]
["Total Operating Expenditure",null,null,{"$f":"D87","v":39187345},68061639,70745138,62856316.915486425,62396383.634185113,62396383.634185113,62396383.634185113,66533879.409999996,72386983.560849994,78766081.367545754]
["Surplus/(Deficit) Budgeted Operating Statement",null,null,6389279,22817575,-31360030,-2301061.8712759018,-2482886.949974589,-2482886.949974589,-6880886.949974589,-2328508.9299999997,-2388076.0328499973,-1767283.0867457539]
["Surplus/(Deficit) Considering Reserves and Cash Backing",null,null,{"$f":"D132+'A8-ResRecon'!C19","v":12503767},{"$f":"E132+'A8-ResRecon'!D19","v":47138272},{"$f":"F132+'A8-ResRecon'!E19","v":-36992502},{"$f":"G132+'A8-ResRecon'!F19","v":418917.46872409806},{"$f":"H132+'A8-ResRecon'!G19","v":668092.3900254108},{"$f":"I132+'A8-ResRecon'!H19","v":668092.3900254108},{"$f":"J132+'A8-ResRecon'!I19","v":-14220037.039974589},{"$f":"K132+'A8-ResRecon'!J19","v":-6945561.9299999997},{"$f":"L132+'A8-ResRecon'!K19","v":-6382109.0328499973},{"$f":"M132+'A8-ResRecon'!L19","v":-4860267.0867457539}]
["MTREF Funded (1) / Unfunded (0)",null,15,{"$f":"IF(D133>=0,1,0)","v":1},{"$f":"IF(E133>=0,1,0)","v":1},0,1,1,1,0,0,0,0]
["MTREF Funded ü / Unfunded û",null,15,{"$f":"IF(D134=1,\"ü\",\"û\")","v":"ü"},{"$f":"IF(E134=1,\"ü\",\"û\")","v":"ü"},"û","ü","ü","ü","û","û","û","û"]
[]
[{"$f":"head27a","v":"References"}]
["15. Subject to figures provided in Schedule."]

{"sheet":"SA11","index":29,"n_rows":73,"n_cols":11,"rows_kept":73,"cut":false,"hidden":false,"merged":[[1,5,1,7],[1,8,1,10],[1,1,3,1],[1,0,2,0]]}
[{"$f":"muni&\" - \"&TableA11","v":"DC16 Xhariep - Supporting Table SA11 Property rates summary"}]
[{"$f":"desc","v":"Description"},{"$f":"head27","v":"Ref"},{"$f":"head1b","v":"2010/11"},{"$f":"head1A","v":"2011/12"},{"$f":"Head1","v":"2012/13"},{"$f":"Head2","v":"Current Year 2013/14"},null,null,{"$f":"Head3","v":"2014/15 Medium Term Revenue & Expenditure Framework"}]
[null,null,{"$f":"Head5","v":"Audited Outcome"},{"$f":"Head5","v":"Audited Outcome"},{"$f":"Head5","v":"Audited Outcome"},{"$f":"Head6","v":"Original Budget"},{"$f":"Head7","v":"Adjusted Budget"},{"$f":"Head8","v":"Full Year Forecast"},{"$f":"Head9","v":"Budget Year 2014/15"},{"$f":"Head10","v":"Budget Year +1 2015/16"},{"$f":"Head11","v":"Budget Year +2 2016/17"}]
[]
["Valuation:",1]
["Date of valuation:"]
["Financial year valuation used"]
["Municipal by-laws s6 in place? (Y/N)","2"]
["Municipal/assistant valuer appointed? (Y/N)"]
["Municipal partnership s38 used? (Y/N)"]
["No. of assistant valuers (FTE)",3]
["No. of data collectors (FTE)",3]
["No. of internal valuers (FTE)",3]
["No. of external valuers (FTE)",3]
["No. of additional valuers (FTE)",4]
["Valuation appeal board established? (Y/N)"]
["Implementation time of new valuation roll (mths)"]
["No. of properties",5]
["No. of sectional title values",5]
["No. of unreasonably difficult properties s7(2)"]
["No. of supplementary valuations"]
["No. of valuation roll amendments"]
["No. of objections by rate payers"]
["No. of appeals by rate payers"]
["No. of successful objections",8]
["No. of successful objections > 10%",8]
["Supplementary valuation"]
["Public service infrastructure value (Rm)",5]
["Municipality owned property value (Rm)"]
["Valuation reductions:"]
["Valuation reductions-public infrastructure (Rm)"]
["Valuation reductions-nature reserves/park (Rm)"]
["Valuation reductions-mineral rights (Rm)"]
["Valuation reductions-R15,000 threshold (Rm)"]
["Valuation reductions-public worship (Rm)"]
["Valuation reductions-other (Rm)"]
["Total valuation reductions:",null,{"$f":"SUM(C31:C36)","v":0},{"$f":"SUM(D31:D36)","v":0},0,0,0,0,0,0,0]
["Total value used for rating (Rm)",5]
["Total land value (Rm)",5]
["Total value of improvements (Rm)",5]
["Total market value (Rm)",5]
[]
["Rating:"]
["Residential rate used to determine rate for other categories? (Y/N)"]
["Differential rates used? (Y/N)",5]
["Limit on annual rate increase (s20)? (Y/N)"]
["Special rating area used? (Y/N)"]
["Phasing-in properties s21 (number)"]
["Rates policy accompanying budget? (Y/N)"]
["Fixed amount minimum value (R'000)"]
["Non-residential prescribed ratio s19? (%)"]
[]
["Rate revenue:"]
["Rate revenue budget (R '000)",6]
["Rate revenue expected to collect (R'000)",6]
["Expected cash collection rate (%)"]
["Special rating areas (R'000)",7]
["Rebates, exemptions - indigent (R'000)"]
["Rebates, exemptions - pensioners (R'000)"]
["Rebates, exemptions - bona fide farm. (R'000)"]
["Rebates, exemptions - other (R'000)"]
["Phase-in reductions/discounts (R'000)"]
["Total rebates,exemptns,reductns,discs (R'000)",null,{"$f":"SUM(C58:C62)","v":0},{"$f":"SUM(D58:D62)","v":0},0,0,0,0,0,0,0]
[]
[{"$f":"head27a","v":"References"}]
["1. All numbers to be expressed as whole numbers except FTEs and Rates in the Rand"]
["2. To give effect to rates policy"]
["3. Full Time Equivalent (FTE)  should be expressed to one decimal place and takes into account full time and part time staff"]
["4. Required to implement new system (FTE)"]
["5. Provide relevant information for historical comparisons. Must reconcile to the total of Table SA12"]
[{"$f":"\"6. Current and budget year must reconcile to \"&'Template names'!F103","v":"6. Current and budget year must reconcile to Table A4 Budgeted Financial Performance (revenue and expenditure)"}]
["7. Included in rate revenue budget"]
["8. In favour of the rate-payer"]

{"sheet":"SA12a","index":30,"n_rows":56,"n_cols":19,"rows_kept":56,"cut":false,"hidden":false,"merged":[]}
[{"$f":"muni&\" - \"&TableA12a","v":"DC16 Xhariep - Supporting Table SA12a Property rates by category (current year)"}]
[{"$f":"desc","v":"Description"},{"$f":"head27","v":"Ref"},"Resi.","Indust.","Bus. & Comm.","Farm props.","State-owned ","Muni props.","Public service infra.","Private owned towns","Formal & Informal Settle.","Comm. Land","State trust land","Section 8(2)(n) (note 1)","Protect. Areas","National Monum/ts","Public benefit organs.","Mining Props."]
[{"$f":"Head2","v":"Current Year 2013/14"}]
["Valuation:"]
["No. of properties"]
["No. of sectional title property values"]
["No. of unreasonably difficult properties s7(2)"]
["No. of supplementary valuations"]
["Supplementary valuation (Rm)"]
["No. of valuation roll amendments"]
["No. of objections by rate-payers"]
["No. of appeals by rate-payers"]
["No. of appeals by rate-payers finalised"]
["No. of successful objections",5]
["No. of successful objections > 10%",5]
["Estimated no. of properties not valued"]
["Years since last valuation (select)"]
["Frequency of valuation (select)"]
["Method of valuation used (select)"]
["Base of valuation (select)"]
["Phasing-in properties s21 (number)"]
["Combination of rating types used? (Y/N)"]
["Flat rate used? (Y/N)"]
["Is balance rated by uniform rate/variable rate?"]
["Valuation reductions:"]
["Valuation reductions-public infrastructure (Rm)"]
["Valuation reductions-nature reserves/park (Rm)"]
["Valuation reductions-mineral rights (Rm)"]
["Valuation reductions-R15,000 threshold (Rm)"]
["Valuation reductions-public worship (Rm)"]
["Valuation reductions-other (Rm)",2]
["Total valuation reductions:"]
["Total value used for rating (Rm)",6]
["Total land value (Rm)",6]
["Total value of improvements (Rm)",6]
["Total market value (Rm)",6]
["Rating:"]
["Average rate",3]
["Rate revenue budget (R '000)",null,null,null,null,null,null,null,null,null,null,null,null,null,null,null,null,null,{"$f":"SUM(C39:R39)","v":0}]
["Rate revenue expected to collect (R'000)",null,null,null,null,null,null,null,null,null,null,null,null,null,null,null,null,null,{"$f":"SUM(C40:R40)","v":0}]
["Expected cash collection rate (%)",4]
["Special rating areas (R'000)"]
["Rebates, exemptions - indigent (R'000)"]
["Rebates, exemptions - pensioners (R'000)"]
["Rebates, exemptions - bona fide farm. (R'000)"]
["Rebates, exemptions - other (R'000)"]
["Phase-in reductions/discounts (R'000)"]
["Total rebates,exemptns,reductns,discs (R'000)"]
[]
[{"$f":"head27a","v":"References"}]
["1. Land & Assistance Act, Restitution of Land Rights, Communual Property Associations"]
["2. Include value of additional reductions is 'free' value greater than MPRA minimum."]
["3. Average rate - cents in  the Rand. Eg 10.26 cents in the Rand is 0.1026, expressed to 6 decimal places maximum"]
["4. Include arrears collections"]
["5. In favour of the rate-payer"]
["6. Provide relevant information for historical comparisons."]

{"sheet":"SA12b","index":31,"n_rows":56,"n_cols":19,"rows_kept":56,"cut":false,"hidden":false,"merged":[]}
[{"$f":"muni&\" - \"&TableA12b","v":"DC16 Xhariep - Supporting Table SA12b Property rates by category (budget year)"}]
[{"$f":"desc","v":"Description"},{"$f":"head27","v":"Ref"},"Resi.","Indust.","Bus. & Comm.","Farm props.","State-owned ","Muni props.","Public service infra.","Private owned towns","Formal & Informal Settle.","Comm. Land","State trust land","Section 8(2)(n) (note 1)","Protect. Areas","National Monum/ts","Public benefit organs.","Mining Props."]
[{"$f":"Head9","v":"Budget Year 2014/15"}]
["Valuation:"]
["No. of properties"]
["No. of sectional title property values"]
["No. of unreasonably difficult properties s7(2)"]
["No. of supplementary valuations"]
["Supplementary valuation (Rm)"]
["No. of valuation roll amendments"]
["No. of objections by rate-payers"]
["No. of appeals by rate-payers"]
["No. of appeals by rate-payers finalised"]
["No. of successful objections",5]
["No. of successful objections > 10%",5]
["Estimated no. of properties not valued"]
["Years since last valuation (select)"]
["Frequency of valuation (select)"]
["Method of valuation used (select)"]
["Base of valuation (select)"]
["Phasing-in properties s21 (number)"]
["Combination of rating types used? (Y/N)"]
["Flat rate used? (Y/N)"]
["Is balance rated by uniform rate/variable rate?"]
["Valuation reductions:"]
["Valuation reductions-public infrastructure (Rm)"]
["Valuation reductions-nature reserves/park (Rm)"]
["Valuation reductions-mineral rights (Rm)"]
["Valuation reductions-R15,000 threshold (Rm)"]
["Valuation reductions-public worship (Rm)"]
["Valuation reductions-other (Rm)",2]
["Total valuation reductions:"]
["Total value used for rating (Rm)",6]
["Total land value (Rm)",6]
["Total value of improvements (Rm)",6]
["Total market value (Rm)",6]
["Rating:"]
["Average rate",3]
["Rate revenue budget (R '000)",null,null,null,null,null,null,null,null,null,null,null,null,null,null,null,null,null,{"$f":"SUM(C39:R39)","v":0}]
["Rate revenue expected to collect (R'000)",null,null,null,null,null,null,null,null,null,null,null,null,null,null,null,null,null,{"$f":"SUM(C40:R40)","v":0}]
["Expected cash collection rate (%)",4]
["Special rating areas (R'000)"]
["Rebates, exemptions - indigent (R'000)"]
["Rebates, exemptions - pensioners (R'000)"]
["Rebates, exemptions - bona fide farm. (R'000)"]
["Rebates, exemptions - other (R'000)"]
["Phase-in reductions/discounts (R'000)"]
["Total rebates,exemptns,reductns,discs (R'000)"]
[]
[{"$f":"head27a","v":"References"}]
["1. Land & Assistance Act, Restitution of Land Rights, Communual Property Associations"]
["2. Include value of additional reductions is 'free' value greater than MPRA minimum."]
["3. Average rate - cents in  the Rand. Eg 10.26 cents in the Rand is 0.1026, expressed to 6 decimal places maximum"]
["4. Include arrears collections"]
["5. In favour of the rate-payer"]
["6. Provide relevant information for historical comparisons."]

{"sheet":"SA13a","index":32,"n_rows":90,"n_cols":19,"rows_kept":90,"cut":false,"hidden":false,"merged":[[93,6,94,6],[93,0,94,0],[93,1,94,1],[93,2,94,2],[93,3,94,3],[93,4,94,4],[93,5,94,5],[1,6,2,6],[1,0,2,0],[1,1,2,1],[1,2,2,2],[1,3,2,3],[1,4,2,4],[1,5,2,5]]}
[{"$f":"muni&\" - \"&TableA13a","v":"DC16 Xhariep - Supporting Table SA13a Service Tariffs by category"}]
[{"$f":"desc","v":"Description"},{"$f":"head27","v":"Ref"},"Provide description of tariff structure where appropriate",{"$f":"head1b","v":"2010/11"},{"$f":"head1A","v":"2011/12"},{"$f":"Head1","v":"2012/13"},{"$f":"Head2","v":"Current Year 2013/14"},{"$f":"Head3","v":"2014/15 Medium Term Revenue & Expenditure Framework"}]
[null,null,null,null,null,null,null,{"$f":"Head9","v":"Budget Year 2014/15"},{"$f":"Head10","v":"Budget Year +1 2015/16"},{"$f":"Head11","v":"Budget Year +2 2016/17"}]
["Property rates (rate in the Rand)",1]
["Residential properties"]
["Residential properties - vacant land"]
["Formal/informal settlements"]
["Small holdings"]
["Farm properties - used"]
["Farm properties - not used"]
["Industrial properties"]
["Business and commercial properties"]
["Communal land - residential"]
["Communal land - small holdings"]
["Communal land - farm property"]
["Communal land - business and commercial"]
["Communal land - other"]
["State-owned properties"]
["Municipal properties"]
["Public service infrastructure"]
["Privately owned towns serviced by the owner"]
["State trust land"]
["Restitution and redistribution properties"]
["Protected areas"]
["National monuments properties"]
[]
["Exemptions, reductions and rebates (Rands)"]
["Residential properties"]
["R15 000 threshhold rebate",null,null,15000,15000,15000,15000,15000,15000,15000]
["General residential rebate"]
["Indigent rebate or exemption"]
["Pensioners/social grants rebate or exemption "]
["Temporary relief rebate or exemption"]
[" Bona fide farmers rebate or exemption"]
["Other rebates or exemptions",2]
[]
["Water tariffs"]
["Domestic"]
["Basic charge/fixed fee (Rands/month)",null,null,null,null,null,null,null,null,null,null,null,null,null,null,null,null,null,{"$f":"SUM(C39:R39)","v":0}]
["Service point - vacant land (Rands/month)",null,null,null,null,null,null,null,null,null,null,null,null,null,null,null,null,null,{"$f":"SUM(C40:R40)","v":0}]
["Water usage - flat rate tariff (c/kl)"]
["Water usage - life line tariff",null,"(describe structure)"]
["Water usage - Block 1 (c/kl)",null," (fill in thresholds)"]
["Water usage - Block 2 (c/kl)",null," (fill in thresholds)"]
["Water usage - Block 3 (c/kl)",null," (fill in thresholds)"]
["Water usage - Block 4 (c/kl)",null," (fill in thresholds)"]
["Other",2]
[]
["Waste water tariffs"]
["Domestic"]
["Basic charge/fixed fee (Rands/month)"]
["Service point - vacant land (Rands/month)"]
["Waste water - flat rate tariff (c/kl)"]
["Volumetric charge - Block 1 (c/kl)",null,"(fill in structure)"]
["Volumetric charge - Block 2 (c/kl)",null,"(fill in structure)"]
["Volumetric charge - Block 3 (c/kl)",null,"(fill in structure)"]
["Volumetric charge - Block 4 (c/kl)",null,"(fill in structure)"]
["Other",2]
[]
["Electricity tariffs"]
["Domestic"]
["Basic charge/fixed fee (Rands/month)"]
["Service point - vacant land (Rands/month)"]
["FBE",null,"(how is this targeted?)"]
["Life-line tariff - meter",null,"(describe structure)"]
["Life-line tariff - prepaid",null,"(describe structure)"]
["Flat rate tariff - meter (c/kwh)"]
["Flat rate tariff - prepaid(c/kwh)"]
["Meter - IBT Block 1 (c/kwh)",null,"(fill in thresholds)"]
["Meter - IBT Block 2 (c/kwh)",null,"(fill in thresholds)"]
["Meter - IBT Block 3 (c/kwh)",null,"(fill in thresholds)"]
["Meter - IBT Block 4 (c/kwh)",null,"(fill in thresholds)"]
["Meter - IBT Block 5 (c/kwh)",null,"(fill in thresholds)"]
["Prepaid - IBT Block 1 (c/kwh)",null,"(fill in thresholds)"]
["Prepaid - IBT Block 2 (c/kwh)",null,"(fill in thresholds)"]
["Prepaid - IBT Block 3 (c/kwh)",null,"(fill in thresholds)"]
["Prepaid - IBT Block 4 (c/kwh)",null,"(fill in thresholds)"]
["Prepaid - IBT Block 5 (c/kwh)",null,"(fill in thresholds)"]
["Other",2]
[]
["Waste management tariffs"]
["Domestic"]
["Street cleaning charge"]
["Basic charge/fixed fee"]
["80l bin - once a week"]
["250l bin - once a week"]
[]
[{"$f":"head27a","v":"References"}]
["1. If properties are not rated or zero rated this must be indicated as such"]
["2.Please provide detailed descriptions on Sheet SA13b"]

{"sheet":"SA13b","index":33,"n_rows":50,"n_cols":19,"rows_kept":50,"cut":false,"hidden":false,"merged":[[94,5,95,5],[94,6,95,6],[1,6,2,6],[1,5,2,5],[94,0,95,0],[1,0,2,0],[1,1,2,1],[1,2,2,2],[1,3,2,3],[1,4,2,4],[94,1,95,1],[94,2,95,2],[94,3,95,3],[94,4,95,4]]}
[{"$f":"muni&\" - \"&TableA13b","v":"DC16 Xhariep - Supporting Table SA13b Service Tariffs by category - explanatory"}]
[{"$f":"desc","v":"Description"},{"$f":"head27","v":"Ref"},"Provide description of tariff structure where appropriate",{"$f":"head1b","v":"2010/11"},{"$f":"head1A","v":"2011/12"},{"$f":"Head1","v":"2012/13"},{"$f":"Head2","v":"Current Year 2013/14"},{"$f":"Head3","v":"2014/15 Medium Term Revenue & Expenditure Framework"}]
[null,null,null,null,null,null,null,{"$f":"Head9","v":"Budget Year 2014/15"},{"$f":"Head10","v":"Budget Year +1 2015/16"},{"$f":"Head11","v":"Budget Year +2 2016/17"}]
["Exemptions, reductions and rebates (Rands)"]
["[Insert lines as applicable]"]
[]
[]
[]
[]
[]
[]
[]
[]
["Water tariffs"]
["[Insert blocks as applicable]",null," (fill in thresholds)"]
[null,null," (fill in thresholds)"]
[null,null," (fill in thresholds)"]
[null,null," (fill in thresholds)"]
[null,null," (fill in thresholds)"]
[null,null," (fill in thresholds)"]
[null,null," (fill in thresholds)"]
[null,null," (fill in thresholds)"]
[null,null," (fill in thresholds)"]
[null,null," (fill in thresholds)"]
[]
["Waste water tariffs"]
["[Insert blocks as applicable]",null,"(fill in structure)"]
[null,null,"(fill in structure)"]
[null,null,"(fill in structure)"]
[null,null,"(fill in structure)"]
[null,null,"(fill in structure)"]
[null,null,"(fill in structure)"]
[null,null,"(fill in structure)"]
[null,null,"(fill in structure)"]
[null,null,"(fill in structure)"]
[]
["Electricity tariffs"]
["[Insert blocks as applicable]",null,"(fill in thresholds)"]
[null,null,"(fill in thresholds)",null,null,null,null,null,null,null,null,null,null,null,null,null,null,null,{"$f":"SUM(C39:R39)","v":0}]
[null,null,"(fill in thresholds)",null,null,null,null,null,null,null,null,null,null,null,null,null,null,null,{"$f":"SUM(C40:R40)","v":0}]
[null,null,"(fill in thresholds)"]
[null,null,"(fill in thresholds)"]
[null,null,"(fill in thresholds)"]
[null,null,"(fill in thresholds)"]
[null,null,"(fill in thresholds)"]
[null,null,"(fill in thresholds)"]
[null,null,"(fill in thresholds)"]
[null,null,"(fill in thresholds)"]
[null,null,"(fill in thresholds)"]
[null,null,"(fill in thresholds)"]

{"sheet":"SA14","index":34,"n_rows":53,"n_cols":12,"rows_kept":53,"cut":false,"hidden":false,"merged":[[1,1,3,1],[1,5,1,7],[1,0,2,0]]}
[{"$f":"muni&\" - \"&TableA14","v":"DC16 Xhariep - Supporting Table SA14 Household bills"}]
[{"$f":"desc","v":"Description"},{"$f":"head27","v":"Ref"},{"$f":"head1b","v":"2010/11"},{"$f":"head1A","v":"2011/12"},{"$f":"Head1","v":"2012/13"},{"$f":"Head2","v":"Current Year 2013/14"},null,null,{"$f":"Head3","v":"2014/15 Medium Term Revenue & Expenditure Framework"}]
[null,null,{"$f":"Head5","v":"Audited Outcome"},{"$f":"Head5","v":"Audited Outcome"},{"$f":"Head5","v":"Audited Outcome"},{"$f":"Head6","v":"Original Budget"},{"$f":"Head7","v":"Adjusted Budget"},{"$f":"Head8","v":"Full Year Forecast"},{"$f":"Head9","v":"Budget Year 2014/15"},{"$f":"Head9","v":"Budget Year 2014/15"},{"$f":"Head10","v":"Budget Year +1 2015/16"},{"$f":"Head11","v":"Budget Year +2 2016/17"}]
["Rand/cent",null,null,null,null,null,null,null,"% incr."]
["Monthly Account for Household - 'Middle Income Range'",1]
["Rates and services charges:"]
["Property rates"]
["Electricity: Basic levy"]
["Electricity: Consumption"]
["Water: Basic levy"]
["Water: Consumption"]
["Sanitation"]
["Refuse removal"]
["Other"]
["sub-total",null,{"$f":"SUM(C7:C14)","v":0},{"$f":"SUM(D7:D14)","v":0},{"$f":"SUM(E7:E14)","v":0},{"$f":"SUM(F7:F14)","v":0},{"$f":"SUM(G7:G14)","v":0},0,{"$f":"IF(ISERROR(ROUND((J15-F15)/F15,3)),0,(ROUND((J15-F15)/F15,3)))","v":0},0,0,0]
["VAT on Services"]
["Total large household bill:",null,{"$f":"SUM(C15:C16)","v":0},{"$f":"SUM(D15:D16)","v":0},{"$f":"SUM(E15:E16)","v":0},{"$f":"SUM(F15:F16)","v":0},{"$f":"SUM(G15:G16)","v":0},0,{"$f":"IF(ISERROR(ROUND((J17-F17)/F17,3)),0,(ROUND((J17-F17)/F17,3)))","v":0},0,0,0]
["% increase/-decrease",null,null,{"$f":"IF(ISERROR((D17/C17)-1),0,((D17/C17)-1))","v":0},{"$f":"IF(ISERROR((E17/D17)-1),0,((E17/D17)-1))","v":0},{"$f":"IF(ISERROR((F17/E17)-1),0,((F17/E17)-1))","v":0},{"$f":"IF(ISERROR((G17/F17)-1),0,((G17/F17)-1))","v":0},{"$f":"IF(ISERROR((H17/G17)-1),0,((H17/G17)-1))","v":0},null,{"$f":"IF(ISERROR((J17/H17)-1),0,((J17/H17)-1))","v":0},{"$f":"IF(ISERROR((K17/J17)-1),0,((K17/J17)-1))","v":0},{"$f":"IF(ISERROR((L17/K17)-1),0,((L17/K17)-1))","v":0}]
[]
["Monthly Account for Household - 'Affordable Range' ",2]
[{"$f":"A6","v":"Rates and services charges:"}]
[{"$f":"A7","v":"Property rates"}]
["Electricity: Basic levy"]
["Electricity: Consumption"]
["Water: Basic levy"]
["Water: Consumption"]
["Sanitation"]
["Refuse removal"]
["Other"]
["sub-total",null,{"$f":"SUM(C22:C29)","v":0},0,0,0,0,0,{"$f":"IF(ISERROR(ROUND((J30-F30)/F30,3)),0,(ROUND((J30-F30)/F30,3)))","v":0},{"$f":"SUM(J22:J29)","v":0},{"$f":"SUM(K22:K29)","v":0},{"$f":"SUM(L22:L29)","v":0}]
["VAT on Services"]
["Total small household bill:",null,{"$f":"SUM(C30:C31)","v":0},0,0,0,0,0,{"$f":"IF(ISERROR(ROUND((J32-F32)/F32,3)),0,(ROUND((J32-F32)/F32,3)))","v":0},{"$f":"SUM(J30:J31)","v":0},{"$f":"SUM(K30:K31)","v":0},{"$f":"SUM(L30:L31)","v":0}]
["% increase/-decrease",null,null,{"$f":"IF(ISERROR((D32/C32)-1),0,((D32/C32)-1))","v":0},{"$f":"IF(ISERROR((E32/D32)-1),0,((E32/D32)-1))","v":0},{"$f":"IF(ISERROR((F32/E32)-1),0,((F32/E32)-1))","v":0},{"$f":"IF(ISERROR((G32/F32)-1),0,((G32/F32)-1))","v":0},{"$f":"IF(ISERROR((H32/G32)-1),0,((H32/G32)-1))","v":0},null,{"$f":"IF(ISERROR((J32/H32)-1),0,((J32/H32)-1))","v":0},{"$f":"IF(ISERROR((K32/J32)-1),0,((K32/J32)-1))","v":0},{"$f":"IF(ISERROR((L32/K32)-1),0,((L32/K32)-1))","v":0}]
[null,null,null,null,{"$f":"IF(ISERROR((E33/D33)-1),0,((E33/D33)-1))","v":0},{"$f":"IF(ISERROR((F33/E33)-1),0,((F33/E33)-1))","v":0},{"$f":"IF(ISERROR((G33/F33)-1),0,((G33/F33)-1))","v":0},{"$f":"IF(ISERROR((H33/G33)-1),0,((H33/G33)-1))","v":0}]
["Monthly Account for Household - 'Indigent' Household receiving free basic services",3]
[{"$f":"A6","v":"Rates and services charges:"}]
[{"$f":"A7","v":"Property rates"},null,null,null,null,null,null,null,{"$f":"IF(J37>0,I13ROUND((J37-F37)/F37,3),\"\")","v":""}]
["Electricity: Basic levy",null,null,null,null,null,null,null,{"$f":"IF(J38>0,I13ROUND((J38-F38)/F38,3),\"\")","v":""}]
["Electricity: Consumption",null,null,null,null,null,null,null,""]
["Water: Basic levy",null,null,null,null,null,null,null,""]
["Water: Consumption",null,null,null,null,null,null,null,""]
["Sanitation",null,null,null,null,null,null,null,""]
["Refuse removal",null,null,null,null,null,null,null,""]
["Other",null,null,null,null,null,null,null,""]
["sub-total",null,{"$f":"SUM(C37:C44)","v":0},{"$f":"SUM(D37:D44)","v":0},{"$f":"SUM(E37:E44)","v":0},{"$f":"SUM(F37:F44)","v":0},{"$f":"SUM(G37:G44)","v":0},0,{"$f":"IF(ISERROR(ROUND((J45-F45)/F45,3)),0,(ROUND((J45-F45)/F45,3)))","v":0},0,0,0]
["VAT on Services",null,null,null,null,null,null,null,""]
["Total small household bill:",null,{"$f":"SUM(C45:C46)","v":0},{"$f":"SUM(D45:D46)","v":0},{"$f":"SUM(E45:E46)","v":0},{"$f":"SUM(F45:F46)","v":0},{"$f":"SUM(G45:G46)","v":0},0,{"$f":"IF(ISERROR(ROUND((J47-F47)/F47,3)),0,(ROUND((J47-F47)/F47,3)))","v":0},0,0,0]
[{"$f":"A18","v":"% increase/-decrease"},null,null,{"$f":"IF(ISERROR((D47/C47)-1),0,((D47/C47)-1))","v":0},{"$f":"IF(ISERROR((E47/D47)-1),0,((E47/D47)-1))","v":0},{"$f":"IF(ISERROR((F47/E47)-1),0,((F47/E47)-1))","v":0},{"$f":"IF(ISERROR((G47/F47)-1),0,((G47/F47)-1))","v":0},{"$f":"IF(ISERROR((H47/G47)-1),0,((H47/G47)-1))","v":0},null,{"$f":"IF(ISERROR((J47/H47)-1),0,((J47/H47)-1))","v":0},{"$f":"IF(ISERROR((K47/J47)-1),0,((K47/J47)-1))","v":0},{"$f":"IF(ISERROR((L47/K47)-1),0,((L47/K47)-1))","v":0}]
[]
[{"$f":"head27a","v":"References"}]
["1. Use as basis property value of R700 000, 1 000 kWh electricity and 30kl water"]
["2. Use as basis property value  of R500 000 and R700 000, 500 kWh electricity and 25kl water"]
["3. Use as basis property value of R 300 000, 350kWh electricity and 20kl water (50 kWh electricity and 6 kl water free)"]

{"sheet":"SA15","index":35,"n_rows":36,"n_cols":11,"rows_kept":36,"cut":false,"hidden":false,"merged":[[1,5,1,7],[1,8,1,10],[1,1,3,1],[1,0,2,0]]}
[{"$f":"muni&\" - \"&TableA15","v":"DC16 Xhariep - Supporting Table SA15 Investment particulars by type"}]
["Investment type",{"$f":"head27","v":"Ref"},{"$f":"head1b","v":"2010/11"},{"$f":"head1A","v":"2011/12"},{"$f":"Head1","v":"2012/13"},{"$f":"Head2","v":"Current Year 2013/14"},null,null,{"$f":"Head3","v":"2014/15 Medium Term Revenue & Expenditure Framework"}]
[null,null,{"$f":"Head5","v":"Audited Outcome"},{"$f":"Head5","v":"Audited Outcome"},{"$f":"Head5","v":"Audited Outcome"},{"$f":"Head6","v":"Original Budget"},{"$f":"Head7","v":"Adjusted Budget"},{"$f":"Head8","v":"Full Year Forecast"},{"$f":"Head9","v":"Budget Year 2014/15"},{"$f":"Head10","v":"Budget Year +1 2015/16"},{"$f":"Head11","v":"Budget Year +2 2016/17"}]
["R thousand"]
["Parent municipality"]
["Securities - National Government"]
["Listed Corporate Bonds"]
["Deposits - Bank"]
["Deposits - Public Investment Commissioners"]
["Deposits - Corporation for Public Deposits"]
["Bankers Acceptance Certificates"]
["Negotiable Certificates of Deposit - Banks"]
["Guaranteed Endowment Policies (sinking)"]
["Repurchase Agreements - Banks"]
["Municipal Bonds"]
[]
["Municipality sub-total",1,{"$f":"SUM(C6:C15)","v":0},0,0,0,0,0,0,0,0]
[]
["Entities"]
[{"$f":"A6","v":"Securities - National Government"}]
[{"$f":"A7","v":"Listed Corporate Bonds"}]
["Deposits - Bank"]
["Deposits - Public Investment Commissioners"]
["Deposits - Corporation for Public Deposits"]
["Bankers Acceptance Certificates"]
["Negotiable Certificates of Deposit - Banks"]
["Guaranteed Endowment Policies (sinking)"]
["Repurchase Agreements - Banks"]
[]
["Entities sub-total",null,{"$f":"SUM(C20:C29)","v":0},0,0,0,0,0,0,0,0]
[]
["Consolidated total:",null,{"$f":"C17+C30","v":0},0,0,0,0,0,0,0,0]
[]
[{"$f":"head27a","v":"References"}]
["1. Total investments must reconcile to Budgeted Financial Position ('current' call investment deposits plus 'non-current' investments)"]
["check investment balance",null,{"$f":"C17-'A6-FinPos'!C7-'A6-FinPos'!C16","v":0},{"$f":"D17-'A6-FinPos'!D7-'A6-FinPos'!D16","v":0},{"$f":"E17-'A6-FinPos'!E7-'A6-FinPos'!E16","v":0},{"$f":"F17-'A6-FinPos'!F7-'A6-FinPos'!F16","v":0},{"$f":"G17-'A6-FinPos'!G7-'A6-FinPos'!G16","v":0},{"$f":"H17-'A6-FinPos'!H7-'A6-FinPos'!H16","v":0},{"$f":"I17-'A6-FinPos'!J7-'A6-FinPos'!J16","v":0},{"$f":"J17-'A6-FinPos'!K7-'A6-FinPos'!K16","v":0},{"$f":"K17-'A6-FinPos'!L7-'A6-FinPos'!L16","v":0}]

{"sheet":"SA16","index":36,"n_rows":32,"n_cols":15,"rows_kept":32,"cut":false,"hidden":false,"merged":[[1,3,2,3],[1,9,2,9],[2,10,2,14]]}
[{"$f":"muni&\" - \"&TableA16","v":"DC16 Xhariep - Supporting Table SA16 Investment particulars by maturity"}]
["Investments by Maturity",{"$f":"head27","v":"Ref"},"Period of Investment","Type of Investment","Capital Guarantee\n(Yes/ No)","Variable or Fixed interest rate","Interest Rate \n3.","Commission Paid (Rands)","Commission Recipient","Expiry date of investment","Opening balance","Interest to be realised","Partial / Premature Withdrawal (4)","Investment Top Up","Closing Balance"]
["Name of institution & investment ID",1,"Yrs/Months"]
["Parent municipality"]
[null,null,null,null,null,null,null,null,null,null,null,null,null,null,{"$f":"SUM(K5:N5)","v":0}]
[null,null,null,null,null,null,null,null,null,null,null,null,null,null,{"$f":"SUM(K6:N6)","v":0}]
[null,null,null,null,null,null,null,null,null,null,null,null,null,null,0]
[null,null,null,null,null,null,null,null,null,null,null,null,null,null,0]
[null,null,null,null,null,null,null,null,null,null,null,null,null,null,0]
[null,null,null,null,null,null,null,null,null,null,null,null,null,null,0]
[null,null,null,null,null,null,null,null,null,null,null,null,null,null,0]
["Municipality sub-total",null,null,null,null,null,null,null,null,null,{"$f":"SUM(K5:K11)","v":0},null,{"$f":"SUM(M5:M11)","v":0},{"$f":"SUM(N5:N11)","v":0},{"$f":"SUM(O5:O11)","v":0}]
[]
["Entities"]
[null,null,null,null,null,null,null,null,null,null,null,null,null,null,{"$f":"SUM(K15:N15)","v":0}]
[null,null,null,null,null,null,null,null,null,null,null,null,null,null,{"$f":"SUM(K16:N16)","v":0}]
[null,null,null,null,null,null,null,null,null,null,null,null,null,null,0]
[null,null,null,null,null,null,null,null,null,null,null,null,null,null,0]
[null,null,null,null,null,null,null,null,null,null,null,null,null,null,0]
[null,null,null,null,null,null,null,null,null,null,null,null,null,null,0]
[null,null,null,null,null,null,null,null,null,null,null,null,null,null,0]
["Entities sub-total",null,null,null,null,null,null,null,null,null,{"$f":"SUM(K15:K21)","v":0},null,{"$f":"SUM(M15:M21)","v":0},{"$f":"SUM(N15:N21)","v":0},{"$f":"SUM(O15:O21)","v":0}]
[]
["TOTAL INVESTMENTS AND INTEREST",1,null,null,null,null,null,null,null,null,{"$f":"K12+K22","v":0},null,{"$f":"M12+M22","v":0},{"$f":"N12+N22","v":0},{"$f":"O12+O22","v":0}]
[]
[{"$f":"head27a","v":"References"}]
["1. Total investments must reconcile to all items in Table SA15 for the Current Year (30 June)"]
["2. List investments in expiry date order"]
["3. If 'variable' is selected in column F, input interest rate range"]
["4. Withdrawals to be entered as negative"]
["check"]
[null,null,null,null,null,null,null,null,null,null,null,null,"`"]

{"sheet":"SA17","index":37,"n_rows":71,"n_cols":45,"rows_kept":71,"cut":false,"hidden":false,"merged":[[1,5,1,7],[1,8,1,10]]}
[{"$f":"muni&\" - \"&TableA17","v":"DC16 Xhariep - Supporting Table SA17 Borrowing"}]
["Borrowing - Categorised by type",{"$f":"head27","v":"Ref"},{"$f":"head1b","v":"2010/11"},{"$f":"head1A","v":"2011/12"},{"$f":"Head1","v":"2012/13"},{"$f":"Head2","v":"Current Year 2013/14"},null,null,{"$f":"Head3","v":"2014/15 Medium Term Revenue & Expenditure Framework"}]
["R thousand",null,{"$f":"Head5","v":"Audited Outcome"},{"$f":"Head5","v":"Audited Outcome"},{"$f":"Head5","v":"Audited Outcome"},{"$f":"Head6","v":"Original Budget"},{"$f":"Head7","v":"Adjusted Budget"},{"$f":"Head8","v":"Full Year Forecast"},{"$f":"Head9","v":"Budget Year 2014/15"},{"$f":"Head10","v":"Budget Year +1 2015/16"},{"$f":"Head11","v":"Budget Year +2 2016/17"}]
["Parent municipality"]
["Long-Term Loans (annuity/reducing balance)"]
["Long-Term Loans (non-annuity)"]
["Local registered stock"]
["Instalment Credit"]
["Financial Leases",null,362289,null,0,701000,900000,900000,500000,{"$f":"I9*1.1","v":550000},{"$f":"J9*1.1","v":605000}]
["PPP liabilities"]
["Finance Granted By Cap Equipment Supplier"]
["Marketable Bonds"]
["Non-Marketable Bonds"]
["Bankers Acceptances"]
["Financial derivatives"]
["Other Securities"]
["Municipality sub-total",1,{"$f":"SUM(C5:C16)","v":362289},{"$f":"SUM(D5:D16)","v":0},0,701000,900000,900000,500000,550000,605000]
[]
["Entities"]
[{"$f":"A5","v":"Long-Term Loans (annuity/reducing balance)"}]
["Long-Term Loans (non-annuity)"]
["Local registered stock"]
["Instalment Credit"]
["Financial Leases"]
["PPP liabilities"]
["Finance Granted By Cap Equipment Supplier"]
["Marketable Bonds"]
["Non-Marketable Bonds"]
["Bankers Acceptances"]
["Financial derivatives"]
["Other Securities"]
["Entities sub-total",1,{"$f":"SUM(C20:C31)","v":0},{"$f":"SUM(D20:D31)","v":0},0,0,0,0,0,0,0]
[]
["Total Borrowing",1,{"$f":"C17+C32","v":362289},{"$f":"D17+D32","v":0},0,701000,900000,900000,500000,550000,605000]
[]
["Unspent Borrowing - Categorised by type"]
["Parent municipality"]
["Long-Term Loans (annuity/reducing balance)"]
["Long-Term Loans (non-annuity)"]
["Local registered stock"]
["Instalment Credit",null,null,null,null,null,null,null,null,null,null,null,null,null,null,null,null,null,null,null,null,null,null,null,null,null,null,null,null,null,null,null,null,null,null,null,null,null,null,null,null,null,439005000,null,539442200]
["Financial Leases"]
["PPP liabilities",null,null,null,null,null,null,null,null,null,null,null,null,null,null,null,null,null,null,null,null,null,0,null,0,null,null,0,null,0,null,null,0,null,0,null,null,0,null,0,null,null,1834701353,null,1241876995]
["Finance Granted By Cap Equipment Supplier",null,null,null,null,null,null,null,null,null,null,null,null,null,null,null,null,null,null,null,null,null,null,null,null,null,null,null,null,null,null,null,null,null,null,null,null,null,null,null,null,null,839041298,null,440387617]
["Marketable Bonds",null,null,null,null,null,null,null,null,null,null,null,null,null,null,null,null,null,null,null,null,null,null,null,null,null,null,null,null,null,null,null,null,null,null,null,null,null,null,null,null,null,976543638,null,782372961]
["Non-Marketable Bonds",null,null,null,null,null,null,null,null,null,null,null,null,null,null,null,null,null,null,null,null,null,null,null,null,null,null,null,null,null,null,null,null,null,null,null,null,null,null,null,null,null,19116417,null,19116417]
["Bankers Acceptances",null,null,null,null,null,null,null,null,null,null,null,null,null,null,null,null,null,null,null,null,null,null,null,null,null,null,null,null,null,null,null,null,null,null,null,null,null,null,null,null,null,2273706353,null,1781319195]
["Financial derivatives",null,null,null,null,null,null,null,null,null,null,null,null,null,null,null,null,null,null,null,null,null,null,null,null,null,null,null,null,null,null,null,null,null,null,null,null,null,null,null,null,null,180259232,null,140396729]
["Other Securities",null,null,null,null,null,null,null,null,null,null,null,null,null,null,null,null,null,null,null,null,null,null,null,null,null,null,null,null,null,null,null,null,null,null,null,null,null,null,null,null,null,125005000,null,100442200]
["Municipality sub-total",1,{"$f":"SUM(C38:C49)","v":0},{"$f":"SUM(D38:D49)","v":0},0,0,0,0,0,0,0,null,null,null,null,null,null,null,null,null,null,null,null,null,null,null,null,null,null,null,null,null,null,null,null,null,null,null,null,null,null,null,40341797,null,38954529]
[null,null,null,null,null,null,null,null,null,null,null,null,null,null,null,null,null,null,null,null,null,null,null,null,null,null,null,null,null,null,null,null,null,null,null,null,null,null,null,null,null,null,14912435,null,1000000]
["Entities"]
[{"$f":"A38","v":"Long-Term Loans (annuity/reducing balance)"}]
["Long-Term Loans (non-annuity)"]
["Local registered stock"]
["Instalment Credit"]
["Financial Leases"]
["PPP liabilities"]
["Finance Granted By Cap Equipment Supplier"]
["Marketable Bonds"]
["Non-Marketable Bonds"]
["Bankers Acceptances"]
["Financial derivatives"]
["Other Securities"]
["Entities sub-total",1,{"$f":"SUM(C53:C64)","v":0},{"$f":"SUM(D53:D64)","v":0},0,0,0,0,0,0,0]
[]
["Total Unspent Borrowing",1,{"$f":"C50+C65","v":0},{"$f":"D50+D65","v":0},0,0,0,0,0,0,0]
[]
[{"$f":"head27a","v":"References"}]
["1. Total borrowing must reconcile to Budgeted Financial Position (Borrowing - non-current)"]
["check borrowing balance",null,{"$f":"C34-'A6-FinPos'!C37","v":0},{"$f":"D34-'A6-FinPos'!D37","v":0},{"$f":"E34-'A6-FinPos'!E37","v":0},{"$f":"F34-'A6-FinPos'!F37","v":0},{"$f":"G34-'A6-FinPos'!G37","v":0},{"$f":"H34-'A6-FinPos'!H37","v":0},{"$f":"I34-'A6-FinPos'!J37","v":0},{"$f":"J34-'A6-FinPos'!K37","v":0},{"$f":"K34-'A6-FinPos'!L37","v":0}]

{"sheet":"SA18","index":38,"n_rows":53,"n_cols":11,"rows_kept":53,"cut":false,"hidden":false,"merged":[[1,5,1,7],[1,8,1,10]]}
[{"$f":"muni&\" - \"& TableA18","v":"DC16 Xhariep - Supporting Table SA18 Transfers and grant receipts"}]
[{"$f":"desc","v":"Description"},{"$f":"head27","v":"Ref"},{"$f":"head1b","v":"2010/11"},{"$f":"head1A","v":"2011/12"},{"$f":"Head1","v":"2012/13"},{"$f":"Head2","v":"Current Year 2013/14"},null,null,{"$f":"Head3","v":"2014/15 Medium Term Revenue & Expenditure Framework"}]
["R thousand",null,{"$f":"Head5","v":"Audited Outcome"},{"$f":"Head5","v":"Audited Outcome"},{"$f":"Head5","v":"Audited Outcome"},{"$f":"Head6","v":"Original Budget"},{"$f":"Head7","v":"Adjusted Budget"},{"$f":"Head8","v":"Full Year Forecast"},{"$f":"Head9","v":"Budget Year 2014/15"},{"$f":"Head10","v":"Budget Year +1 2015/16"},{"$f":"Head11","v":"Budget Year +2 2016/17"}]
["RECEIPTS:","1, 2"]
[]
["Operating Transfers and Grants"]
["National Government:",null,{"$f":"SUM(C8:C14)","v":15150679},{"$f":"SUM(D8:D14)","v":23154257},2848914,29944000,29339904.379999999,29339904.379999999,32992000,36291200,39920320.000000007]
["Local Government Equitable Share",{"$f":"IF(A8=\"  Levy replacement\",3,\"\")","v":""},13372000,20600321,22762,25535000,24903904.379999999,24903904.379999999,27876000,{"$f":"I8*1.1","v":30663600.000000004},{"$f":"J8*1.1","v":33729960.000000007}]
["Municipal Systems Improvement","",1000000,1250000,892620,1250000,890000,890000,934000,{"$f":"I9*1.1","v":1027400.0000000001},1130140.0000000002]
["EPWP Incentive","",0,357000,1045000,1000000,1000000,1000000,1080000,{"$f":"I10*1.1","v":1188000},1306800]
["Finance Management ","",778679,946936,888532,890000,1250000,1250000,1250000,{"$f":"I11*1.1","v":1375000},1512500.0000000002]
[null,"",null,null,null,null,null,null,null,{"$f":"I12*1.1","v":0},0]
[null,"",null,null,null,null,null,null,null,{"$f":"I13*1.1","v":0},0]
["Rural Roads and Assets Management Grant",null,0,0,null,1269000,1296000,1296000,1852000,{"$f":"I14*1.1","v":2037200.0000000002},2240920.0000000005]
["Provincial Government:",null,{"$f":"SUM(C16:C20)","v":27032779},{"$f":"SUM(D16:D20)","v":30474510.379999999},15000000,30000000,30000000,30000000,30000000,33000000.000000004,36300000.000000007]
["FS Provincial Government Financial Assistance ",{"$f":"IF(A16=\"  Housing\",4,\"\")","v":""},27032779,30000000,15000000,30000000,30000000,30000000]
["Provincial Infrastructure grant",{"$f":"IF(A17=\"  Housing\",4,\"\")","v":""},0,474510.38]
[null,{"$f":"IF(A18=\"  Housing\",4,\"\")","v":""}]
[null,{"$f":"IF(A19=\"  Housing\",4,\"\")","v":""}]
["Financial Assistance ",null,null,null,null,null,null,null,30000000,{"$f":"I20*1.1","v":33000000.000000004},{"$f":"J20*1.1","v":36300000.000000007}]
["District Municipality:",null,{"$f":"SUM(C22:C23)","v":0},{"$f":"SUM(D22:D23)","v":0},0,0,0,0,0,0,0]
["  [insert description]"]
[]
["Other grant providers:",null,{"$f":"SUM(C25:C26)","v":0},{"$f":"SUM(D25:D26)","v":0},0,0,0,0,0,0,0]
["  [insert description]"]
[]
["Total Operating Transfers and Grants",5,{"$f":"C7+C15+C21+C24","v":42183458},{"$f":"D7+D15+D21+D24","v":53628767.379999995},17848914,59944000,59339904.379999995,59339904.379999995,62992000,69291200,76220320.000000015]
[]
["Capital Transfers and Grants"]
[{"$f":"A7","v":"National Government:"},null,{"$f":"SUM(C31:C36)","v":0},{"$f":"SUM(D31:D36)","v":0},0,0,0,0,0,0,0]
[]
[]
[]
[]
[]
["  Other capital transfers/grants [insert desc]"]
[{"$f":"A15","v":"Provincial Government:"},null,{"$f":"SUM(C38)","v":0},{"$f":"SUM(D38)","v":0},0,0,0,0,0,0,0]
["Other capital transfers/grants [insert description]"]
[{"$f":"A21","v":"District Municipality:"},null,{"$f":"SUM(C40:C41)","v":0},0,0,0,0,0,0,0,0]
[{"$f":"A22","v":"  [insert description]"}]
[]
[{"$f":"A24","v":"Other grant providers:"},null,{"$f":"SUM(C43:C44)","v":0},{"$f":"SUM(D43:D44)","v":0},0,0,0,0,0,0,0]
[{"$f":"LEFT(A25,22)","v":"  [insert description]"}]
[]
["Total Capital Transfers and Grants",5,{"$f":"C30+C37+C39+C42","v":0},0,0,0,0,0,0,0,0]
["TOTAL RECEIPTS OF TRANSFERS & GRANTS",null,{"$f":"C27+C45","v":42183458},53628767.379999995,17848914,59944000,59339904.379999995,59339904.379999995,62992000,69291200,76220320.000000015]
[{"$f":"head27a","v":"References"}]
["1. Each transfer/grant is listed by name as gazetted together with the name of the transferring department or municipality, donor or other organisation"]
["2. Amounts actually RECEIVED; not revenue recognised (objective is to confirm grants transferred)"]
["3. Replacement of RSC levies"]
["4. Housing subsidies for housing where ownership transferred to organisations or persons outside the control of the municipality"]
["5. Total transfers and grants must reconcile to Budgeted Cash Flows"]
["6. Motor vehicle licensing refunds to be included under 'agency' services (Not Grant Receipts)"]

{"sheet":"SA19","index":39,"n_rows":49,"n_cols":11,"rows_kept":49,"cut":false,"hidden":false,"merged":[[1,5,1,7],[1,8,1,10]]}
[{"$f":"muni&\" - \"& TableA19","v":"DC16 Xhariep - Supporting Table SA19 Expenditure on transfers and grant programme"}]
[{"$f":"desc","v":"Description"},{"$f":"head27","v":"Ref"},{"$f":"head1b","v":"2010/11"},{"$f":"head1A","v":"2011/12"},{"$f":"Head1","v":"2012/13"},{"$f":"Head2","v":"Current Year 2013/14"},null,null,{"$f":"Head3","v":"2014/15 Medium Term Revenue & Expenditure Framework"}]
["R thousand",null,{"$f":"Head5","v":"Audited Outcome"},{"$f":"Head5","v":"Audited Outcome"},{"$f":"Head5","v":"Audited Outcome"},{"$f":"Head6","v":"Original Budget"},{"$f":"Head7","v":"Adjusted Budget"},{"$f":"Head8","v":"Full Year Forecast"},{"$f":"Head9","v":"Budget Year 2014/15"},{"$f":"Head10","v":"Budget Year +1 2015/16"},{"$f":"Head11","v":"Budget Year +2 2016/17"}]
["EXPENDITURE:",1]
[]
["Operating expenditure of Transfers and Grants"]
[{"$f":"'SA18'!A7","v":"National Government:"},null,{"$f":"SUM(C8:C14)","v":15150679},{"$f":"SUM(D8:D14)","v":23154257},2848914,29944000,29339904.379999999,29339904.379999999,32992000,36291200,39920320.000000007]
[{"$f":"IF('SA18'!A8=\"\",\"\",'SA18'!A8)","v":"Local Government Equitable Share"},null,13372000,20600321,22762,25535000,24903904.379999999,24903904.379999999,27876000,{"$f":"I8*1.1","v":30663600.000000004},{"$f":"J8*1.1","v":33729960.000000007}]
[{"$f":"IF('SA18'!A9=\"\",\"\",'SA18'!A9)","v":"Municipal Systems Improvement"},null,1000000,1250000,892620,1250000,890000,890000,934000,{"$f":"I9*1.1","v":1027400.0000000001},1130140.0000000002]
[{"$f":"IF('SA18'!A10=\"\",\"\",'SA18'!A10)","v":"EPWP Incentive"},null,0,357000,1045000,1000000,1000000,1000000,1080000,{"$f":"I10*1.1","v":1188000},1306800]
[{"$f":"IF('SA18'!A11=\"\",\"\",'SA18'!A11)","v":"Finance Management "},null,778679,946936,888532,890000,1250000,1250000,1250000,{"$f":"I11*1.1","v":1375000},1512500.0000000002]
[{"$f":"IF('SA18'!A12=\"\",\"\",'SA18'!A12)","v":""},null,null,null,null,null,null,null,null,{"$f":"I12*1.1","v":0},0]
[{"$f":"IF('SA18'!A13=\"\",\"\",'SA18'!A13)","v":""},null,null,null,null,null,null,null,null,{"$f":"I13*1.1","v":0},0]
[{"$f":"'SA18'!A14","v":"Rural Roads and Assets Management Grant"},null,null,null,0,1269000,1296000,1296000,1852000,{"$f":"I14*1.1","v":2037200.0000000002},2240920.0000000005]
[{"$f":"'SA18'!A15","v":"Provincial Government:"},null,{"$f":"SUM(C16:C20)","v":27032779},{"$f":"SUM(D16:D20)","v":30474510.379999999},15000000,30000000,30000000,30000000,30000000,33000000.000000004,36300000.000000007]
[{"$f":"IF('SA18'!A16=\"\",\"\",'SA18'!A16)","v":"FS Provincial Government Financial Assistance "},null,27032779,30000000,15000000,30000000,30000000,30000000]
[{"$f":"IF('SA18'!A17=\"\",\"\",'SA18'!A17)","v":"Provincial Infrastructure grant"},null,0,474510.38,0]
[{"$f":"IF('SA18'!A18=\"\",\"\",'SA18'!A18)","v":""}]
[{"$f":"IF('SA18'!A19=\"\",\"\",'SA18'!A19)","v":""}]
[{"$f":"'SA18'!A20","v":"Financial Assistance "},null,null,null,null,null,null,null,30000000,{"$f":"I20*1.1","v":33000000.000000004},{"$f":"J20*1.1","v":36300000.000000007}]
[{"$f":"'SA18'!A21","v":"District Municipality:"},null,{"$f":"SUM(C22:C23)","v":0},{"$f":"SUM(D22:D23)","v":0},0,0,0,0,0,0,0]
[{"$f":"'SA18'!A22","v":"  [insert description]"}]
[]
[{"$f":"'SA18'!A24","v":"Other grant providers:"},null,{"$f":"SUM(C25:C26)","v":0},{"$f":"SUM(D25:D26)","v":0},0,0,0,0,0,0,0]
[{"$f":"'SA18'!A25","v":"  [insert description]"}]
[]
["Total operating expenditure of Transfers and Grants:",null,{"$f":"C7+C15+C21+C24","v":42183458},53628767.379999995,17848914,59944000,59339904.379999995,59339904.379999995,62992000,69291200,76220320.000000015]
[]
["Capital expenditure of Transfers and Grants"]
[{"$f":"'SA18'!A30","v":"National Government:"},null,{"$f":"SUM(C31:C36)","v":0},{"$f":"SUM(D31:D36)","v":0},0,0,0,0,0,0,0]
[{"$f":"IF('SA18'!A31=\"\",\"\",'SA18'!A31)","v":""}]
[{"$f":"IF('SA18'!A32=\"\",\"\",'SA18'!A32)","v":""}]
[{"$f":"IF('SA18'!A33=\"\",\"\",'SA18'!A33)","v":""}]
[{"$f":"IF('SA18'!A34=\"\",\"\",'SA18'!A34)","v":""}]
[{"$f":"IF('SA18'!A35=\"\",\"\",'SA18'!A35)","v":""}]
[{"$f":"'SA18'!A36","v":"  Other capital transfers/grants [insert desc]"}]
[{"$f":"'SA18'!A37","v":"Provincial Government:"},null,{"$f":"SUM(C38)","v":0},{"$f":"SUM(D38)","v":0},0,0,0,0,0,0,0]
[{"$f":"'SA18'!A38","v":"Other capital transfers/grants [insert description]"}]
[{"$f":"'SA18'!A39","v":"District Municipality:"},null,{"$f":"SUM(C40:C41)","v":0},{"$f":"SUM(D40:D41)","v":0},0,0,0,0,0,0,0]
[{"$f":"'SA18'!A40","v":"  [insert description]"}]
[]
[{"$f":"'SA18'!A42","v":"Other grant providers:"},null,{"$f":"SUM(C43:C44)","v":0},{"$f":"SUM(D43:D44)","v":0},0,0,0,0,0,0,0]
[{"$f":"'SA18'!A43","v":"  [insert description]"}]
[]
["Total capital expenditure of Transfers and Grants",null,{"$f":"C30+C37+C39+C42","v":0},{"$f":"D30+D37+D39+D42","v":0},0,0,0,0,0,0,0]
[]
["TOTAL EXPENDITURE OF TRANSFERS AND GRANTS",null,{"$f":"C27+C45","v":42183458},53628767.379999995,17848914,59944000,59339904.379999995,59339904.379999995,62992000,69291200,76220320.000000015]
[{"$f":"head27a","v":"References"}]
["1. Expenditure must be separately listed for each transfer or grant received or recognised"]

{"sheet":"SA20","index":40,"n_rows":60,"n_cols":11,"rows_kept":60,"cut":false,"hidden":false,"merged":[[56,0,56,10],[1,5,1,7],[1,8,1,10],[54,0,54,10],[55,0,55,10]]}
[{"$f":"muni&\" - \"& TableA20","v":"DC16 Xhariep - Supporting Table SA20 Reconciliation of transfers, grant receipts and unspent funds"}]
[{"$f":"desc","v":"Description"},{"$f":"head27","v":"Ref"},{"$f":"head1b","v":"2010/11"},{"$f":"head1A","v":"2011/12"},{"$f":"Head1","v":"2012/13"},{"$f":"Head2","v":"Current Year 2013/14"},null,null,{"$f":"Head3","v":"2014/15 Medium Term Revenue & Expenditure Framework"}]
["R thousand",null,{"$f":"Head5","v":"Audited Outcome"},{"$f":"Head5","v":"Audited Outcome"},{"$f":"Head5","v":"Audited Outcome"},{"$f":"Head6","v":"Original Budget"},{"$f":"Head7","v":"Adjusted Budget"},{"$f":"Head8","v":"Full Year Forecast"},{"$f":"Head9","v":"Budget Year 2014/15"},{"$f":"Head10","v":"Budget Year +1 2015/16"},{"$f":"Head11","v":"Budget Year +2 2016/17"}]
["Operating transfers and grants:","1,3"]
[{"$f":"'SA18'!A7","v":"National Government:"}]
["Balance unspent at beginning of the year",null,28679,631447,1992053]
["Current year receipts",null,0,15150679,25588152,29971000,29339904.379999999,29339904.379999999,{"$f":"27876000+1250000+934000+1080000+1852000","v":32992000},{"$f":"I7*1.1","v":36291200},{"$f":"J7*1.1","v":39920320}]
["Conditions met - transferred to revenue",null,{"$f":"C6+C7-C9","v":28679},{"$f":"D6+D7-D9","v":15782126},27580205,29971000,29339904.379999999,29339904.379999999,32992000,36291200,39920320]
["Conditions still to be met - transferred to liabilities"]
["Provincial Government:"]
["Balance unspent at beginning of the year"]
[{"$f":"A7","v":"Current year receipts"},null,0,27032779,15000000,30000000,30000000,30000000,30000000,{"$f":"I12*1.1","v":33000000.000000004},{"$f":"J12*1.1","v":36300000.000000007}]
[{"$f":"A8","v":"Conditions met - transferred to revenue"},null,{"$f":"C11+C12-C14","v":0},27032779,15000000,30000000,30000000,30000000,30000000,33000000.000000004,36300000.000000007]
[{"$f":"A9","v":"Conditions still to be met - transferred to liabilities"}]
["District Municipality:"]
[{"$f":"A11","v":"Balance unspent at beginning of the year"}]
[{"$f":"A12","v":"Current year receipts"}]
[{"$f":"A13","v":"Conditions met - transferred to revenue"},null,{"$f":"C16+C17-C19","v":0},0,0,0,0,0,0,0,0]
[{"$f":"A14","v":"Conditions still to be met - transferred to liabilities"}]
["Other grant providers:"]
[{"$f":"A11","v":"Balance unspent at beginning of the year"}]
[{"$f":"A12","v":"Current year receipts"}]
[{"$f":"A13","v":"Conditions met - transferred to revenue"},null,{"$f":"C21+C22-C24","v":0},0,0,0,0,0,0,0,0]
[{"$f":"A14","v":"Conditions still to be met - transferred to liabilities"}]
["Total operating transfers and grants revenue",null,{"$f":"C8+C13+C18+C23","v":28679},42814905,42580205,59971000,59339904.379999995,59339904.379999995,62992000,69291200,76220320]
["Total operating transfers and grants - CTBM",2,0,0,0,0,0,0,0,0,0]
[]
["Capital transfers and grants:","1,3"]
[{"$f":"A5","v":"National Government:"}]
["Balance unspent at beginning of the year"]
["Current year receipts"]
["Conditions met - transferred to revenue",null,{"$f":"C30+C31-C33","v":0},0,0,0,0,0,0,0,0]
["Conditions still to be met - transferred to liabilities"]
["Provincial Government:"]
["Balance unspent at beginning of the year"]
[{"$f":"A31","v":"Current year receipts"}]
[{"$f":"A32","v":"Conditions met - transferred to revenue"},null,{"$f":"C35+C36-C38","v":0},0,0,0,0,0,0,0,0]
[{"$f":"A33","v":"Conditions still to be met - transferred to liabilities"}]
["District Municipality:"]
[{"$f":"A35","v":"Balance unspent at beginning of the year"}]
[{"$f":"A36","v":"Current year receipts"}]
[{"$f":"A37","v":"Conditions met - transferred to revenue"},null,{"$f":"C40+C41-C43","v":0},0,0,0,0,0,0,0,0]
[{"$f":"A38","v":"Conditions still to be met - transferred to liabilities"}]
["Other grant providers:"]
[{"$f":"A35","v":"Balance unspent at beginning of the year"}]
[{"$f":"A36","v":"Current year receipts"}]
[{"$f":"A37","v":"Conditions met - transferred to revenue"},null,{"$f":"C45+C46-C48","v":0},0,0,0,0,0,0,0,0]
[{"$f":"A38","v":"Conditions still to be met - transferred to liabilities"}]
["Total capital transfers and grants revenue",null,{"$f":"C32+C37+C42+C47","v":0},0,0,0,0,0,0,0,0]
["Total capital transfers and grants - CTBM",2,0,0,0,0,0,0,0,0,0]
[]
["TOTAL TRANSFERS AND GRANTS REVENUE",null,{"$f":"C25+C49","v":28679},42814905,42580205,59971000,59339904.379999995,59339904.379999995,62992000,69291200,76220320]
["TOTAL TRANSFERS AND GRANTS - CTBM",null,{"$f":"C26+C50","v":0},{"$f":"D26+D50","v":0},0,0,0,0,0,0,0]
[{"$f":"head27a","v":"References"}]
["1. Total capital transfers and grants revenue must reconcile to Budgeted Financial Performance and Financial Position; total recurrent grants revenue must reconcile to Budgeted Financial Performance"]
["2. CTBM = conditions to be met"]
["3. National Treasury database will require this reconciliation for each transfer/grant"]
[]
["Check opex",null,{"$f":"C25-'A4-FinPerf RE'!C19","v":-44857668},{"$f":"D25-'A4-FinPerf RE'!D19","v":-45439985},{"$f":"E25-'A4-FinPerf RE'!E19","v":3984053},{"$f":"F25-'A4-FinPerf RE'!F19","v":0},{"$f":"G25-'A4-FinPerf RE'!G19","v":-95.620000004768372},{"$f":"H25-'A4-FinPerf RE'!H19","v":-95.620000004768372},{"$f":"I25-'A4-FinPerf RE'!J19","v":0},{"$f":"J25-'A4-FinPerf RE'!K19","v":0},{"$f":"K25-'A4-FinPerf RE'!L19","v":0}]
["Check capex",null,{"$f":"C49-'A5-Capex'!C70","v":-5611378},{"$f":"D49-'A5-Capex'!D70","v":-7474889},{"$f":"E49-'A5-Capex'!E70","v":-20076711},{"$f":"F49-'A5-Capex'!F70","v":-3049696},{"$f":"G49-'A5-Capex'!G70","v":-1324579.697037037},{"$f":"H49-'A5-Capex'!H70","v":-1324579.69703704},{"$f":"I49-'A5-Capex'!J70","v":-1745000},{"$f":"J49-'A5-Capex'!K70","v":-715000},{"$f":"K49-'A5-Capex'!L70","v":-786500.00000000012}]

{"sheet":"SA21","index":41,"n_rows":73,"n_cols":12,"rows_kept":73,"cut":false,"hidden":false,"merged":[[1,9,1,11],[1,5,1,8]]}
[{"$f":"muni&\" - \"& TableA21","v":"DC16 Xhariep - Supporting Table SA21 Transfers and grants made by the municipality"}]
[{"$f":"desc","v":"Description"},{"$f":"head27","v":"Ref"},{"$f":"head1b","v":"2010/11"},{"$f":"head1A","v":"2011/12"},{"$f":"Head1","v":"2012/13"},{"$f":"Head2","v":"Current Year 2013/14"},null,null,null,{"$f":"Head3","v":"2014/15 Medium Term Revenue & Expenditure Framework"}]
["R thousand",null,{"$f":"Head5","v":"Audited Outcome"},{"$f":"Head5","v":"Audited Outcome"},{"$f":"Head5","v":"Audited Outcome"},{"$f":"Head6","v":"Original Budget"},{"$f":"Head7","v":"Adjusted Budget"},{"$f":"Head8","v":"Full Year Forecast"},{"$f":"Head5b","v":"Pre-audit outcome"},{"$f":"Head9","v":"Budget Year 2014/15"},{"$f":"Head10","v":"Budget Year +1 2015/16"},{"$f":"Head11","v":"Budget Year +2 2016/17"}]
[]
["Cash Transfers to other municipalities"]
["Naledi Local Municipality",1,null,null,null,null,1089978,1089978,1089978]
[]
[]
["Total Cash Transfers To Municipalities:",null,{"$f":"SUM(C6:C8)","v":0},{"$f":"SUM(D6:D8)","v":0},0,0,1089978,1089978,1089978,0,0,0]
[]
["Cash Transfers to Entities/Other External Mechanisms"]
[{"$f":"$A$6","v":"Naledi Local Municipality"},2]
[]
[]
["Total Cash Transfers To Entities/Ems'",null,{"$f":"SUM(C12:C14)","v":0},{"$f":"SUM(D12:D14)","v":0},0,0,0,0,0,0,0,0]
[]
["Cash Transfers to other Organs of State"]
[{"$f":"$A$6","v":"Naledi Local Municipality"},3]
[]
[]
["Total Cash Transfers To Other Organs Of State:",null,{"$f":"SUM(C18:C20)","v":0},{"$f":"SUM(D18:D20)","v":0},0,0,0,0,0,0,{"$f":"SUM(K18:K20)","v":0},0]
[]
["Cash Transfers to Organisations"]
[{"$f":"$A$6","v":"Naledi Local Municipality"},4]
[]
[]
["Total Cash Transfers To Organisations",null,{"$f":"SUM(C24:C26)","v":0},{"$f":"SUM(D24:D26)","v":0},0,0,0,0,0,0,{"$f":"SUM(K24:K26)","v":0},0]
[]
["Cash Transfers to Groups of Individuals"]
[{"$f":"$A$6","v":"Naledi Local Municipality"},5]
[]
[]
["Total Cash Transfers To Groups Of Individuals:",null,{"$f":"SUM(C30:C32)","v":0},{"$f":"SUM(D30:D32)","v":0},0,{"$f":"SUM(F30:F32)","v":0},0,{"$f":"SUM(H30:H32)","v":0},{"$f":"SUM(I30:I32)","v":0},0,{"$f":"SUM(K30:K32)","v":0},0]
["TOTAL CASH TRANSFERS AND GRANTS",6,{"$f":"C9+C15+C21+C27+C33","v":0},0,0,0,1089978,1089978,1089978,0,0,0]
[]
["Non-Cash Transfers to other municipalities"]
["Insert description",1]
[]
[]
["Total Non-Cash Transfers To Municipalities:",null,{"$f":"SUM(C37:C39)","v":0},{"$f":"SUM(D37:D39)","v":0},0,0,0,0,0,0,0,0]
[]
["Non-Cash Transfers to Entities/Other External Mechanisms"]
[{"$f":"$A$6","v":"Naledi Local Municipality"},2]
[]
[]
["Total Non-Cash Transfers To Entities/Ems'",null,{"$f":"SUM(C43:C45)","v":0},{"$f":"SUM(D43:D45)","v":0},0,0,0,0,0,0,0,0]
[]
["Non-Cash Transfers to other Organs of State"]
[{"$f":"$A$6","v":"Naledi Local Municipality"},3]
[]
[]
["Total Non-Cash Transfers To Other Organs Of State:",null,{"$f":"SUM(C49:C51)","v":0},{"$f":"SUM(D49:D51)","v":0},0,0,0,0,0,0,{"$f":"SUM(K49:K51)","v":0},{"$f":"SUM(L49:L51)","v":0}]
[]
["Non-Cash Grants to Organisations"]
[{"$f":"$A$6","v":"Naledi Local Municipality"},4]
[]
[]
["Total Non-Cash Grants To Organisations",null,{"$f":"SUM(C55:C57)","v":0},{"$f":"SUM(D55:D57)","v":0},0,0,0,0,0,0,{"$f":"SUM(K55:K57)","v":0},{"$f":"SUM(L55:L57)","v":0}]
[]
["Groups of Individuals"]
[{"$f":"$A$6","v":"Naledi Local Municipality"},5]
[]
[]
["Total Non-Cash Grants To Groups Of Individuals:",null,{"$f":"SUM(C61:C63)","v":0},0,0,0,0,0,0,0,0,0]
["TOTAL NON-CASH TRANSFERS AND GRANTS",null,{"$f":"C40+C46+C52+C58+C64","v":0},0,0,0,0,0,0,0,0,0]
["TOTAL TRANSFERS AND GRANTS",6,{"$f":"C34+C65","v":0},{"$f":"D34+D65","v":0},0,0,1089978,1089978,1089978,0,0,0]
[{"$f":"head27a","v":"References"}]
["1. Insert description listed by municipal name and demarcation code of recipient"]
["2. Insert description of each entity or external mechanism (an external mechanism may be provided with resources to ensure a minimum level of service)"]
["3. Insert description of each Organ of State (e.g. transfer to electricity provider to compensate for FBS provided)"]
["4. Insert description of each other organisation (e.g. charity)"]
["5 Insert description of each other organisation (e.g. the aged, child-headed households)"]
["6. All descriptions should separate transfers for 'capital purposes' and 'operating purposes'"]

{"sheet":"SA22","index":42,"n_rows":120,"n_cols":11,"rows_kept":120,"cut":false,"hidden":false,"merged":[[1,5,1,7],[1,8,1,10]]}
[{"$f":"muni&\" - \"&TableA22","v":"DC16 Xhariep - Supporting Table SA22 Summary councillor and staff benefits"}]
["Summary of Employee and Councillor remuneration",{"$f":"head27","v":"Ref"},{"$f":"head1b","v":"2010/11"},{"$f":"head1A","v":"2011/12"},{"$f":"Head1","v":"2012/13"},{"$f":"Head2","v":"Current Year 2013/14"},null,null,{"$f":"Head3","v":"2014/15 Medium Term Revenue & Expenditure Framework"}]
["R thousand",null,{"$f":"Head5","v":"Audited Outcome"},{"$f":"Head5","v":"Audited Outcome"},{"$f":"Head5","v":"Audited Outcome"},{"$f":"Head6","v":"Original Budget"},{"$f":"Head7","v":"Adjusted Budget"},{"$f":"Head8","v":"Full Year Forecast"},{"$f":"Head9","v":"Budget Year 2014/15"},{"$f":"Head10","v":"Budget Year +1 2015/16"},{"$f":"Head11","v":"Budget Year +2 2016/17"}]
[null,1,"A","B","C","D","E","F","G","H","I"]
["Councillors (Political Office Bearers plus Other)"]
["Basic Salaries and Wages",null,1419000,2019134.9040000006,null,1932715.8122,1932715.8122,1932715.8122,{"$f":"[5]Payroll!$B$21","v":3375355.7124000001},{"$f":"I6*1.07","v":3611630.6122680004},{"$f":"J6*1.07","v":3864444.7551267608}]
["Pension and UIF Contributions",null,210000,108347.47700000001,null,349241.74726454,349241.74726454,349241.74726454,{"$f":"[5]Payroll!$G$21","v":169022.16},{"$f":"I7*1.07","v":180853.71120000002},193513.47098400004]
["Medical Aid Contributions",null,35000,90210,null,117248.04000000001,117248.04000000001,117248.04000000001,{"$f":"[5]Payroll!$F$21","v":182463.83999999997},195236.30879999997,208902.85041599997]
["Motor Vehicle Allowance",null,370000,434951.64000000007,null,384107.20900000003,384107.20900000003,384107.20900000003,{"$f":"[5]Payroll!$C$21","v":352157.88},376808.93160000001,403185.55681200005]
["Cellphone Allowance",null,101000,118248.60000000002,null,125934.72000000002,125934.72000000002,125934.72000000002,{"$f":"[5]Payroll!$E$21","v":221088},236564.16,253123.65120000002]
["Housing Allowances",null,350000,null,null,263353.66440000001,263353.66440000001,263353.66440000001,{"$f":"[5]Payroll!$D$21","v":246124.91999999998},263353.66440000001,281788.42090800003]
["Other benefits and allowances",null,28000,null,null,66943.880822000006,66943.880822000006,66943.880822000006,{"$f":"[5]Payroll!$J$21+[5]Payroll!$I$21","v":100620.95999999999},107664.42719999999,115200.937104]
["Sub Total - Councillors",null,{"$f":"SUM(C6:C12)","v":2513000},2770892.6210000007,0,3239545.0736865406,3239545.0736865406,3239545.0736865406,4646833.4723999994,4972111.8154680002,5320159.6425507618]
["% increase",4,null,{"$f":"IF(ISERROR((D13/C13)-1),0,((D13/C13)-1))","v":0.10262340668523717},{"$f":"IF(ISERROR((E13/D13)-1),0,((E13/D13)-1))","v":-1},0,0,0,0.43440926633318644,7.0000000000000284E-2,7.0000000000000284E-2]
[]
["Senior Managers of the Municipality",2]
["Basic Salaries and Wages",null,1788000,2273217.7310000001,2816983,3143533.8106199997,1227071.5306199996,1227071.5306199996,{"$f":"[5]Payroll!$B$31","v":4018488.1488000005},{"$f":"I17*1.08","v":4339967.2007040009},{"$f":"J17*1.08","v":4687164.5767603209}]
["Pension and UIF Contributions",null,103000,212882,390830,312570.93,312570.93,312570.93,{"$f":"[5]Payroll!$H$31+[5]Payroll!$L$31","v":113626.56},{"$f":"I18*1.08","v":122716.6848},132534.01958400002]
["Medical Aid Contributions",null,44000,47577.599999999999,null,78321.599999999991,78321.599999999991,78321.599999999991,{"$f":"[5]Payroll!$G$31","v":52430.400000000001},56624.832000000002,61154.818560000007]
["Overtime",null,null,0,null,0,0,0,0,0,0]
["Performance Bonus",null,132000,0,179810,182217.47,182217.47,182217.47,{"$f":"[5]Payroll!$J$31","v":12231.29},13209.793200000002,14266.576656000003]
["Motor Vehicle Allowance",3,522000,329070,683412,326750,326750,326750,{"$f":"[5]Payroll!$E$31","v":194910.84},210503.7072,227344.00377600003]
["Cellphone Allowance",3,0,0,null,47200,47200,47200,{"$f":"[5]Payroll!$I$31","v":28800},31104.000000000004,33592.320000000007]
["Housing Allowances",3,29000,0,null,0,0,0,{"$f":"0","v":0},0,0]
["Other benefits and allowances",3,null,158463.18,null,39608.750000000007,39608.750000000007,39608.750000000007,{"$f":"[5]Payroll!$K$31+[5]Payroll!$M$31","v":40510.321488000009},43751.147207040012,{"$f":"J25*1.069","v":46769.976364325768}]
["Payments in lieu of leave",null,null,0,null,0,0,0]
["Long service awards",null,null,0,null,0,0,0]
["Post-retirement benefit obligations",6,null,0,null,0,0,0]
["Sub Total - Senior Managers of Municipality",null,{"$f":"SUM(C17:C28)","v":2618000},{"$f":"SUM(D17:D28)","v":3021210.5110000004},4071035,4130202.5606200001,2213740.2806199994,2213740.2806199994,4460997.5602880009,4817877.3651110418,5202826.2917006463]
[{"$f":"$A$14","v":"% increase"},{"$f":"$B$14","v":4},null,{"$f":"IF(ISERROR((D29/C29)-1),0,((D29/C29)-1))","v":0.15401471008403367},{"$f":"IF(ISERROR((E29/D29)-1),0,((E29/D29)-1))","v":0.34748472017347609},1.453378824303897E-2,-0.46401169237382711,0,1.015140438714254,8.0000000000000293E-2,7.9900108993482544E-2]
[]
["Other Municipal Staff"]
["Basic Salaries and Wages",null,null,15101429.442000002,null,19038323.481068004,18643323.481068004,18643323.481068004,{"$f":"26375151.43-I17","v":22356663.281199999},{"$f":"I33*1.069","v":23899273.047602799},{"$f":"J33*1.069","v":25548322.887887392}]
["Pension and UIF Contributions",null,null,2502255.3989070002,null,3429376.9548670566,3429376.9548670566,3429376.9548670566,{"$f":"4221686.72-I18","v":4108060.1599999997},{"$f":"I34*1.069","v":4391516.3110399991},4694530.9365017591]
["Medical Aid Contributions",null,null,1214931.8280000002,null,1717873.9038402839,1717873.9038402839,1717873.9038402839,{"$f":"1923998.58-I19","v":1871568.1800000002},2000706.38442,2138755.1249449798]
["Overtime",null,null,0,null,0,0,0,0,0,0]
["Performance Bonus",null,null,0,null,0,0,0,0,0,0]
["Motor Vehicle Allowance",3,null,2604045.8400000003,null,3736530.3942834004,3736530.3942834004,3736530.3942834004,{"$f":"3885542.14-I22","v":3690631.3000000003},3945284.8596999999,4217509.5150192995]
["Cellphone Allowance",3,null,259723.2,null,271986.11651000002,271986.11651000002,271986.11651000002,{"$f":"329496-I23","v":300696},321444.02399999998,343623.66165599995]
["Housing Allowances",3,null,249315.20400000003,null,301114.87359999999,301114.87359999999,301114.87359999999,282245.15999999997,301720.07603999996,322538.76128675992]
["Other benefits and allowances",3,null,2382608.0857375897,null,1762130.5850135465,1762130.5850135465,1762130.5850135465,{"$f":"2134454.63-I25","v":2093944.3085119999},2238426.4657993279,2392877.8919394813]
["Payments in lieu of leave",null,null,0,null,0,0,0,0,{"$f":"I42*1.1","v":0},0]
["Long service awards",null,null,0,null,23467.625999999997,23467.625999999997,23467.625999999997,0,{"$f":"I43*1.1","v":0},0]
["Post-retirement benefit obligations",6,null,0,null,null,0,0,0,{"$f":"I44*1.1","v":0},0]
["Sub Total - Other Municipal Staff",null,{"$f":"SUM(C33:C44)","v":0},24314308.99864459,0,30280803.935182288,29885803.935182288,29885803.935182288,34703808.389711998,37098371.168602124,39658158.779235676]
[{"$f":"$A$14","v":"% increase"},{"$f":"$B$14","v":4},null,{"$f":"IF(ISERROR((D45/C45)-1),0,((D45/C45)-1))","v":0},{"$f":"IF(ISERROR((E45/D45)-1),0,((E45/D45)-1))","v":-1},0,-1.3044567800957974E-2,0,0.16121381459167772,6.899999999999995E-2,6.9000000000000172E-2]
[]
["Total Parent Municipality",null,{"$f":"C13+C29+C45","v":5131000},30106412.13064459,4071035,37650551.569488831,35339089.28948883,35339089.28948883,43811639.422399998,46888360.349181168,50181144.713487089]
[null,null,null,{"$f":"IF(ISERROR((D48/C48)-1),0,((D48/C48)-1))","v":4.867552549336307},{"$f":"IF(ISERROR((E48/D48)-1),0,((E48/D48)-1))","v":-0.86477847369078586},8.2483979060580008,-6.139252105600379E-2,0,0.23975009835443672,7.0226108115189811E-2,7.0226050554643038E-2]
[]
["Board Members of Entities"]
["Basic Salaries and Wages"]
["Pension and UIF Contributions"]
["Medical Aid Contributions"]
["Overtime"]
["Performance Bonus"]
["Motor Vehicle Allowance",3]
["Cellphone Allowance",3]
["Housing Allowances",3]
["Other benefits and allowances",3]
["Board Fees"]
["Payments in lieu of leave"]
["Long service awards"]
["Post-retirement benefit obligations",6]
["Sub Total - Board Members of Entities",null,{"$f":"SUM(C52:C64)","v":0},{"$f":"SUM(D52:D64)","v":0},0,0,0,0,0,0,0]
[{"$f":"$A$14","v":"% increase"},{"$f":"$B$14","v":4},null,{"$f":"IF(ISERROR((D65/C65)-1),0,((D65/C65)-1))","v":0},{"$f":"IF(ISERROR((E65/D65)-1),0,((E65/D65)-1))","v":0},0,0,0,0,0,0]
[]
["Senior Managers of Entities"]
["Basic Salaries and Wages"]
["Pension and UIF Contributions"]
["Medical Aid Contributions"]
["Overtime"]
["Performance Bonus"]
["Motor Vehicle Allowance",3]
["Cellphone Allowance",3]
["Housing Allowances",3]
["Other benefits and allowances",3]
["Payments in lieu of leave"]
["Long service awards"]
["Post-retirement benefit obligations",6]
["Sub Total - Senior Managers of Entities",null,{"$f":"SUM(C69:C80)","v":0},{"$f":"SUM(D69:D80)","v":0},0,0,0,0,0,0,0]
[{"$f":"$A$14","v":"% increase"},{"$f":"$B$14","v":4},null,{"$f":"IF(ISERROR((D81/C81)-1),0,((D81/C81)-1))","v":0},{"$f":"IF(ISERROR((E81/D81)-1),0,((E81/D81)-1))","v":0},0,0,0,0,0,0]
[]
["Other Staff of Entities"]
["Basic Salaries and Wages"]
["Pension and UIF Contributions"]
["Medical Aid Contributions"]
["Overtime"]
["Performance Bonus"]
["Motor Vehicle Allowance",3]
["Cellphone Allowance",3]
["Housing Allowances",3]
["Other benefits and allowances",3]
["Payments in lieu of leave"]
["Long service awards"]
["Post-retirement benefit obligations",6]
["Sub Total - Other Staff of Entities",null,{"$f":"SUM(C85:C96)","v":0},{"$f":"SUM(D85:D96)","v":0},0,0,0,0,0,0,0]
[{"$f":"$A$14","v":"% increase"},{"$f":"$B$14","v":4},null,{"$f":"IF(ISERROR((D97/C97)-1),0,((D97/C97)-1))","v":0},{"$f":"IF(ISERROR((E97/D97)-1),0,((E97/D97)-1))","v":0},0,0,0,0,0,0]
[]
["Total Municipal Entities",null,{"$f":"C65+C81+C97","v":0},{"$f":"D65+D81+D97","v":0},0,0,0,0,0,0,0]
[]
["TOTAL SALARY, ALLOWANCES & BENEFITS",null,{"$f":"C48+C100","v":5131000},{"$f":"D48+D100","v":30106412.13064459},{"$f":"E48+E100","v":4071035},37650551.569488831,35339089.28948883,35339089.28948883,43811639.422399998,46888360.349181168,50181144.713487089]
[{"$f":"$A$14","v":"% increase"},{"$f":"$B$14","v":4},null,{"$f":"IF(ISERROR((D102/C102)-1),0,((D102/C102)-1))","v":4.867552549336307},{"$f":"IF(ISERROR((E102/D102)-1),0,((E102/D102)-1))","v":-0.86477847369078586},8.2483979060580008,-6.139252105600379E-2,0,0.23975009835443672,7.0226108115189811E-2,7.0226050554643038E-2]
["TOTAL MANAGERS AND STAFF","5,7",{"$f":"C29+C45+C81+C97","v":2618000},27335519.50964459,4071035,34411006.495802291,32099544.21580229,32099544.21580229,39164805.950000003,41916248.533713162,44860985.070936322]
[{"$f":"head27a","v":"References"}]
["1. Include 'Loans and advances' where applicable if any reportable amounts until phased compliance with s164 of MFMA achieved"]
["2. s57 of the Systems Act"]
["3. In kind benefits (e.g. provision of living quarters) must be shown as the cost (full market value) to the municipality, as part of the relevant allowance"]
["4. B/A, C/B, D/C, E/C, F/C, G/D, H/D, I/D"]
["5. Must agree to the sub-total appearing on Table A1 (Employee costs)"]
["6. Includes pension payments and employer contributions to medical aid"]
["7. Correct as at 30 June"]
[]
["Column Definitions:"]
["A, B and C. Audited actual as per the audited financial statements. If audited amounts are unavailable, unaudited amounts must be provided with a note stating these are unaudited"]
["D. The original budget approved by council for the budget year."]
["E. The budget for the budget year as adjusted by council resolution in terms of section 28 of the MFMA."]
["F. An estimate of final actual amounts (pre audit) for the current year at the point in time of preparing the budget for the budget year. This may differ from E."]
["G. The amount to be appropriated for the budget year."]
["H and I. The indicative projection"]

{"sheet":"SA23","index":43,"n_rows":70,"n_cols":9,"rows_kept":70,"cut":false,"hidden":false,"merged":[[1,2,2,2],[1,5,2,5],[1,3,2,3],[1,6,2,6]]}
[{"$f":"muni&\" - \"&TableA23","v":"DC16 Xhariep - Supporting Table SA23 Salaries, allowances & benefits (political office bearers/councillors/senior managers)"}]
["Disclosure of Salaries, Allowances & Benefits 1.",{"$f":"head27","v":"Ref"},"No.","Salary","\nContributions\n","Allowances","Performance  Bonuses","In-kind benefits","Total Package"]
["Rand per annum",null,null,null,"1.",null,null,null,"2."]
["Councillors",3]
["Speaker",4,null,{"$f":"[5]Payroll!$B$10","v":268603.94039999996},{"$f":"[5]Payroll!$J$10+[5]Payroll!$F$10","v":36197.4},{"$f":"[5]Payroll!$E$10+[5]Payroll!$C$10","v":71808.240000000005},null,null,{"$f":"SUM(D5:F5)","v":376609.58039999998}]
["Chief Whip",null,null,{"$f":"[5]Payroll!$B$19","v":172928.34960000002},{"$f":"[5]Payroll!$G$19+[5]Payroll!$F$19+[5]Payroll!$J$19","v":48720.6},{"$f":"[5]Payroll!$C$19+[5]Payroll!$E$19+[5]Payroll!$D$19","v":135055.44},null,null,356704.38959999999]
["Executive Mayor",null,null,{"$f":"[5]Payroll!$B$18","v":485525.08319999999},{"$f":"[5]Payroll!$G$18+[5]Payroll!$J$18","v":74883.12000000001},{"$f":"[5]Payroll!$C$18+[5]Payroll!$E$18+[5]Payroll!$D$18","v":180468},null,null,740876.20319999999]
["Deputy Executive Mayor",null,null,null,null,null,null,null,0]
["Executive Committee",null,null,{"$f":"[5]Payroll!$B$9+[5]Payroll!$B$11","v":749731.45200000005},{"$f":"[5]Payroll!$F$11+[5]Payroll!$J$11+[5]Payroll!$F$9+[5]Payroll!$J$9","v":34208.400000000001},{"$f":"[5]Payroll!$C$11+[5]Payroll!$E$11+[5]Payroll!$C$9+[5]Payroll!$E$9","v":127855.44},null,null,911795.29200000013]
["Total for all other councillors",null,null,{"$f":"[5]Payroll!$B$21-D5-D6-D7-D9","v":1698566.8872000002},{"$f":"[5]Payroll!$F$21+[5]Payroll!$G$21+[5]Payroll!$J$21-E9-E7-E6-E5+312148","v":504222.16},{"$f":"[5]Payroll!$C$21+[5]Payroll!$E$21-F9-F7-F6-F5","v":58058.759999999995},null,null,2260847.8072000002]
[{"$f":"\"Total \"&A4","v":"Total Councillors"},8,{"$f":"SUM(C5:C10)","v":0},3375355.7124000005,698231.67999999993,573245.88,null,null,4646833.2724000011]
[]
["Senior Managers of the Municipality",5]
["Municipal Manager (MM)",null,null,{"$f":"[5]Payroll!$B$28","v":1152906.6960000002},{"$f":"[5]Payroll!$G$28+[5]Payroll!$K$28+[5]Payroll!$L$28+[5]Payroll!$M$28","v":36672.666960000002},{"$f":"[5]Payroll!$E$28+[5]Payroll!$I$28","v":93600},{"$f":"[5]Payroll!$J$28","v":7552.78},null,{"$f":"SUM(D14:H14)","v":1290732.1429600003}]
["Chief Finance Officer",null,null,{"$f":"[5]Payroll!$B$29","v":1041251.2416000001},{"$f":"[5]Payroll!$K$29+[5]Payroll!$L$29+[5]Payroll!$M$29","v":12278.512416000001},{"$f":"[5]Payroll!$I$29","v":9600},0,null,1063129.7540160001]
["Director Corporate Service",null,null,{"$f":"[5]Payroll!$B$30","v":1051508.4336000001},{"$f":"[5]Payroll!$K$30+[5]Payroll!$L$30+[5]Payroll!$M$30","v":12381.084336000002},{"$f":"[5]Payroll!$E$30","v":0},0,null,1063889.5179360001]
["Director Planning and Social Development",null,null,{"$f":"[5]Payroll!$B$27","v":772821.77760000003},{"$f":"[5]Payroll!$G$27+[5]Payroll!$H$27+[5]Payroll!$K$27+[5]Payroll!$L$27+[5]Payroll!$M$27","v":145235.01777599999},{"$f":"[5]Payroll!$E$27+[5]Payroll!$I$27","v":120510.84},{"$f":"[5]Payroll!$J$27","v":4678.51},null,1043246.145376]
[null,null,null,null,null,null,null,null,0]
[null,null,null,null,null,null,null,null,0]
[]
["List of each offical with packages >= senior manager"]
[null,null,null,null,null,null,null,null,{"$f":"SUM(D22:H22)","v":0}]
[null,null,null,null,null,null,null,null,{"$f":"SUM(D23:H23)","v":0}]
[null,null,null,null,null,null,null,null,0]
[null,null,null,null,null,null,null,null,0]
[null,null,null,null,null,null,null,null,0]
[null,null,null,null,null,null,null,null,0]
[null,null,null,null,null,null,null,null,0]
[null,null,null,null,null,null,null,null,0]
[null,null,null,null,null,null,null,null,0]
[null,null,null,null,null,null,null,null,0]
[null,null,null,null,null,null,null,null,0]
[null,null,null,null,null,null,null,null,{"$f":"SUM(D33:H33)","v":0}]
[null,null,null,null,null,null,null,null,{"$f":"SUM(D34:H34)","v":0}]
[{"$f":"\"Total \"&A13","v":"Total Senior Managers of the Municipality"},"8,10",{"$f":"SUM(C14:C34)","v":0},{"$f":"SUM(D14:D34)","v":4018488.1488000005},{"$f":"SUM(E14:E34)","v":206567.28148800001},{"$f":"SUM(F14:F34)","v":223710.84},{"$f":"SUM(G14:G34)","v":12231.29},null,{"$f":"SUM(I14:I34)","v":4460997.5602880009}]
[]
["A Heading for Each Entity","6,7"]
["List each member of board by designation"]
[null,null,null,null,null,null,null,null,{"$f":"SUM(D39:G39)","v":0}]
[null,null,null,null,null,null,null,null,{"$f":"SUM(D40:G40)","v":0}]
[null,null,null,null,null,null,null,null,0]
[null,null,null,null,null,null,null,null,0]
[null,null,null,null,null,null,null,null,0]
[null,null,null,null,null,null,null,null,0]
[null,null,null,null,null,null,null,null,0]
[null,null,null,null,null,null,null,null,0]
[null,null,null,null,null,null,null,null,0]
[null,null,null,null,null,null,null,null,0]
[null,null,null,null,null,null,null,null,0]
[null,null,null,null,null,null,null,null,0]
[null,null,null,null,null,null,null,null,0]
[null,null,null,null,null,null,null,null,0]
[null,null,null,null,null,null,null,null,0]
[null,null,null,null,null,null,null,null,0]
["Total for municipal entities","8,10",{"$f":"SUM(C38:C54)","v":0},{"$f":"SUM(D39:D54)","v":0},0,0,0,null,0]
[]
["TOTAL COST OF COUNCILLOR, DIRECTOR and EXECUTIVE REMUNERATION",10,{"$f":"C11+C35+C55","v":0},7393843.8612000011,904798.96148799988,796956.72,12231.29,null,9107830.8326880019]
[]
[{"$f":"head27a","v":"References"}]
["1. Pension and medical aid"]
["2. Total package must equal the total cost to the municipality"]
["3. List each political office bearer by designation. Provide a total for all other councillors"]
["4. Political office bearer is defined in MFMA s 1: speaker, executive mayor, deputy executive mayor, member of executive committee,"]
["    mayor, deputy mayor, member of mayoral committee, the councillor designated to exercise powers and duties of mayor (MSA s 57)"]
["5. Also list each senior manager reporting to MM by designation and each official with package >= senior manager by designation"]
["6. List each entity where municipality has an interest and state percentage ownership and control"]
["7. List each senior manager reporting to the CEO of an Entity by designation"]
["8. Must reconcile to relevant section of Table SA24"]
["9. Must reconcile to totals shown for the budget year of Table SA22"]
["10. Correct as at 30 June"]

{"sheet":"SA24","index":44,"n_rows":53,"n_cols":11,"rows_kept":53,"cut":false,"hidden":false,"merged":[[1,5,1,7],[1,8,1,10],[1,2,1,4]]}
[{"$f":"muni&\" - \"&TableA24","v":"DC16 Xhariep - Supporting Table SA24 Summary of personnel numbers"}]
["Summary of Personnel Numbers",{"$f":"head27","v":"Ref"},{"$f":"Head1","v":"2012/13"},null,null,{"$f":"Head2","v":"Current Year 2013/14"},null,null,{"$f":"Head9","v":"Budget Year 2014/15"}]
["Number","1,2","Positions","Permanent employees","Contract employees","Positions","Permanent employees","Contract employees","Positions","Permanent employees","Contract employees"]
["Municipal Council and Boards of Municipal Entities"]
["Councillors (Political Office Bearers plus Other Councillors)",null,16,0,16,16,0,16,16,null,16]
["Board Members of municipal entities",4,0,0,0,0,0,0,null,null,0]
["Municipal employees",5,0,0,0,0,0,0]
["Municipal Manager and Senior Managers",3,4,0,4,4,0,4,4,0,4]
["Other Managers",7,12,12,0,14,14,0,14,14,0]
["Professionals",null,{"$f":"SUM(C11:C19)","v":0},{"$f":"SUM(D11:D19)","v":0},0,26,22,4,24,22,2]
["Finance",null,null,null,null,5,5,0,4,4,0]
["Spatial/town planning"]
["Information Technology",null,null,null,null,2,2,0,1,1,0]
["Roads"]
["Electricity"]
["Water"]
["Sanitation"]
["Refuse"]
["Other",null,null,null,null,19,15,4,19,17,2]
["Technicians",null,{"$f":"SUM(C21:C29)","v":0},{"$f":"SUM(D21:D29)","v":0},0,0,0,0,0,0,0]
["Finance"]
["Spatial/town planning"]
["Information Technology"]
["Roads"]
["Electricity"]
["Water"]
["Sanitation"]
["Refuse"]
["Other"]
["Clerks (Clerical and administrative)",null,null,null,null,40,37,3,39,32,7]
["Service and sales workers"]
["Skilled agricultural and fishery workers"]
["Craft and related trades"]
["Plant and Machine Operators"]
["Elementary Occupations",null,null,null,null,13,11,2,13,11,2]
["TOTAL PERSONNEL NUMBERS",9,{"$f":"SUM(C5:C9)+SUM(C11:C19)+SUM(C21:C35)","v":32},{"$f":"SUM(D5:D9)+SUM(D11:D19)+SUM(D21:D35)","v":12},20,113,84,{"$f":"SUM(H5:H9)+SUM(H11:H19)+SUM(H21:H35)","v":29},110,79,31]
["% increase",null,null,null,null,{"$f":"IF(ISERROR((F36/C36)-1),0,((F36/C36)-1))","v":2.53125},6,0.44999999999999996,-2.6548672566371723E-2,-5.9523809523809534E-2,6.8965517241379226E-2]
[]
["Total municipal employees headcount","6, 10",82,69,13]
["Finance personnel headcount","8, 10",17,16,1]
["Human Resources personnel headcount","8, 10",6,6,0]
[]
[{"$f":"head27a","v":"References"}]
["1. Positions must be funded and aligned to the municipality's current organisational structure"]
["2. Full Time Equivalent (FTE). E.g. One full time person = 1FTE. A person working half time (say 4 hours out of 8) = 0.5FTE."]
["3. s57 of the Systems Act"]
["4. Include only in Consolidated Statements"]
["5. Include municipal entity employees in Consolidated Statements"]
["6.  Include headcount (number fo persons, Not FTE) of managers and staff only (exclude councillors)"]
["7. Managers who provide the direction of a critical technical function"]
["8. Total number of employees working on these functions"]
["9. Correct as at 30 June"]
["10. Must account for all budgeted positions, as per the municipal organogram"]

{"sheet":"SA25","index":45,"n_rows":49,"n_cols":17,"rows_kept":49,"cut":false,"hidden":false,"merged":[[1,2,1,13],[1,14,1,16]]}
[{"$f":"muni&\" - \"& TableA25","v":"DC16 Xhariep - Supporting Table SA25 Budgeted monthly revenue and expenditure"}]
[{"$f":"desc","v":"Description"},{"$f":"head27","v":"Ref"},{"$f":"Head9","v":"Budget Year 2014/15"},null,null,null,null,null,null,null,null,null,null,null,"Medium Term Revenue and Expenditure Framework"]
["R thousand",null,"July","August","Sept.","October","November","December","January","February","March","April","May","June",{"$f":"Head9","v":"Budget Year 2014/15"},{"$f":"Head10","v":"Budget Year +1 2015/16"},{"$f":"Head11","v":"Budget Year +2 2016/17"}]
[{"$f":"'A4-FinPerf RE'!A4","v":"Revenue By Source"}]
[{"$f":"'A4-FinPerf RE'!A5","v":"Property rates"},null,null,null,null,null,null,null,null,null,null,null,null,{"$f":"O5-SUM(C5:M5)","v":0},{"$f":"'A4-FinPerf RE'!J5","v":0},{"$f":"'A4-FinPerf RE'!K5","v":0},{"$f":"'A4-FinPerf RE'!L5","v":0}]
[{"$f":"'A4-FinPerf RE'!A6","v":"Property rates - penalties & collection charges"},null,null,null,null,null,null,null,null,null,null,null,null,0,{"$f":"'A4-FinPerf RE'!J6","v":0},{"$f":"'A4-FinPerf RE'!K6","v":0},{"$f":"'A4-FinPerf RE'!L6","v":0}]
[{"$f":"'A4-FinPerf RE'!A7","v":"Service charges - electricity revenue"},null,null,null,null,null,null,null,null,null,null,null,null,0,{"$f":"'A4-FinPerf RE'!J7","v":0},{"$f":"'A4-FinPerf RE'!K7","v":0},{"$f":"'A4-FinPerf RE'!L7","v":0}]
[{"$f":"'A4-FinPerf RE'!A8","v":"Service charges - water revenue"},null,null,null,null,null,null,null,null,null,null,null,null,0,{"$f":"'A4-FinPerf RE'!J8","v":0},{"$f":"'A4-FinPerf RE'!K8","v":0},{"$f":"'A4-FinPerf RE'!L8","v":0}]
[{"$f":"'A4-FinPerf RE'!A9","v":"Service charges - sanitation revenue"},null,null,null,null,null,null,null,null,null,null,null,null,0,{"$f":"'A4-FinPerf RE'!J9","v":0},{"$f":"'A4-FinPerf RE'!K9","v":0},{"$f":"'A4-FinPerf RE'!L9","v":0}]
[{"$f":"'A4-FinPerf RE'!A10","v":"Service charges - refuse revenue"},null,null,null,null,null,null,null,null,null,null,null,null,0,{"$f":"'A4-FinPerf RE'!J10","v":0},{"$f":"'A4-FinPerf RE'!K10","v":0},{"$f":"'A4-FinPerf RE'!L10","v":0}]
[{"$f":"'A4-FinPerf RE'!A11","v":"Service charges - other"},null,null,null,null,null,null,null,null,null,null,null,null,0,{"$f":"'A4-FinPerf RE'!J11","v":0},{"$f":"'A4-FinPerf RE'!K11","v":0},{"$f":"'A4-FinPerf RE'!L11","v":0}]
[{"$f":"'A4-FinPerf RE'!A12","v":"Rental of facilities and equipment"},null,39047.160000000003,39047.160000000003,39047.160000000003,39047.160000000003,39047.160000000003,39047.160000000003,39047.160000000003,39047.160000000003,39047.160000000003,39047.160000000003,39047.160000000003,39047.119999999879,{"$f":"'A4-FinPerf RE'!J12","v":468565.88},{"$f":"'A4-FinPerf RE'!K12","v":515422.46800000005},{"$f":"'A4-FinPerf RE'!L12","v":566964.71480000007}]
[{"$f":"'A4-FinPerf RE'!A13","v":"Interest earned - external investments"},null,316.67,{"$f":"316.67+50000","v":50316.67},316.67,316.67,316.67,{"$f":"316.67+50000","v":50316.67},316.67,316.67,316.67,316.67,316.67,316.63000000001921,{"$f":"'A4-FinPerf RE'!J13","v":103800},{"$f":"'A4-FinPerf RE'!K13","v":114180.00000000001},{"$f":"'A4-FinPerf RE'!L13","v":125598.00000000003}]
[{"$f":"'A4-FinPerf RE'!A14","v":"Interest earned - outstanding debtors"},null,1000.58,1000.58,1000.58,1000.58,1000.58,1000.58,1000.58,1000.58,1000.58,1000.58,1000.58,1000.619999999999,{"$f":"'A4-FinPerf RE'!J14","v":12007},{"$f":"'A4-FinPerf RE'!K14","v":13207.7},{"$f":"'A4-FinPerf RE'!L14","v":14528.470000000001}]
[{"$f":"'A4-FinPerf RE'!A15","v":"Dividends received"},null,null,null,null,null,null,null,null,null,null,null,null,0,{"$f":"'A4-FinPerf RE'!J15","v":0},{"$f":"'A4-FinPerf RE'!K15","v":0},{"$f":"'A4-FinPerf RE'!L15","v":0}]
[{"$f":"'A4-FinPerf RE'!A16","v":"Fines"},null,null,null,null,null,null,null,null,null,null,null,null,0,{"$f":"'A4-FinPerf RE'!J16","v":0},{"$f":"'A4-FinPerf RE'!K16","v":0},{"$f":"'A4-FinPerf RE'!L16","v":0}]
[{"$f":"'A4-FinPerf RE'!A17","v":"Licences and permits"},null,null,null,null,null,null,null,null,null,null,null,null,0,{"$f":"'A4-FinPerf RE'!J17","v":0},{"$f":"'A4-FinPerf RE'!K17","v":0},{"$f":"'A4-FinPerf RE'!L17","v":0}]
[{"$f":"'A4-FinPerf RE'!A18","v":"Agency services"},null,null,null,null,null,null,null,null,null,null,null,null,0,{"$f":"'A4-FinPerf RE'!J18","v":0},{"$f":"'A4-FinPerf RE'!K18","v":0},{"$f":"'A4-FinPerf RE'!L18","v":0}]
[{"$f":"'A4-FinPerf RE'!A19","v":"Transfers recognised - operational"},null,5249333.3,5249333.3,5249333.3,5249333.3,5249333.3,5249333.3,5249333.3,5249333.3,5249333.3,5249333.3,5249333.3,5249333.7000000104,{"$f":"'A4-FinPerf RE'!J19","v":62992000},{"$f":"'A4-FinPerf RE'!K19","v":69291200},{"$f":"'A4-FinPerf RE'!L19","v":76220320}]
[{"$f":"'A4-FinPerf RE'!A20","v":"Other revenue"},null,4916.5,{"$f":"4916.5+570000","v":574916.5},4916.5,4916.5,4916.5,4916.5,4916.5,4916.5,4916.5,4916.5,4916.5,4916.0999999999767,{"$f":"'A4-FinPerf RE'!J20","v":628997.6},{"$f":"'A4-FinPerf RE'!K20","v":64897.36},{"$f":"'A4-FinPerf RE'!L20","v":71387.096000000005}]
[{"$f":"'A4-FinPerf RE'!A21","v":"Gains on disposal of PPE"},null,null,null,null,null,null,null,null,null,null,null,null,0,{"$f":"'A4-FinPerf RE'!J21","v":0},{"$f":"'A4-FinPerf RE'!K21","v":0},{"$f":"'A4-FinPerf RE'!L21","v":0}]
[{"$f":"'A4-FinPerf RE'!A22","v":"Total Revenue (excluding capital transfers and contributions)"},null,{"$f":"SUM(C5:C21)","v":5294614.21},5914614.21,5294614.21,5294614.21,5294614.21,5344614.21,5294614.21,5294614.21,5294614.21,5294614.21,5294614.21,5294614.1700000102,64205370.480000004,69998907.527999997,76998798.2808]
[]
[{"$f":"'A4-FinPerf RE'!A24","v":"Expenditure By Type"}]
[{"$f":"'A4-FinPerf RE'!A25","v":"Employee related costs"},null,3263733.7,3263733.7,3263733.7,3263733.7,3263733.7,3263733.7,3263733.7,3263733.7,3263733.7,3263733.7,3263733.7,{"$f":"O25-SUM(C25:M25)","v":3263735.25},{"$f":"'A4-FinPerf RE'!J25","v":39164805.949999996},{"$f":"'A4-FinPerf RE'!K25","v":42421907.75925},{"$f":"'A4-FinPerf RE'!L25","v":45955266.340493746}]
[{"$f":"'A4-FinPerf RE'!A26","v":"Remuneration of councillors"},null,391402.78,391402.78,391402.78,391402.78,391402.78,391402.78,391402.78,391402.78,391402.78,391402.78,391402.78,391402.89999999944,{"$f":"'A4-FinPerf RE'!J26","v":4696833.4800000004},{"$f":"'A4-FinPerf RE'!K26","v":5025611.8236000007},{"$f":"'A4-FinPerf RE'!L26","v":5377404.6512520015}]
[{"$f":"'A4-FinPerf RE'!A27","v":"Debt impairment"},null,null,null,null,null,null,null,null,null,null,null,null,0,{"$f":"'A4-FinPerf RE'!J27","v":0},{"$f":"'A4-FinPerf RE'!K27","v":0},{"$f":"'A4-FinPerf RE'!L27","v":0}]
[{"$f":"'A4-FinPerf RE'!A28","v":"Depreciation & asset impairment"},null,null,null,null,null,null,null,null,null,null,null,null,3500000,{"$f":"'A4-FinPerf RE'!J28","v":3500000},{"$f":"'A4-FinPerf RE'!K28","v":3850000.0000000005},{"$f":"'A4-FinPerf RE'!L28","v":4235000.0000000009}]
[{"$f":"'A4-FinPerf RE'!A29","v":"Finance charges"},null,null,null,null,null,null,null,null,null,null,null,null,0,{"$f":"'A4-FinPerf RE'!J29","v":0},{"$f":"'A4-FinPerf RE'!K29","v":0},{"$f":"'A4-FinPerf RE'!L29","v":0}]
[{"$f":"'A4-FinPerf RE'!A30","v":"Bulk purchases"},null,null,null,null,null,null,null,null,null,null,null,null,0,{"$f":"'A4-FinPerf RE'!J30","v":0},{"$f":"'A4-FinPerf RE'!K30","v":0},{"$f":"'A4-FinPerf RE'!L30","v":0}]
[{"$f":"'A4-FinPerf RE'!A31","v":"Other materials"},null,null,null,null,null,null,null,null,null,null,null,null,0,{"$f":"'A4-FinPerf RE'!J31","v":0},{"$f":"'A4-FinPerf RE'!K31","v":0},{"$f":"'A4-FinPerf RE'!L31","v":0}]
[{"$f":"'A4-FinPerf RE'!A32","v":"Contracted services"},null,null,null,null,null,null,null,null,null,null,null,null,500000,{"$f":"'A4-FinPerf RE'!J32","v":500000},{"$f":"'A4-FinPerf RE'!K32","v":550000},{"$f":"'A4-FinPerf RE'!L32","v":605000}]
[{"$f":"'A4-FinPerf RE'!A33","v":"Transfers and grants"},null,null,null,null,null,null,null,null,null,null,null,null,0,{"$f":"'A4-FinPerf RE'!J33","v":0},{"$f":"'A4-FinPerf RE'!K33","v":0},{"$f":"'A4-FinPerf RE'!L33","v":0}]
[{"$f":"'A4-FinPerf RE'!A34","v":"Other expenditure"},null,1550186.6,1550186.6,1550186.6,1550186.6,1550186.6,1550186.6,1550186.6,1550186.6,1550186.6,1550186.6,1550186.6,1620187.3800000027,{"$f":"'A4-FinPerf RE'!J34","v":18672239.98},{"$f":"'A4-FinPerf RE'!K34","v":20539463.978},{"$f":"'A4-FinPerf RE'!L34","v":22593410.375800002}]
[{"$f":"'A4-FinPerf RE'!A35","v":"Loss on disposal of PPE"},null,null,null,null,null,null,null,null,null,null,null,null,0,{"$f":"'A4-FinPerf RE'!J35","v":0},{"$f":"'A4-FinPerf RE'!K35","v":0},{"$f":"'A4-FinPerf RE'!L35","v":0}]
[{"$f":"'A4-FinPerf RE'!A36","v":"Total Expenditure"},null,{"$f":"SUM(C25:C35)","v":5205323.08},{"$f":"SUM(D25:D35)","v":5205323.08},5205323.08,5205323.08,5205323.08,5205323.08,5205323.08,5205323.08,5205323.08,5205323.08,5205323.08,9275325.5300000012,66533879.409999996,72386983.560849994,78766081.367545754]
[]
[{"$f":"'A4-FinPerf RE'!A38","v":"Surplus/(Deficit)"},null,{"$f":"C22-C36","v":89291.129999999888},709291.12999999989,89291.129999999888,89291.129999999888,89291.129999999888,139291.12999999989,89291.129999999888,89291.129999999888,89291.129999999888,89291.129999999888,89291.129999999888,-3980711.359999991,-2328508.9299999923,-2388076.0328499973,-1767283.0867457539]
[{"$f":"'A4-FinPerf RE'!A39","v":"Transfers recognised - capital"},null,null,null,null,null,null,null,null,null,null,null,null,{"$f":"O39-SUM(C39:M39)","v":0},{"$f":"'A4-FinPerf RE'!J39","v":0},{"$f":"'A4-FinPerf RE'!K39","v":0},{"$f":"'A4-FinPerf RE'!L39","v":0}]
[{"$f":"'A4-FinPerf RE'!A40","v":"Contributions recognised - capital"},null,null,null,null,null,null,null,null,null,null,null,null,{"$f":"O40-SUM(C40:M40)","v":0},{"$f":"'A4-FinPerf RE'!J40","v":0},{"$f":"'A4-FinPerf RE'!K40","v":0},{"$f":"'A4-FinPerf RE'!L40","v":0}]
[{"$f":"'A4-FinPerf RE'!A41","v":"Contributed assets"},null,null,null,null,null,null,null,null,null,null,null,null,{"$f":"O41-SUM(C41:M41)","v":0},{"$f":"'A4-FinPerf RE'!J41","v":0},{"$f":"'A4-FinPerf RE'!K41","v":0},{"$f":"'A4-FinPerf RE'!L41","v":0}]
[{"$f":"'A4-FinPerf RE'!A42","v":"Surplus/(Deficit) after capital transfers & contributions"},null,{"$f":"C38+SUM(C39:C41)","v":89291.129999999888},709291.12999999989,89291.129999999888,89291.129999999888,89291.129999999888,139291.12999999989,89291.129999999888,89291.129999999888,89291.129999999888,89291.129999999888,89291.129999999888,-3980711.359999991,{"$f":"O38+SUM(O39:O41)","v":-2328508.9299999923},{"$f":"P38+SUM(P39:P41)","v":-2388076.0328499973},{"$f":"Q38+SUM(Q39:Q41)","v":-1767283.0867457539}]
[{"$f":"'A4-FinPerf RE'!A43","v":"Taxation"},null,null,null,null,null,null,null,null,null,null,null,null,{"$f":"O43-SUM(C43:M43)","v":0},{"$f":"'A4-FinPerf RE'!J43","v":0},{"$f":"'A4-FinPerf RE'!K43","v":0},{"$f":"'A4-FinPerf RE'!L43","v":0}]
[{"$f":"'A4-FinPerf RE'!A45","v":"Attributable to minorities"},null,null,null,null,null,null,null,null,null,null,null,null,{"$f":"O44-SUM(C44:M44)","v":0},{"$f":"'A4-FinPerf RE'!J45","v":0},{"$f":"'A4-FinPerf RE'!K45","v":0},{"$f":"'A4-FinPerf RE'!L45","v":0}]
[{"$f":"'A4-FinPerf RE'!A47","v":"Share of surplus/ (deficit) of associate"},null,null,null,null,null,null,null,null,null,null,null,null,{"$f":"O45-SUM(C45:M45)","v":0},{"$f":"'A4-FinPerf RE'!J47","v":0},{"$f":"'A4-FinPerf RE'!K47","v":0},{"$f":"'A4-FinPerf RE'!L47","v":0}]
[{"$f":"'A4-FinPerf RE'!A38","v":"Surplus/(Deficit)"},1,{"$f":"C42+SUM(C43:C45)","v":89291.129999999888},709291.12999999989,89291.129999999888,89291.129999999888,89291.129999999888,139291.12999999989,89291.129999999888,89291.129999999888,89291.129999999888,89291.129999999888,89291.129999999888,-3980711.359999991,{"$f":"O42+SUM(O43:O45)","v":-2328508.9299999923},{"$f":"P42+SUM(P43:P45)","v":-2388076.0328499973},{"$f":"Q42+SUM(Q43:Q45)","v":-1767283.0867457539}]
[{"$f":"head27a","v":"References"}]
["1. Surplus (Deficit) must reconcile with Budgeted Financial Performance"]
["check",null,null,null,null,null,null,null,null,null,null,null,null,null,{"$f":"O46-'A4-FinPerf RE'!J48","v":0},{"$f":"P46-'A4-FinPerf RE'!K48","v":0},{"$f":"Q46-'A4-FinPerf RE'!L48","v":0}]

{"sheet":"SA26","index":46,"n_rows":48,"n_cols":17,"rows_kept":48,"cut":false,"hidden":false,"merged":[[1,2,1,13],[1,14,1,16]]}
[{"$f":"muni&\" - \"&TableA26","v":"DC16 Xhariep - Supporting Table SA26 Budgeted monthly revenue and expenditure (municipal vote)"}]
[{"$f":"desc","v":"Description"},{"$f":"head27","v":"Ref"},{"$f":"Head9","v":"Budget Year 2014/15"},null,null,null,null,null,null,null,null,null,null,null,"Medium Term Revenue and Expenditure Framework"]
["R thousand",null,"July","August","Sept.","October","November","December","January","February","March","April","May","June",{"$f":"Head9","v":"Budget Year 2014/15"},{"$f":"Head10","v":"Budget Year +1 2015/16"},{"$f":"Head11","v":"Budget Year +2 2016/17"}]
[{"$f":"'A3-FinPerf V'!A4","v":"Revenue by Vote"}]
[{"$f":"'A3-FinPerf V'!A5","v":"Vote 1 - General Council"},null,708194.33,708194.33,708194.33,708194.33,708194.33,708194.33,708194.33,708194.33,708194.33,708194.33,708194.33,{"$f":"O5-SUM(C5:M5)","v":708194.22840708029},{"$f":"'A3-FinPerf V'!I5","v":8498331.8584070802},{"$f":"'A3-FinPerf V'!J5","v":9348165.0442477893},{"$f":"'A3-FinPerf V'!K5","v":10282981.548672568}]
[{"$f":"'A3-FinPerf V'!A6","v":"Vote 2 - Municipal Manager"},null,{"$f":"O6/12","v":531635.32448377588},531635.32448377588,531635.32448377588,531635.32448377588,531635.32448377588,531635.32448377588,531635.32448377588,531635.32448377588,531635.32448377588,531635.32448377588,531635.32448377588,531635.3244837774,{"$f":"'A3-FinPerf V'!I6","v":6379623.8938053111},{"$f":"'A3-FinPerf V'!J6","v":7017586.2831858424},{"$f":"'A3-FinPerf V'!K6","v":7719344.911504427}]
[{"$f":"'A3-FinPerf V'!A7","v":"Vote 3 - Budget & Treasury Office"},null,{"$f":"O7/12","v":1244034.0179427618},1244034.0179427618,1244034.0179427618,1244034.0179427618,1244034.0179427618,1244034.0179427618,1244034.0179427618,1244034.0179427618,1244034.0179427618,1244034.0179427618,1244034.0179427618,1244034.017942762,{"$f":"'A3-FinPerf V'!I7","v":14928408.215313142},{"$f":"'A3-FinPerf V'!J7","v":16421249.036844458},{"$f":"'A3-FinPerf V'!K7","v":18063373.940528907}]
[{"$f":"'A3-FinPerf V'!A8","v":"Vote 4 - Planning & Development"},null,969917.3,969917.3,969917.3,969917.3,969917.3,969917.3,969917.3,969917.3,969917.3,969917.3,969917.3,969918.54955752194,{"$f":"'A3-FinPerf V'!I8","v":11639008.849557523},{"$f":"'A3-FinPerf V'!J8","v":12802909.734513275},{"$f":"'A3-FinPerf V'!K8","v":14083200.707964603}]
[{"$f":"'A3-FinPerf V'!A9","v":"Vote 5 - Corporate Services"},null,1854999.7,1854999.7,1854999.7,1854999.7,1854999.7,1854999.7,1854999.7,1854999.7,1854999.7,1854999.7,1854999.7,1855000.4083185829,{"$f":"'A3-FinPerf V'!I9","v":22259997.108318578},{"$f":"'A3-FinPerf V'!J9","v":23858997.819150433},{"$f":"'A3-FinPerf V'!K9","v":26244897.601065479}]
[{"$f":"'A3-FinPerf V'!A10","v":"Vote 6 - [NAME OF VOTE 6]"},null,null,null,null,null,null,null,null,null,null,null,null,0,{"$f":"'A3-FinPerf V'!I10","v":0},{"$f":"'A3-FinPerf V'!J10","v":0},{"$f":"'A3-FinPerf V'!K10","v":0}]
[{"$f":"'A3-FinPerf V'!A11","v":"Vote 7 - [NAME OF VOTE 7]"},null,null,null,null,null,null,null,null,null,null,null,null,{"$f":"O11-SUM(C11:M11)","v":0},{"$f":"'A3-FinPerf V'!I11","v":0},{"$f":"'A3-FinPerf V'!J11","v":0},{"$f":"'A3-FinPerf V'!K11","v":0}]
[{"$f":"'A3-FinPerf V'!A12","v":"Vote 8 - [NAME OF VOTE 8]"},null,null,null,null,null,null,null,null,null,null,null,null,{"$f":"O12-SUM(C12:M12)","v":0},{"$f":"'A3-FinPerf V'!I12","v":0},{"$f":"'A3-FinPerf V'!J12","v":0},{"$f":"'A3-FinPerf V'!K12","v":0}]
[{"$f":"'A3-FinPerf V'!A13","v":"Vote 9 - [NAME OF VOTE 9]"},null,null,null,null,null,null,null,null,null,null,null,null,{"$f":"O13-SUM(C13:M13)","v":0},{"$f":"'A3-FinPerf V'!I13","v":0},{"$f":"'A3-FinPerf V'!J13","v":0},{"$f":"'A3-FinPerf V'!K13","v":0}]
[{"$f":"'A3-FinPerf V'!A14","v":"Vote 10 - [NAME OF VOTE 10]"},null,null,null,null,null,null,null,null,null,null,null,null,{"$f":"O14-SUM(C14:M14)","v":0},{"$f":"'A3-FinPerf V'!I14","v":0},{"$f":"'A3-FinPerf V'!J14","v":0},{"$f":"'A3-FinPerf V'!K14","v":0}]
[{"$f":"'A3-FinPerf V'!A15","v":"Vote 11 - [NAME OF VOTE 11]"},null,null,null,null,null,null,null,null,null,null,null,null,0,{"$f":"'A3-FinPerf V'!I15","v":0},{"$f":"'A3-FinPerf V'!J15","v":0},{"$f":"'A3-FinPerf V'!K15","v":0}]
[{"$f":"'A3-FinPerf V'!A16","v":"Vote 12 - [NAME OF VOTE 12]"},null,null,null,null,null,null,null,null,null,null,null,null,0,{"$f":"'A3-FinPerf V'!I16","v":0},{"$f":"'A3-FinPerf V'!J16","v":0},{"$f":"'A3-FinPerf V'!K16","v":0}]
[{"$f":"'A3-FinPerf V'!A17","v":"Vote 13 - [NAME OF VOTE 13]"},null,null,null,null,null,null,null,null,null,null,null,null,0,{"$f":"'A3-FinPerf V'!I17","v":0},{"$f":"'A3-FinPerf V'!J17","v":0},{"$f":"'A3-FinPerf V'!K17","v":0}]
[{"$f":"'A3-FinPerf V'!A18","v":"Vote 14 - [NAME OF VOTE 14]"},null,null,null,null,null,null,null,null,null,null,null,null,0,{"$f":"'A3-FinPerf V'!I18","v":0},{"$f":"'A3-FinPerf V'!J18","v":0},{"$f":"'A3-FinPerf V'!K18","v":0}]
[{"$f":"'A3-FinPerf V'!A19","v":"Vote 15 - [NAME OF VOTE 15]"},null,null,null,null,null,null,null,null,null,null,null,null,0,{"$f":"'A3-FinPerf V'!I19","v":0},{"$f":"'A3-FinPerf V'!J19","v":0},{"$f":"'A3-FinPerf V'!K19","v":0}]
[{"$f":"'A3-FinPerf V'!A20","v":"Total Revenue by Vote"},null,{"$f":"SUM(C5:C19)","v":5308780.6724265376},5308780.6724265376,5308780.6724265376,{"$f":"SUM(F5:F19)","v":5308780.6724265376},5308780.6724265376,5308780.6724265376,5308780.6724265376,5308780.6724265376,5308780.6724265376,5308780.6724265376,5308780.6724265376,5308782.5287097245,63705369.925401643,69448907.917941794,76393798.70973599]
[]
[{"$f":"'A3-FinPerf V'!A22","v":"Expenditure by Vote to be appropriated"}]
[{"$f":"A5","v":"Vote 1 - General Council"},null,900011.70666666701,900011.70666666701,900011.70666666701,900011.70666666701,900011.70666666701,900011.70666666701,900011.70666666701,900011.70666666701,900011.70666666701,900011.70666666701,900011.70666666701,{"$f":"O23-SUM(C23:M23)","v":900011.70666666701},{"$f":"'A3-FinPerf V'!I23","v":10800140.480000004},{"$f":"'A3-FinPerf V'!J23","v":11880154.528000005},{"$f":"'A3-FinPerf V'!K23","v":13068169.980800005}]
["Vote 2 - Municipal Manager",null,835839.52754895098,835839.52754895098,835839.52754895098,835839.52754895098,835839.52754895098,835839.52754895098,835839.52754895098,835839.52754895098,835839.52754895098,835839.52754895098,835839.52754895098,835839.52754895017,{"$f":"'A3-FinPerf V'!I24","v":10030074.330587411},{"$f":"'A3-FinPerf V'!J24","v":11033081.763646152},{"$f":"'A3-FinPerf V'!K24","v":12136389.940010769}]
["Vote 3 - Budget & Treasury Office",null,1029547.5304708643,1029547.5304708643,1029547.5304708643,1029547.5304708643,1029547.5304708643,1029547.5304708643,1029547.5304708643,1029547.5304708643,1029547.5304708643,1029547.5304708643,1029547.5304708643,1029547.530470863,{"$f":"'A3-FinPerf V'!I25","v":12354570.365650371},{"$f":"'A3-FinPerf V'!J25","v":13590027.40221541},{"$f":"'A3-FinPerf V'!K25","v":14949030.142436953}]
["Vote 4 - Planning & Development",null,1150560.3347564642,1150560.3347564642,1150560.3347564642,1150560.3347564642,1150560.3347564642,1150560.3347564642,1150560.3347564642,1150560.3347564642,1150560.3347564642,1150560.3347564642,1150560.3347564642,1150560.3347564675,{"$f":"'A3-FinPerf V'!I26","v":13806724.017077571},{"$f":"'A3-FinPerf V'!J26","v":15187396.418785328},{"$f":"'A3-FinPerf V'!K26","v":16706136.060663864}]
["Vote 5 - Corporate Services",null,1586864.1928069347,1586864.1928069347,1586864.1928069347,1586864.1928069347,1586864.1928069347,1586864.1928069347,1586864.1928069347,1586864.1928069347,1586864.1928069347,1586864.1928069347,1586864.1928069347,1586864.1928069331,{"$f":"'A3-FinPerf V'!I27","v":19042370.313683216},{"$f":"'A3-FinPerf V'!J27","v":20146323.345051538},{"$f":"'A3-FinPerf V'!K27","v":21301355.679556694}]
["Vote 6 - [NAME OF VOTE 6]",null,null,null,null,null,null,null,null,null,null,null,null,0,{"$f":"'A3-FinPerf V'!I28","v":0},{"$f":"'A3-FinPerf V'!J28","v":0},{"$f":"'A3-FinPerf V'!K28","v":0}]
["Vote 7 - [NAME OF VOTE 7]",null,null,null,null,null,null,null,null,null,null,null,null,0,{"$f":"'A3-FinPerf V'!I29","v":0},{"$f":"'A3-FinPerf V'!J29","v":0},{"$f":"'A3-FinPerf V'!K29","v":0}]
["Vote 8 - [NAME OF VOTE 8]",null,null,null,null,null,null,null,null,null,null,null,null,{"$f":"O30-SUM(C30:M30)","v":0},{"$f":"'A3-FinPerf V'!I30","v":0},{"$f":"'A3-FinPerf V'!J30","v":0},{"$f":"'A3-FinPerf V'!K30","v":0}]
["Vote 9 - [NAME OF VOTE 9]",null,null,null,null,null,null,null,null,null,null,null,null,{"$f":"O31-SUM(C31:M31)","v":0},{"$f":"'A3-FinPerf V'!I31","v":0},{"$f":"'A3-FinPerf V'!J31","v":0},{"$f":"'A3-FinPerf V'!K31","v":0}]
[{"$f":"A14","v":"Vote 10 - [NAME OF VOTE 10]"},null,null,null,null,null,null,null,null,null,null,null,null,{"$f":"O32-SUM(C32:M32)","v":0},{"$f":"'A3-FinPerf V'!I32","v":0},{"$f":"'A3-FinPerf V'!J32","v":0},{"$f":"'A3-FinPerf V'!K32","v":0}]
["Vote 11 - [NAME OF VOTE 11]",null,null,null,null,null,null,null,null,null,null,null,null,0,{"$f":"'A3-FinPerf V'!I33","v":0},{"$f":"'A3-FinPerf V'!J33","v":0},{"$f":"'A3-FinPerf V'!K33","v":0}]
["Vote 12 - [NAME OF VOTE 12]",null,null,null,null,null,null,null,null,null,null,null,null,0,{"$f":"'A3-FinPerf V'!I34","v":0},{"$f":"'A3-FinPerf V'!J34","v":0},{"$f":"'A3-FinPerf V'!K34","v":0}]
["Vote 13 - [NAME OF VOTE 13]",null,null,null,null,null,null,null,null,null,null,null,null,0,{"$f":"'A3-FinPerf V'!I35","v":0},{"$f":"'A3-FinPerf V'!J35","v":0},{"$f":"'A3-FinPerf V'!K35","v":0}]
["Vote 14 - [NAME OF VOTE 14]",null,null,null,null,null,null,null,null,null,null,null,null,0,{"$f":"'A3-FinPerf V'!I36","v":0},{"$f":"'A3-FinPerf V'!J36","v":0},{"$f":"'A3-FinPerf V'!K36","v":0}]
["Vote 15 - [NAME OF VOTE 15]",null,null,null,null,null,null,null,null,null,null,null,null,0,{"$f":"'A3-FinPerf V'!I37","v":0},{"$f":"'A3-FinPerf V'!J37","v":0},{"$f":"'A3-FinPerf V'!K37","v":0}]
[{"$f":"'A3-FinPerf V'!A38","v":"Total Expenditure by Vote"},null,{"$f":"SUM(C23:C37)","v":5502823.2922498817},{"$f":"SUM(D23:D37)","v":5502823.2922498817},5502823.2922498817,5502823.2922498817,5502823.2922498817,5502823.2922498817,5502823.2922498817,5502823.2922498817,5502823.2922498817,5502823.2922498817,5502823.2922498817,5502823.2922498807,{"$f":"SUM(O23:O37)","v":66033879.506998569},{"$f":"SUM(P23:P37)","v":71836983.457698435},{"$f":"SUM(Q23:Q37)","v":78161081.803468287}]
[]
[{"$f":"'A4-FinPerf RE'!A38&\" before assoc.\"","v":"Surplus/(Deficit) before assoc."},null,{"$f":"C20-C38","v":-194042.61982334405},-194042.61982334405,-194042.61982334405,-194042.61982334405,-194042.61982334405,-194042.61982334405,-194042.61982334405,-194042.61982334405,-194042.61982334405,-194042.61982334405,-194042.61982334405,-194040.76354015619,-2328509.5815969259,-2388075.5397566408,-1767283.0937322974]
[]
[{"$f":"'SA25'!A43","v":"Taxation"},null,null,null,null,null,null,null,null,null,null,null,null,{"$f":"O42-SUM(C42:M42)","v":0},{"$f":"'SA25'!O43","v":0},{"$f":"'SA25'!P43","v":0},{"$f":"'SA25'!Q43","v":0}]
[{"$f":"'SA25'!A44","v":"Attributable to minorities"},null,null,null,null,null,null,null,null,null,null,null,null,{"$f":"O43-SUM(C43:M43)","v":0},{"$f":"'SA25'!O44","v":0},{"$f":"'SA25'!P44","v":0},{"$f":"'SA25'!Q44","v":0}]
[{"$f":"'A4-FinPerf RE'!A47","v":"Share of surplus/ (deficit) of associate"},null,null,null,null,null,null,null,null,null,null,null,null,{"$f":"O44-SUM(C44:M44)","v":0},{"$f":"'A4-FinPerf RE'!J47","v":0},{"$f":"'A4-FinPerf RE'!K47","v":0},{"$f":"'A4-FinPerf RE'!L47","v":0}]
[{"$f":"'A4-FinPerf RE'!A38","v":"Surplus/(Deficit)"},1,{"$f":"C40+C44","v":-194042.61982334405},{"$f":"D40+D44","v":-194042.61982334405},-194042.61982334405,-194042.61982334405,-194042.61982334405,-194042.61982334405,-194042.61982334405,-194042.61982334405,-194042.61982334405,-194042.61982334405,-194042.61982334405,-194040.76354015619,-2328509.5815969259,-2388075.5397566408,-1767283.0937322974]
[{"$f":"head27a","v":"References"}]
["1. Surplus (Deficit) must reconcile with Budgeted Financial Performance"]
["check",null,null,null,null,null,null,null,null,null,null,null,null,null,{"$f":"O45-'A4-FinPerf RE'!J48","v":-0.65159693360328674},{"$f":"P45-'A4-FinPerf RE'!K48","v":0.49309335649013519},{"$f":"Q45-'A4-FinPerf RE'!L48","v":-6.9865435361862183E-3}]

{"sheet":"SA27","index":47,"n_rows":56,"n_cols":17,"rows_kept":56,"cut":false,"hidden":false,"merged":[[1,2,1,13],[1,14,1,16]]}
[{"$f":"muni&\" - \"&TableA27","v":"DC16 Xhariep - Supporting Table SA27 Budgeted monthly revenue and expenditure (standard classification)"}]
[{"$f":"desc","v":"Description"},{"$f":"head27","v":"Ref"},{"$f":"Head9","v":"Budget Year 2014/15"},null,null,null,null,null,null,null,null,null,null,null,"Medium Term Revenue and Expenditure Framework"]
["R thousand",null,"July","August","Sept.","October","November","December","January","February","March","April","May","June",{"$f":"Head9","v":"Budget Year 2014/15"},{"$f":"Head10","v":"Budget Year +1 2015/16"},{"$f":"Head11","v":"Budget Year +2 2016/17"}]
[{"$f":"'A2-FinPerf SC'!A4","v":"Revenue - Standard"}]
[{"$f":"'A2-FinPerf SC'!A5","v":"Governance and administration"},null,{"$f":"SUM(C6:C8)","v":4338863.4233702067},{"$f":"SUM(D6:D8)","v":4338863.4233702067},{"$f":"SUM(E6:E8)","v":4338863.4233702067},4338863.4233702067,4338863.4233702067,4338863.4233702067,4338863.4233702067,4338863.4233702067,4338863.4233702067,4338863.4233702067,4338863.4233702067,{"$f":"O5-SUM(C5:M5)","v":4338863.4233702198},{"$f":"'A2-FinPerf SC'!I5","v":52066361.080442481},{"$f":"'A2-FinPerf SC'!J5","v":56645998.188486733},{"$f":"'A2-FinPerf SC'!K5","v":62310598.007335417}]
[{"$f":"'A2-FinPerf SC'!A6","v":"Executive and council"},null,{"$f":"O6/12","v":1239829.6460176993},1239829.6460176993,1239829.6460176993,1239829.6460176993,1239829.6460176993,1239829.6460176993,1239829.6460176993,1239829.6460176993,1239829.6460176993,1239829.6460176993,1239829.6460176993,1239829.6460177004,{"$f":"'A2-FinPerf SC'!I6","v":14877955.75221239},{"$f":"'A2-FinPerf SC'!J6","v":16365751.327433631},{"$f":"'A2-FinPerf SC'!K6","v":18002326.460176997}]
[{"$f":"'A2-FinPerf SC'!A7","v":"Budget and treasury office"},null,{"$f":"O7/12","v":1244034.0183259586},1244034.0183259586,1244034.0183259586,1244034.0183259586,1244034.0183259586,1244034.0183259586,1244034.0183259586,1244034.0183259586,1244034.0183259586,1244034.0183259586,1244034.0183259586,1244034.0183259603,{"$f":"'A2-FinPerf SC'!I7","v":14928408.219911505},{"$f":"'A2-FinPerf SC'!J7","v":16421249.041902656},{"$f":"'A2-FinPerf SC'!K7","v":18063373.946092922}]
[{"$f":"'A2-FinPerf SC'!A8","v":"Corporate services"},null,1854999.7590265488,1854999.7590265488,1854999.7590265488,1854999.7590265488,1854999.7590265488,1854999.7590265488,1854999.7590265488,1854999.7590265488,1854999.7590265488,1854999.7590265488,1854999.7590265488,1854999.7590265423,{"$f":"'A2-FinPerf SC'!I8","v":22259997.108318586},{"$f":"'A2-FinPerf SC'!J8","v":23858997.819150448},{"$f":"'A2-FinPerf SC'!K8","v":26244897.601065494}]
[{"$f":"'A2-FinPerf SC'!A9","v":"Community and public safety"},null,{"$f":"SUM(C10:C14)","v":0},{"$f":"SUM(D10:D14)","v":0},0,0,0,0,0,0,0,0,0,0,{"$f":"'A2-FinPerf SC'!I9","v":0},{"$f":"'A2-FinPerf SC'!J9","v":0},{"$f":"'A2-FinPerf SC'!K9","v":0}]
[{"$f":"'A2-FinPerf SC'!A10","v":"Community and social services"},null,null,null,null,null,null,null,null,null,null,null,null,0,{"$f":"'A2-FinPerf SC'!I10","v":0},{"$f":"'A2-FinPerf SC'!J10","v":0},{"$f":"'A2-FinPerf SC'!K10","v":0}]
[{"$f":"'A2-FinPerf SC'!A11","v":"Sport and recreation"},null,null,null,null,null,null,null,null,null,null,null,null,0,{"$f":"'A2-FinPerf SC'!I11","v":0},{"$f":"'A2-FinPerf SC'!J11","v":0},{"$f":"'A2-FinPerf SC'!K11","v":0}]
[{"$f":"'A2-FinPerf SC'!A12","v":"Public safety"},null,null,null,null,null,null,null,null,null,null,null,null,0,{"$f":"'A2-FinPerf SC'!I12","v":0},{"$f":"'A2-FinPerf SC'!J12","v":0},{"$f":"'A2-FinPerf SC'!K12","v":0}]
[{"$f":"'A2-FinPerf SC'!A13","v":"Housing"},null,null,null,null,null,null,null,null,null,null,null,null,0,{"$f":"'A2-FinPerf SC'!I13","v":0},{"$f":"'A2-FinPerf SC'!J13","v":0},{"$f":"'A2-FinPerf SC'!K13","v":0}]
[{"$f":"'A2-FinPerf SC'!A14","v":"Health"},null,null,null,null,null,null,null,null,null,null,null,null,0,{"$f":"'A2-FinPerf SC'!I14","v":0},{"$f":"'A2-FinPerf SC'!J14","v":0},{"$f":"'A2-FinPerf SC'!K14","v":0}]
[{"$f":"'A2-FinPerf SC'!A15","v":"Economic and environmental services"},null,{"$f":"SUM(C16:C18)","v":969917.40412979352},{"$f":"SUM(D16:D18)","v":969917.40412979352},969917.40412979352,969917.40412979352,969917.40412979352,969917.40412979352,969917.40412979352,969917.40412979352,969917.40412979352,969917.40412979352,969917.40412979352,969917.404129792,{"$f":"'A2-FinPerf SC'!I15","v":11639008.849557523},{"$f":"'A2-FinPerf SC'!J15","v":12802909.734513275},{"$f":"'A2-FinPerf SC'!K15","v":14083200.707964605}]
[{"$f":"'A2-FinPerf SC'!A16","v":"Planning and development"},null,969917.40412979352,969917.40412979352,969917.40412979352,969917.40412979352,969917.40412979352,969917.40412979352,969917.40412979352,969917.40412979352,969917.40412979352,969917.40412979352,969917.40412979352,969917.404129792,{"$f":"'A2-FinPerf SC'!I16","v":11639008.849557523},{"$f":"'A2-FinPerf SC'!J16","v":12802909.734513275},{"$f":"'A2-FinPerf SC'!K16","v":14083200.707964605}]
[{"$f":"'A2-FinPerf SC'!A17","v":"Road transport"},null,null,null,null,null,null,null,null,null,null,null,null,0,{"$f":"'A2-FinPerf SC'!I17","v":0},{"$f":"'A2-FinPerf SC'!J17","v":0},{"$f":"'A2-FinPerf SC'!K17","v":0}]
[{"$f":"'A2-FinPerf SC'!A18","v":"Environmental protection"},null,null,null,null,null,null,null,null,null,null,null,null,0,{"$f":"'A2-FinPerf SC'!I18","v":0},{"$f":"'A2-FinPerf SC'!J18","v":0},{"$f":"'A2-FinPerf SC'!K18","v":0}]
[{"$f":"'A2-FinPerf SC'!A19","v":"Trading services"},null,{"$f":"SUM(C20:C23)","v":0},{"$f":"SUM(D20:D23)","v":0},0,0,0,0,0,0,0,0,0,{"$f":"O19-SUM(C19:M19)","v":0},{"$f":"'A2-FinPerf SC'!I19","v":0},{"$f":"'A2-FinPerf SC'!J19","v":0},{"$f":"'A2-FinPerf SC'!K19","v":0}]
[{"$f":"'A2-FinPerf SC'!A20","v":"Electricity"},null,null,null,null,null,null,null,null,null,null,null,null,0,{"$f":"'A2-FinPerf SC'!I20","v":0},{"$f":"'A2-FinPerf SC'!J20","v":0},{"$f":"'A2-FinPerf SC'!K20","v":0}]
[{"$f":"'A2-FinPerf SC'!A21","v":"Water"},null,null,null,null,null,null,null,null,null,null,null,null,0,{"$f":"'A2-FinPerf SC'!I21","v":0},{"$f":"'A2-FinPerf SC'!J21","v":0},{"$f":"'A2-FinPerf SC'!K21","v":0}]
[{"$f":"'A2-FinPerf SC'!A22","v":"Waste water management"},null,null,null,null,null,null,null,null,null,null,null,null,0,{"$f":"'A2-FinPerf SC'!I22","v":0},{"$f":"'A2-FinPerf SC'!J22","v":0},{"$f":"'A2-FinPerf SC'!K22","v":0}]
[{"$f":"'A2-FinPerf SC'!A23","v":"Waste management"},null,null,null,null,null,null,null,null,null,null,null,null,0,{"$f":"'A2-FinPerf SC'!I23","v":0},{"$f":"'A2-FinPerf SC'!J23","v":0},{"$f":"'A2-FinPerf SC'!K23","v":0}]
[{"$f":"'A2-FinPerf SC'!A24","v":"Other"},null,null,null,null,null,null,null,null,null,null,null,null,0,{"$f":"'A2-FinPerf SC'!I24","v":0},{"$f":"'A2-FinPerf SC'!J24","v":0},{"$f":"'A2-FinPerf SC'!K24","v":0}]
[{"$f":"'A2-FinPerf SC'!A25","v":"Total Revenue - Standard"},null,{"$f":"C5+C9+C15+C19+C24","v":5308780.8275000006},5308780.8275000006,5308780.8275000006,5308780.8275000006,5308780.8275000006,5308780.8275000006,5308780.8275000006,5308780.8275000006,5308780.8275000006,5308780.8275000006,5308780.8275000006,5308780.8275000118,63705369.930000007,69448907.923000008,76393798.715300024]
[null,null,null,{"$f":"D6+D10+D16+D20+D25","v":7518527.877647493},7518527.877647493,7518527.877647493,7518527.877647493,7518527.877647493,7518527.877647493,7518527.877647493,7518527.877647493,7518527.877647493,{"$f":"M6+M10+M16+M20+M25","v":7518527.877647493}]
[{"$f":"'A2-FinPerf SC'!A27","v":"Expenditure - Standard"}]
[{"$f":"'A2-FinPerf SC'!A28","v":"Governance and administration"},null,{"$f":"SUM(C29:C31)","v":4352262.9488753686},{"$f":"SUM(D29:D31)","v":4352262.9488753686},{"$f":"SUM(E29:E31)","v":4352262.9488753686},4352262.9488753686,4352262.9488753686,4352262.9488753686,4352262.9488753686,4352262.9488753686,4352262.9488753686,4352262.9488753686,4352262.9488753686,{"$f":"O28-SUM(C28:M28)","v":4352262.9488753751},{"$f":"'A2-FinPerf SC'!I28","v":52227155.386504427},{"$f":"'A2-FinPerf SC'!J28","v":56649586.925154865},{"$f":"'A2-FinPerf SC'!K28","v":61454945.617670365}]
[{"$f":"'A2-FinPerf SC'!A29","v":"Executive and council"},null,1735851.2342156179,1735851.2342156179,1735851.2342156179,1735851.2342156179,1735851.2342156179,1735851.2342156179,1735851.2342156179,1735851.2342156179,1735851.2342156179,1735851.2342156179,1735851.2342156179,1735851.2342156209,{"$f":"'A2-FinPerf SC'!I29","v":20830214.810587414},{"$f":"'A2-FinPerf SC'!J29","v":22913236.291646153},{"$f":"'A2-FinPerf SC'!K29","v":25204559.920810774}]
[{"$f":"'A2-FinPerf SC'!A30","v":"Budget and treasury office"},null,1029547.5218528161,1029547.5218528161,1029547.5218528161,1029547.5218528161,1029547.5218528161,1029547.5218528161,1029547.5218528161,1029547.5218528161,1029547.5218528161,1029547.5218528161,1029547.5218528161,1029547.5218528174,{"$f":"'A2-FinPerf SC'!I30","v":12354570.262233794},{"$f":"'A2-FinPerf SC'!J30","v":13590027.288457174},{"$f":"'A2-FinPerf SC'!K30","v":14949030.017302893}]
[{"$f":"'A2-FinPerf SC'!A31","v":"Corporate services"},null,1586864.1928069347,1586864.1928069347,1586864.1928069347,1586864.1928069347,1586864.1928069347,1586864.1928069347,1586864.1928069347,1586864.1928069347,1586864.1928069347,1586864.1928069347,1586864.1928069347,1586864.1928069331,{"$f":"'A2-FinPerf SC'!I31","v":19042370.313683216},{"$f":"'A2-FinPerf SC'!J31","v":20146323.345051542},{"$f":"'A2-FinPerf SC'!K31","v":21301355.679556698}]
[{"$f":"'A2-FinPerf SC'!A32","v":"Community and public safety"},null,{"$f":"SUM(C33:C37)","v":0},{"$f":"SUM(D33:D37)","v":0},0,0,0,0,0,0,0,0,0,0,{"$f":"'A2-FinPerf SC'!I32","v":0},{"$f":"'A2-FinPerf SC'!J32","v":0},{"$f":"'A2-FinPerf SC'!K32","v":0}]
[{"$f":"'A2-FinPerf SC'!A33","v":"Community and social services"},null,null,null,null,null,null,null,null,null,null,null,null,0,{"$f":"'A2-FinPerf SC'!I33","v":0},{"$f":"'A2-FinPerf SC'!J33","v":0},{"$f":"'A2-FinPerf SC'!K33","v":0}]
[{"$f":"'A2-FinPerf SC'!A34","v":"Sport and recreation"},null,null,null,null,null,null,null,null,null,null,null,null,0,{"$f":"'A2-FinPerf SC'!I34","v":0},{"$f":"'A2-FinPerf SC'!J34","v":0},{"$f":"'A2-FinPerf SC'!K34","v":0}]
[{"$f":"'A2-FinPerf SC'!A35","v":"Public safety"},null,null,null,null,null,null,null,null,null,null,null,null,0,{"$f":"'A2-FinPerf SC'!I35","v":0},{"$f":"'A2-FinPerf SC'!J35","v":0},{"$f":"'A2-FinPerf SC'!K35","v":0}]
[{"$f":"'A2-FinPerf SC'!A36","v":"Housing"},null,null,null,null,null,null,null,null,null,null,null,null,0,{"$f":"'A2-FinPerf SC'!I36","v":0},{"$f":"'A2-FinPerf SC'!J36","v":0},{"$f":"'A2-FinPerf SC'!K36","v":0}]
[{"$f":"'A2-FinPerf SC'!A37","v":"Health"},null,null,null,null,null,null,null,null,null,null,null,null,0,{"$f":"'A2-FinPerf SC'!I37","v":0},{"$f":"'A2-FinPerf SC'!J37","v":0},{"$f":"'A2-FinPerf SC'!K37","v":0}]
[{"$f":"'A2-FinPerf SC'!A38","v":"Economic and environmental services"},null,{"$f":"SUM(C39:C41)","v":1150560.3347564642},{"$f":"SUM(D39:D41)","v":1150560.3347564642},1150560.3347564642,1150560.3347564642,1150560.3347564642,1150560.3347564642,1150560.3347564642,1150560.3347564642,1150560.3347564642,1150560.3347564642,1150560.3347564642,{"$f":"O38-SUM(C38:M38)","v":1150560.3347564675},{"$f":"'A2-FinPerf SC'!I38","v":13806724.017077571},{"$f":"'A2-FinPerf SC'!J38","v":15187396.41878533},{"$f":"'A2-FinPerf SC'!K38","v":16706136.060663864}]
[{"$f":"'A2-FinPerf SC'!A39","v":"Planning and development"},null,1150560.3347564642,1150560.3347564642,1150560.3347564642,1150560.3347564642,1150560.3347564642,1150560.3347564642,1150560.3347564642,1150560.3347564642,1150560.3347564642,1150560.3347564642,1150560.3347564642,1150560.3347564675,{"$f":"'A2-FinPerf SC'!I39","v":13806724.017077571},{"$f":"'A2-FinPerf SC'!J39","v":15187396.41878533},{"$f":"'A2-FinPerf SC'!K39","v":16706136.060663864}]
[{"$f":"'A2-FinPerf SC'!A40","v":"Road transport"},null,null,null,null,null,null,null,null,null,null,null,null,0,{"$f":"'A2-FinPerf SC'!I40","v":0},{"$f":"'A2-FinPerf SC'!J40","v":0},{"$f":"'A2-FinPerf SC'!K40","v":0}]
[{"$f":"'A2-FinPerf SC'!A41","v":"Environmental protection"},null,null,null,null,null,null,null,null,null,null,null,null,0,{"$f":"'A2-FinPerf SC'!I41","v":0},{"$f":"'A2-FinPerf SC'!J41","v":0},{"$f":"'A2-FinPerf SC'!K41","v":0}]
[{"$f":"'A2-FinPerf SC'!A42","v":"Trading services"},null,{"$f":"SUM(C43:C46)","v":0},{"$f":"SUM(D43:D46)","v":0},0,0,0,0,0,0,0,0,0,{"$f":"O42-SUM(C42:M42)","v":0},{"$f":"'A2-FinPerf SC'!I42","v":0},{"$f":"'A2-FinPerf SC'!J42","v":0},{"$f":"'A2-FinPerf SC'!K42","v":0}]
[{"$f":"'A2-FinPerf SC'!A43","v":"Electricity"},null,null,null,null,null,null,null,null,null,null,null,null,0,{"$f":"'A2-FinPerf SC'!I43","v":0},{"$f":"'A2-FinPerf SC'!J43","v":0},{"$f":"'A2-FinPerf SC'!K43","v":0}]
[{"$f":"'A2-FinPerf SC'!A44","v":"Water"},null,null,null,null,null,null,null,null,null,null,null,null,0,{"$f":"'A2-FinPerf SC'!I44","v":0},{"$f":"'A2-FinPerf SC'!J44","v":0},{"$f":"'A2-FinPerf SC'!K44","v":0}]
[{"$f":"'A2-FinPerf SC'!A45","v":"Waste water management"},null,null,null,null,null,null,null,null,null,null,null,null,0,{"$f":"'A2-FinPerf SC'!I45","v":0},{"$f":"'A2-FinPerf SC'!J45","v":0},{"$f":"'A2-FinPerf SC'!K45","v":0}]
[{"$f":"'A2-FinPerf SC'!A46","v":"Waste management"},null,null,null,null,null,null,null,null,null,null,null,null,0,{"$f":"'A2-FinPerf SC'!I46","v":0},{"$f":"'A2-FinPerf SC'!J46","v":0},{"$f":"'A2-FinPerf SC'!K46","v":0}]
[{"$f":"'A2-FinPerf SC'!A47","v":"Other"},null,null,null,null,null,null,null,null,null,null,null,null,0,{"$f":"'A2-FinPerf SC'!I47","v":0},{"$f":"'A2-FinPerf SC'!J47","v":0},{"$f":"'A2-FinPerf SC'!K47","v":0}]
[{"$f":"'A2-FinPerf SC'!A48","v":"Total Expenditure - Standard"},null,{"$f":"C28+C32+C38+C42+C47","v":5502823.2836318333},{"$f":"D28+D32+D38+D42+D47","v":5502823.2836318333},5502823.2836318333,5502823.2836318333,5502823.2836318333,5502823.2836318333,5502823.2836318333,5502823.2836318333,5502823.2836318333,5502823.2836318333,5502823.2836318333,5502823.2836318426,66033879.403581999,71836983.343940198,{"$f":"Q28+Q32+Q38+Q42+Q47","v":78161081.678334236}]
[]
[{"$f":"'A4-FinPerf RE'!A38&\" before assoc.\"","v":"Surplus/(Deficit) before assoc."},null,{"$f":"C25-C48","v":-194042.45613183267},-194042.45613183267,-194042.45613183267,-194042.45613183267,-194042.45613183267,-194042.45613183267,-194042.45613183267,-194042.45613183267,-194042.45613183267,-194042.45613183267,-194042.45613183267,-194042.45613183081,-2328509.4735819921,-2388075.4209401906,-1767282.9630342126]
[]
[{"$f":"'A4-FinPerf RE'!A47","v":"Share of surplus/ (deficit) of associate"},null,null,null,null,null,null,null,null,null,null,null,null,{"$f":"O52-SUM(C52:M52)","v":0},{"$f":"'A4-FinPerf RE'!J47","v":0},{"$f":"'A4-FinPerf RE'!K47","v":0},{"$f":"'A4-FinPerf RE'!L47","v":0}]
[{"$f":"'A4-FinPerf RE'!A38","v":"Surplus/(Deficit)"},1,{"$f":"C50+C52","v":-194042.45613183267},{"$f":"D50+D52","v":-194042.45613183267},-194042.45613183267,-194042.45613183267,-194042.45613183267,-194042.45613183267,-194042.45613183267,-194042.45613183267,-194042.45613183267,-194042.45613183267,-194042.45613183267,-194042.45613183081,-2328509.4735819921,-2388075.4209401906,-1767282.9630342126]
[{"$f":"head27a","v":"References"}]
["1. Surplus (Deficit) must reconcile with Budeted Financial Performance"]
["check",null,null,null,null,null,null,null,null,null,null,null,null,null,{"$f":"O53-'A4-FinPerf RE'!J48","v":-0.5435819998383522},{"$f":"P53-'A4-FinPerf RE'!K48","v":0.61190980672836304},{"$f":"Q53-'A4-FinPerf RE'!L48","v":0.12371154129505157}]

{"sheet":"SA28","index":48,"n_rows":47,"n_cols":17,"rows_kept":47,"cut":false,"hidden":false,"merged":[[1,2,1,13],[1,14,1,16]]}
[{"$f":"muni&\" - \"& TableA28","v":"DC16 Xhariep - Supporting Table SA28 Budgeted monthly capital expenditure (municipal vote)"}]
[{"$f":"desc","v":"Description"},{"$f":"head27","v":"Ref"},{"$f":"Head9","v":"Budget Year 2014/15"},null,null,null,null,null,null,null,null,null,null,null,"Medium Term Revenue and Expenditure Framework"]
["R thousand",null,"July","August","Sept.","October","Nov.","Dec.","January","Feb.","March","April","May","June",{"$f":"Head9","v":"Budget Year 2014/15"},{"$f":"Head10","v":"Budget Year +1 2015/16"},{"$f":"Head11","v":"Budget Year +2 2016/17"}]
["Multi-year expenditure to be appropriated",1]
[{"$f":"'A5-Capex'!A6","v":"Vote 1 - General Council"},null,null,null,null,null,null,null,null,null,null,null,null,{"$f":"O5-SUM(C5:M5)","v":0},{"$f":"'A5-Capex'!J6","v":0},{"$f":"'A5-Capex'!K6","v":0},{"$f":"'A5-Capex'!L6","v":0}]
[{"$f":"'A5-Capex'!A7","v":"Vote 2 - Municipal Manager"},null,null,null,null,null,null,null,null,null,null,null,null,{"$f":"O6-SUM(C6:M6)","v":0},{"$f":"'A5-Capex'!J7","v":0},{"$f":"'A5-Capex'!K7","v":0},{"$f":"'A5-Capex'!L7","v":0}]
[{"$f":"'A5-Capex'!A8","v":"Vote 3 - Budget & Treasury Office"},null,null,null,null,null,null,null,null,null,null,null,null,0,{"$f":"'A5-Capex'!J8","v":0},{"$f":"'A5-Capex'!K8","v":0},{"$f":"'A5-Capex'!L8","v":0}]
[{"$f":"'A5-Capex'!A9","v":"Vote 4 - Planning & Development"},null,null,null,null,null,null,null,null,null,null,null,null,0,{"$f":"'A5-Capex'!J9","v":0},{"$f":"'A5-Capex'!K9","v":0},{"$f":"'A5-Capex'!L9","v":0}]
[{"$f":"'A5-Capex'!A10","v":"Vote 5 - Corporate Services"},null,null,null,null,null,null,null,null,null,null,null,null,0,{"$f":"'A5-Capex'!J10","v":0},{"$f":"'A5-Capex'!K10","v":0},{"$f":"'A5-Capex'!L10","v":0}]
[{"$f":"'A5-Capex'!A11","v":"Vote 6 - [NAME OF VOTE 6]"},null,null,null,null,null,null,null,null,null,null,null,null,0,{"$f":"'A5-Capex'!J11","v":0},{"$f":"'A5-Capex'!K11","v":0},{"$f":"'A5-Capex'!L11","v":0}]
[{"$f":"'A5-Capex'!A12","v":"Vote 7 - [NAME OF VOTE 7]"},null,null,null,null,null,null,null,null,null,null,null,null,0,{"$f":"'A5-Capex'!J12","v":0},{"$f":"'A5-Capex'!K12","v":0},{"$f":"'A5-Capex'!L12","v":0}]
[{"$f":"'A5-Capex'!A13","v":"Vote 8 - [NAME OF VOTE 8]"},null,null,null,null,null,null,null,null,null,null,null,null,{"$f":"O12-SUM(C12:M12)","v":0},{"$f":"'A5-Capex'!J13","v":0},{"$f":"'A5-Capex'!K13","v":0},{"$f":"'A5-Capex'!L13","v":0}]
[{"$f":"'A5-Capex'!A14","v":"Vote 9 - [NAME OF VOTE 9]"},null,null,null,null,null,null,null,null,null,null,null,null,{"$f":"O13-SUM(C13:M13)","v":0},{"$f":"'A5-Capex'!J14","v":0},{"$f":"'A5-Capex'!K14","v":0},{"$f":"'A5-Capex'!L14","v":0}]
[{"$f":"'A5-Capex'!A15","v":"Vote 10 - [NAME OF VOTE 10]"},null,null,null,null,null,null,null,null,null,null,null,null,{"$f":"O14-SUM(C14:M14)","v":0},{"$f":"'A5-Capex'!J15","v":0},{"$f":"'A5-Capex'!K15","v":0},{"$f":"'A5-Capex'!L15","v":0}]
[{"$f":"'A5-Capex'!A16","v":"Vote 11 - [NAME OF VOTE 11]"},null,null,null,null,null,null,null,null,null,null,null,null,0,{"$f":"'A5-Capex'!J16","v":0},{"$f":"'A5-Capex'!K16","v":0},{"$f":"'A5-Capex'!L16","v":0}]
[{"$f":"'A5-Capex'!A17","v":"Vote 12 - [NAME OF VOTE 12]"},null,null,null,null,null,null,null,null,null,null,null,null,0,{"$f":"'A5-Capex'!J17","v":0},{"$f":"'A5-Capex'!K17","v":0},{"$f":"'A5-Capex'!L17","v":0}]
[{"$f":"'A5-Capex'!A18","v":"Vote 13 - [NAME OF VOTE 13]"},null,null,null,null,null,null,null,null,null,null,null,null,0,{"$f":"'A5-Capex'!J18","v":0},{"$f":"'A5-Capex'!K18","v":0},{"$f":"'A5-Capex'!L18","v":0}]
[{"$f":"'A5-Capex'!A19","v":"Vote 14 - [NAME OF VOTE 14]"},null,null,null,null,null,null,null,null,null,null,null,null,0,{"$f":"'A5-Capex'!J19","v":0},{"$f":"'A5-Capex'!K19","v":0},{"$f":"'A5-Capex'!L19","v":0}]
[{"$f":"'A5-Capex'!A20","v":"Vote 15 - [NAME OF VOTE 15]"},null,null,null,null,null,null,null,null,null,null,null,null,0,{"$f":"'A5-Capex'!J20","v":0},{"$f":"'A5-Capex'!K20","v":0},{"$f":"'A5-Capex'!L20","v":0}]
["Capital multi-year expenditure sub-total",2,{"$f":"SUM(C5:C19)","v":0},{"$f":"SUM(D5:D19)","v":0},0,0,0,0,0,0,0,0,{"$f":"SUM(M5:M19)","v":0},0,0,0,0]
[]
["Single-year expenditure to be appropriated"]
[{"$f":"'A5-Capex'!A24","v":"Vote 1 - General Council"},null,null,1070000,null,null,null,null,null,null,null,null,null,{"$f":"O23-SUM(C23:M23)","v":0},{"$f":"'A5-Capex'!J24","v":1070000},{"$f":"'A5-Capex'!K24","v":0},{"$f":"'A5-Capex'!L24","v":0}]
[{"$f":"'A5-Capex'!A25","v":"Vote 2 - Municipal Manager"},null,null,null,25000,null,null,null,null,null,null,null,null,{"$f":"O24-SUM(C24:M24)","v":0},{"$f":"'A5-Capex'!J25","v":25000},{"$f":"'A5-Capex'!K25","v":0},{"$f":"'A5-Capex'!L25","v":0}]
[{"$f":"'A5-Capex'!A26","v":"Vote 3 - Budget & Treasury Office"},null,{"$f":"41666.67+40000","v":81666.67},41666.67,41666.67,{"$f":"41666.67+30000","v":71666.67},41666.67,41666.67,41666.67,41666.67,41666.67,41666.67,41666.67,41666.630000000121,{"$f":"'A5-Capex'!J26","v":570000},{"$f":"'A5-Capex'!K26","v":627000},{"$f":"'A5-Capex'!L26","v":689700}]
[{"$f":"'A5-Capex'!A27","v":"Vote 4 - Planning & Development"},null,55000,null,null,null,null,null,null,null,null,null,null,0,{"$f":"'A5-Capex'!J27","v":55000},{"$f":"'A5-Capex'!K27","v":60500.000000000007},{"$f":"'A5-Capex'!L27","v":66550.000000000015}]
[{"$f":"'A5-Capex'!A28","v":"Vote 5 - Corporate Services"},null,null,null,25000,null,null,null,null,null,null,null,null,0,{"$f":"'A5-Capex'!J28","v":25000},{"$f":"'A5-Capex'!K28","v":27500.000000000004},{"$f":"'A5-Capex'!L28","v":30250.000000000007}]
[{"$f":"'A5-Capex'!A29","v":"Vote 6 - [NAME OF VOTE 6]"},null,null,null,null,null,null,null,null,null,null,null,null,0,{"$f":"'A5-Capex'!J29","v":0},{"$f":"'A5-Capex'!K29","v":0},{"$f":"'A5-Capex'!L29","v":0}]
[{"$f":"'A5-Capex'!A30","v":"Vote 7 - [NAME OF VOTE 7]"},null,null,null,null,null,null,null,null,null,null,null,null,0,{"$f":"'A5-Capex'!J30","v":0},{"$f":"'A5-Capex'!K30","v":0},{"$f":"'A5-Capex'!L30","v":0}]
[{"$f":"'A5-Capex'!A31","v":"Vote 8 - [NAME OF VOTE 8]"},null,null,null,null,null,null,null,null,null,null,null,null,{"$f":"O30-SUM(C30:M30)","v":0},{"$f":"'A5-Capex'!J31","v":0},{"$f":"'A5-Capex'!K31","v":0},{"$f":"'A5-Capex'!L31","v":0}]
[{"$f":"'A5-Capex'!A32","v":"Vote 9 - [NAME OF VOTE 9]"},null,null,null,null,null,null,null,null,null,null,null,null,{"$f":"O31-SUM(C31:M31)","v":0},{"$f":"'A5-Capex'!J32","v":0},{"$f":"'A5-Capex'!K32","v":0},{"$f":"'A5-Capex'!L32","v":0}]
[{"$f":"'A5-Capex'!A33","v":"Vote 10 - [NAME OF VOTE 10]"},null,null,null,null,null,null,null,null,null,null,null,null,{"$f":"O32-SUM(C32:M32)","v":0},{"$f":"'A5-Capex'!J33","v":0},{"$f":"'A5-Capex'!K33","v":0},{"$f":"'A5-Capex'!L33","v":0}]
[{"$f":"'A5-Capex'!A34","v":"Vote 11 - [NAME OF VOTE 11]"},null,null,null,null,null,null,null,null,null,null,null,null,0,{"$f":"'A5-Capex'!J34","v":0},{"$f":"'A5-Capex'!K34","v":0},{"$f":"'A5-Capex'!L34","v":0}]
[{"$f":"'A5-Capex'!A35","v":"Vote 12 - [NAME OF VOTE 12]"},null,null,null,null,null,null,null,null,null,null,null,null,0,{"$f":"'A5-Capex'!J35","v":0},{"$f":"'A5-Capex'!K35","v":0},{"$f":"'A5-Capex'!L35","v":0}]
[{"$f":"'A5-Capex'!A36","v":"Vote 13 - [NAME OF VOTE 13]"},null,null,null,null,null,null,null,null,null,null,null,null,0,{"$f":"'A5-Capex'!J36","v":0},{"$f":"'A5-Capex'!K36","v":0},{"$f":"'A5-Capex'!L36","v":0}]
[{"$f":"'A5-Capex'!A37","v":"Vote 14 - [NAME OF VOTE 14]"},null,null,null,null,null,null,null,null,null,null,null,null,0,{"$f":"'A5-Capex'!J37","v":0},{"$f":"'A5-Capex'!K37","v":0},{"$f":"'A5-Capex'!L37","v":0}]
[{"$f":"'A5-Capex'!A38","v":"Vote 15 - [NAME OF VOTE 15]"},null,null,null,null,null,null,null,null,null,null,null,null,0,{"$f":"'A5-Capex'!J38","v":0},{"$f":"'A5-Capex'!K38","v":0},{"$f":"'A5-Capex'!L38","v":0}]
["Capital single-year expenditure sub-total",2,{"$f":"SUM(C23:C37)","v":136666.66999999998},1111666.67,91666.67,71666.67,41666.67,41666.67,41666.67,41666.67,41666.67,41666.67,41666.67,41666.630000000121,1745000,715000,786500]
["Total Capital Expenditure",2,{"$f":"C20+C38","v":136666.66999999998},{"$f":"D20+D38","v":1111666.67},91666.67,71666.67,41666.67,41666.67,41666.67,41666.67,41666.67,41666.67,41666.67,41666.630000000121,{"$f":"O20+O38","v":1745000},{"$f":"P20+P38","v":715000},{"$f":"Q20+Q38","v":786500}]
[]
[]
[{"$f":"head27a","v":"References"}]
["1. Table should be completed as either Multi-Year expenditure appropriation or Budget Year and Forward Year estimates"]
["2. Total Capital Expenditure must reconcile to Budgeted Capital Expenditure"]
["check",null,null,null,null,null,null,null,null,null,null,null,null,null,{"$f":"O20-'A5-Capex'!J21","v":0},{"$f":"P20-'A5-Capex'!K21","v":0},{"$f":"Q20-'A5-Capex'!L21","v":0}]
[]
[null,null,null,null,"Add single year stuff"]

{"sheet":"SA29","index":49,"n_rows":40,"n_cols":17,"rows_kept":40,"cut":false,"hidden":false,"merged":[[1,2,1,13],[1,14,1,16]]}
[{"$f":"muni&\" - \"& TableA29","v":"DC16 Xhariep - Supporting Table SA29 Budgeted monthly capital expenditure (standard classification)"}]
[{"$f":"desc","v":"Description"},{"$f":"head27","v":"Ref"},{"$f":"Head9","v":"Budget Year 2014/15"},null,null,null,null,null,null,null,null,null,null,null,"Medium Term Revenue and Expenditure Framework"]
["R thousand",null,"July","August","Sept.","October","Nov.","Dec.","January","Feb.","March","April","May","June",{"$f":"Head9","v":"Budget Year 2014/15"},{"$f":"Head10","v":"Budget Year +1 2015/16"},{"$f":"Head11","v":"Budget Year +2 2016/17"}]
[{"$f":"'A5-Capex'!A42","v":"Capital Expenditure - Standard"},1]
[{"$f":"'A5-Capex'!A43","v":"Governance and administration"},null,{"$f":"SUM(C6:C8)","v":81666.67},{"$f":"SUM(D6:D8)","v":1111666.67},{"$f":"SUM(E6:E8)","v":91666.67},71666.67,41666.67,41666.67,41666.67,41666.67,41666.67,41666.67,41666.67,{"$f":"O5-SUM(C5:M5)","v":41666.63000000082},{"$f":"'A5-Capex'!J43","v":1690000},{"$f":"'A5-Capex'!K43","v":654500},{"$f":"'A5-Capex'!L43","v":719950}]
[{"$f":"'A5-Capex'!A44","v":"Executive and council"},null,null,1070000,25000,null,null,null,null,null,null,null,null,{"$f":"O6-SUM(C6:M6)","v":0},{"$f":"'A5-Capex'!J44","v":1095000},{"$f":"'A5-Capex'!K44","v":0},{"$f":"'A5-Capex'!L44","v":0}]
[{"$f":"'A5-Capex'!A45","v":"Budget and treasury office"},null,81666.67,41666.67,41666.67,71666.67,41666.67,41666.67,41666.67,41666.67,41666.67,41666.67,41666.67,41666.630000000121,{"$f":"'A5-Capex'!J45","v":570000},{"$f":"'A5-Capex'!K45","v":627000},{"$f":"'A5-Capex'!L45","v":689700}]
[{"$f":"'A5-Capex'!A46","v":"Corporate services"},null,null,null,25000,null,null,null,null,null,null,null,null,0,{"$f":"'A5-Capex'!J46","v":25000},{"$f":"'A5-Capex'!K46","v":27500.000000000004},{"$f":"'A5-Capex'!L46","v":30250.000000000007}]
[{"$f":"'A5-Capex'!A47","v":"Community and public safety"},null,{"$f":"SUM(C10:C14)","v":0},{"$f":"SUM(D10:D14)","v":0},0,0,0,0,0,0,0,0,0,0,{"$f":"'A5-Capex'!J47","v":0},{"$f":"'A5-Capex'!K47","v":0},{"$f":"'A5-Capex'!L47","v":0}]
[{"$f":"'A5-Capex'!A48","v":"Community and social services"},null,null,null,null,null,null,null,null,null,null,null,null,0,{"$f":"'A5-Capex'!J48","v":0},{"$f":"'A5-Capex'!K48","v":0},{"$f":"'A5-Capex'!L48","v":0}]
[{"$f":"'A5-Capex'!A49","v":"Sport and recreation"},null,null,null,null,null,null,null,null,null,null,null,null,0,{"$f":"'A5-Capex'!J49","v":0},{"$f":"'A5-Capex'!K49","v":0},{"$f":"'A5-Capex'!L49","v":0}]
[{"$f":"'A5-Capex'!A50","v":"Public safety"},null,null,null,null,null,null,null,null,null,null,null,null,0,{"$f":"'A5-Capex'!J50","v":0},{"$f":"'A5-Capex'!K50","v":0},{"$f":"'A5-Capex'!L50","v":0}]
[{"$f":"'A5-Capex'!A51","v":"Housing"},null,null,null,null,null,null,null,null,null,null,null,null,0,{"$f":"'A5-Capex'!J51","v":0},{"$f":"'A5-Capex'!K51","v":0},{"$f":"'A5-Capex'!L51","v":0}]
[{"$f":"'A5-Capex'!A52","v":"Health"},null,null,null,null,null,null,null,null,null,null,null,null,0,{"$f":"'A5-Capex'!J52","v":0},{"$f":"'A5-Capex'!K52","v":0},{"$f":"'A5-Capex'!L52","v":0}]
[{"$f":"'A5-Capex'!A53","v":"Economic and environmental services"},null,{"$f":"SUM(C16:C18)","v":55000},{"$f":"SUM(D16:D18)","v":0},0,0,0,0,0,0,0,0,0,0,{"$f":"'A5-Capex'!J53","v":55000},{"$f":"'A5-Capex'!K53","v":60500.000000000007},{"$f":"'A5-Capex'!L53","v":66550.000000000015}]
[{"$f":"'A5-Capex'!A54","v":"Planning and development"},null,55000,null,null,null,null,null,null,null,null,null,null,0,{"$f":"'A5-Capex'!J54","v":55000},{"$f":"'A5-Capex'!K54","v":60500.000000000007},{"$f":"'A5-Capex'!L54","v":66550.000000000015}]
[{"$f":"'A5-Capex'!A55","v":"Road transport"},null,null,null,null,null,null,null,null,null,null,null,null,0,{"$f":"'A5-Capex'!J55","v":0},{"$f":"'A5-Capex'!K55","v":0},{"$f":"'A5-Capex'!L55","v":0}]
[{"$f":"'A5-Capex'!A56","v":"Environmental protection"},null,null,null,null,null,null,null,null,null,null,null,null,0,{"$f":"'A5-Capex'!J56","v":0},{"$f":"'A5-Capex'!K56","v":0},{"$f":"'A5-Capex'!L56","v":0}]
[{"$f":"'A5-Capex'!A57","v":"Trading services"},null,{"$f":"SUM(C20:C23)","v":0},{"$f":"SUM(D20:D23)","v":0},0,0,0,0,0,0,0,0,0,{"$f":"O19-SUM(C19:M19)","v":0},{"$f":"'A5-Capex'!J57","v":0},{"$f":"'A5-Capex'!K57","v":0},{"$f":"'A5-Capex'!L57","v":0}]
[{"$f":"'A5-Capex'!A58","v":"Electricity"},null,null,null,null,null,null,null,null,null,null,null,null,0,{"$f":"'A5-Capex'!J58","v":0},{"$f":"'A5-Capex'!K58","v":0},{"$f":"'A5-Capex'!L58","v":0}]
[{"$f":"'A5-Capex'!A59","v":"Water"},null,null,null,null,null,null,null,null,null,null,null,null,0,{"$f":"'A5-Capex'!J59","v":0},{"$f":"'A5-Capex'!K59","v":0},{"$f":"'A5-Capex'!L59","v":0}]
[{"$f":"'A5-Capex'!A60","v":"Waste water management"},null,null,null,null,null,null,null,null,null,null,null,null,0,{"$f":"'A5-Capex'!J60","v":0},{"$f":"'A5-Capex'!K60","v":0},{"$f":"'A5-Capex'!L60","v":0}]
[{"$f":"'A5-Capex'!A61","v":"Waste management"},null,null,null,null,null,null,null,null,null,null,null,null,0,{"$f":"'A5-Capex'!J61","v":0},{"$f":"'A5-Capex'!K61","v":0},{"$f":"'A5-Capex'!L61","v":0}]
[{"$f":"'A5-Capex'!A62","v":"Other"},null,null,null,null,null,null,null,null,null,null,null,null,{"$f":"O24-SUM(C24:M24)","v":0},{"$f":"'A5-Capex'!J62","v":0},{"$f":"'A5-Capex'!K62","v":0},{"$f":"'A5-Capex'!L62","v":0}]
[{"$f":"'A5-Capex'!A63","v":"Total Capital Expenditure - Standard"},2,{"$f":"C5+C9+C15+C19+C24","v":136666.66999999998},{"$f":"D5+D9+D15+D19+D24","v":1111666.67},91666.67,71666.67,41666.67,41666.67,41666.67,41666.67,41666.67,41666.67,41666.67,{"$f":"N5+N9+N15+N19+N24","v":41666.63000000082},1745000,715000,786500]
[]
["Funded by:"]
["National Government",null,null,null,null,null,null,null,null,null,null,null,null,{"$f":"O28-SUM(C28:M28)","v":1745000},{"$f":"'A5-Capex'!J66","v":1745000},{"$f":"'A5-Capex'!K66","v":715000},{"$f":"'A5-Capex'!L66","v":786500.00000000012}]
["Provincial Government",null,null,null,null,null,null,null,null,null,null,null,null,{"$f":"O29-SUM(C29:M29)","v":0},{"$f":"'A5-Capex'!J67","v":0},{"$f":"'A5-Capex'!K67","v":0},{"$f":"'A5-Capex'!L67","v":0}]
["District Municipality",null,null,null,null,null,null,null,null,null,null,null,null,0,{"$f":"'A5-Capex'!J68","v":0},{"$f":"'A5-Capex'!K68","v":0},{"$f":"'A5-Capex'!L68","v":0}]
["Other transfers and grants",null,null,null,null,null,null,null,null,null,null,null,null,{"$f":"O31-SUM(C31:M31)","v":0},{"$f":"'A5-Capex'!J69","v":0},{"$f":"'A5-Capex'!K69","v":0},{"$f":"'A5-Capex'!L69","v":0}]
["Transfers recognised - capital",null,{"$f":"SUM(C28:C31)","v":0},0,0,0,0,0,0,0,0,0,0,{"$f":"SUM(N28:N31)","v":1745000},1745000,715000,786500.00000000012]
["Public contributions & donations",null,null,null,null,null,null,null,null,null,null,null,null,0,{"$f":"'A5-Capex'!J71","v":0},{"$f":"'A5-Capex'!K71","v":0},{"$f":"'A5-Capex'!L71","v":0}]
["Borrowing",null,null,null,null,null,null,null,null,null,null,null,null,0,{"$f":"'A5-Capex'!J72","v":0},{"$f":"'A5-Capex'!K72","v":0},{"$f":"'A5-Capex'!L72","v":0}]
["Internally generated funds",null,null,null,null,null,null,null,null,null,null,null,null,0,{"$f":"'A5-Capex'!J73","v":0},{"$f":"'A5-Capex'!K73","v":0},{"$f":"'A5-Capex'!L73","v":0}]
["Total Capital Funding",null,{"$f":"SUM(C32:C35)","v":0},0,0,0,0,0,0,0,0,0,0,{"$f":"SUM(N32:N35)","v":1745000},1745000,715000,786500.00000000012]
[{"$f":"head27a","v":"References"}]
["1. Table should be completed as either Multi-Year expenditure appropriation or Budget Year and Forward Year estimates"]
[{"$f":"'SA28'!A44","v":"2. Total Capital Expenditure must reconcile to Budgeted Capital Expenditure"}]
["check"]

{"sheet":"SA30","index":50,"n_rows":64,"n_cols":18,"rows_kept":64,"cut":false,"hidden":false,"merged":[[1,13,1,15],[1,1,1,12]]}
[{"$f":"muni&\" - \"& TableA30","v":"DC16 Xhariep - Supporting Table SA30 Budgeted monthly cash flow"}]
["MONTHLY CASH FLOWS",{"$f":"Head9","v":"Budget Year 2014/15"},null,null,null,null,null,null,null,null,null,null,null,"Medium Term Revenue and Expenditure Framework"]
["R thousand","July","August","Sept.","October","November","December","January","February","March","April","May","June",{"$f":"Head9","v":"Budget Year 2014/15"},{"$f":"Head10","v":"Budget Year +1 2015/16"},{"$f":"Head11","v":"Budget Year +2 2016/17"}]
["Cash Receipts By Source",null,null,null,null,null,null,null,null,null,null,null,null,1]
[{"$f":"'A4-FinPerf RE'!A5","v":"Property rates"},null,null,null,null,null,null,null,null,null,null,null,{"$f":"N5-SUM(B5:L5)","v":0}]
[{"$f":"'A4-FinPerf RE'!A6","v":"Property rates - penalties & collection charges"},null,null,null,null,null,null,null,null,null,null,null,0]
[{"$f":"'A4-FinPerf RE'!A7","v":"Service charges - electricity revenue"},null,null,null,null,null,null,null,null,null,null,null,0]
[{"$f":"'A4-FinPerf RE'!A8","v":"Service charges - water revenue"},null,null,null,null,null,null,null,null,null,null,null,0]
[{"$f":"'A4-FinPerf RE'!A9","v":"Service charges - sanitation revenue"},null,null,null,null,null,null,null,null,null,null,null,0]
[{"$f":"'A4-FinPerf RE'!A10","v":"Service charges - refuse revenue"},null,null,null,null,null,null,null,null,null,null,null,0]
[{"$f":"'A4-FinPerf RE'!A11","v":"Service charges - other"},null,null,null,null,null,null,null,null,null,null,null,0]
[{"$f":"'A4-FinPerf RE'!A12","v":"Rental of facilities and equipment"},39047.160000000003,39047.160000000003,39047.160000000003,39047.160000000003,39047.160000000003,39047.160000000003,39047.160000000003,39047.160000000003,39047.160000000003,39047.160000000003,39047.160000000003,39047.119999999879,468565.88,{"$f":"N12*1.1","v":515422.46800000005},{"$f":"O12*1.1","v":566964.71480000007}]
[{"$f":"'A4-FinPerf RE'!A13","v":"Interest earned - external investments"},316.67,50316.67,316.67,316.67,316.67,50316.67,316.67,316.67,316.67,316.67,316.67,316.63000000001921,{"$f":"100000+3800","v":103800},{"$f":"N13*1.1","v":114180.00000000001},125598.00000000003]
[{"$f":"'A4-FinPerf RE'!A14","v":"Interest earned - outstanding debtors"},1000.58,1000.58,1000.58,1000.58,1000.58,1000.58,1000.58,1000.58,1000.58,1000.58,1000.58,1000.619999999999,{"$f":"8404+3603","v":12007},{"$f":"N14*1.1","v":13207.7},14528.470000000001]
[{"$f":"'A4-FinPerf RE'!A15","v":"Dividends received"},null,null,null,null,null,null,null,null,null,null,null,0,null,{"$f":"N15*1.1","v":0},0]
[{"$f":"'A4-FinPerf RE'!A16","v":"Fines"},null,null,null,null,null,null,null,null,null,null,null,0,null,{"$f":"N16*1.1","v":0},0]
[{"$f":"'A4-FinPerf RE'!A17","v":"Licences and permits"},null,null,null,null,null,null,null,null,null,null,null,0,null,{"$f":"N17*1.1","v":0},0]
[{"$f":"'A4-FinPerf RE'!A18","v":"Agency services"},null,null,null,null,null,null,null,null,null,null,null,0,null,{"$f":"N18*1.1","v":0},0]
["Transfer receipts - operational",5249333.3,5249333.3,5249333.3,5249333.3,5249333.3,5249333.3,5249333.3,5249333.3,5249333.3,5249333.3,5249333.3,4749333.7000000104,{"$f":"62992000-500000","v":62492000},{"$f":"N19*1.1","v":68741200},75615320]
[{"$f":"'A4-FinPerf RE'!A20","v":"Other revenue"},4916.5,574916.5,4916.5,4916.5,4916.5,4916.5,4916.5,4916.5,4916.5,4916.5,4916.5,4916.0999999999767,628997.6,{"$f":"N20*1.1","v":691897.36},761087.09600000002]
["Cash Receipts by Source",{"$f":"SUM(B5:B20)","v":5294614.21},5914614.21,5294614.21,5294614.21,5294614.21,5344614.21,5294614.21,5294614.21,5294614.21,5294614.21,5294614.21,4794614.1700000102,63705370.480000004,70075907.527999997,77083498.2808]
[]
["Other Cash Flows by Source"]
["Transfer receipts - capital",null,null,null,null,null,null,null,null,null,null,null,{"$f":"N24-SUM(B24:L24)","v":0}]
[{"$f":"'A4-FinPerf RE'!A40&\" & \"&'A4-FinPerf RE'!A41","v":"Contributions recognised - capital & Contributed assets"},null,null,null,null,null,null,null,null,null,null,null,0]
[{"$f":"'A7-CFlow'!A19","v":"Proceeds on disposal of PPE"},null,null,null,null,null,null,null,null,null,null,null,0]
[{"$f":"'A7-CFlow'!A29","v":"Short term loans"},null,null,null,null,null,null,null,null,null,null,null,0]
[{"$f":"'A7-CFlow'!A30","v":"Borrowing long term/refinancing"},null,null,null,null,null,null,null,null,null,null,null,0]
[{"$f":"'A7-CFlow'!A31","v":"Increase (decrease) in consumer deposits"},null,null,null,null,null,null,null,null,null,null,null,0]
[{"$f":"'A7-CFlow'!A20","v":"Decrease (Increase) in non-current debtors"},null,null,null,null,null,null,null,null,null,null,null,0]
[{"$f":"'A7-CFlow'!A21","v":"Decrease (increase) other non-current receivables"},null,null,null,null,null,null,null,null,null,null,null,0]
[{"$f":"'A7-CFlow'!A22","v":"Decrease (increase) in non-current investments"},null,null,null,null,null,null,null,null,null,null,null,0]
["Total Cash Receipts by Source",{"$f":"SUM(B21:B32)","v":5294614.21},5914614.21,5294614.21,5294614.21,5294614.21,5344614.21,5294614.21,5294614.21,5294614.21,5294614.21,5294614.21,4794614.1700000102,63705370.480000004,70075907.527999997,77083498.2808]
[]
["Cash Payments by Type"]
["Employee related costs",{"$f":"N36/12","v":3263733.8291666661},3263733.8291666661,3263733.8291666661,3263733.8291666661,3263733.8291666661,3263733.8291666661,3263733.8291666661,3263733.8291666661,3263733.8291666661,3263733.8291666661,3263733.8291666661,{"$f":"N36-SUM(B36:L36)","v":3263733.8291666657},39164805.949999996,{"$f":"N36*1.1","v":43081286.545000002},{"$f":"O36*1.1","v":47389415.199500009}]
["Remuneration of councillors",{"$f":"N37/12","v":391402.79000000004},391402.79000000004,391402.79000000004,391402.79000000004,391402.79000000004,391402.79000000004,391402.79000000004,391402.79000000004,391402.79000000004,391402.79000000004,391402.79000000004,391402.79000000004,4696833.4800000004,{"$f":"N37*1.1","v":5166516.8280000007},{"$f":"O37*1.1","v":5683168.5108000012}]
["Finance charges",null,null,null,null,null,null,null,null,null,null,null,0]
["Bulk purchases - Electricity",null,null,null,null,null,null,null,null,null,null,null,0]
["Bulk purchases - Water & Sewer",null,null,null,null,null,null,null,null,null,null,null,0]
["Other materials",null,null,null,null,null,null,null,null,null,null,null,0]
["Contracted services",null,null,null,null,null,null,null,null,null,null,null,0]
["Transfers and grants - other municipalities",null,null,null,null,null,null,null,null,null,null,null,0]
["Transfers and grants - other",null,null,null,null,null,null,null,null,null,null,null,0]
["Other expenditure",{"$f":"N45/12","v":1021936.665},980269.99833333341,980269.99833333341,980269.99833333341,980269.99833333341,980269.99833333341,980269.99833333341,980269.99833333341,980269.99833333341,980269.99833333341,980269.99833333341,1438603.331666667,{"$f":"18672239.98-N49-N51","v":12263239.98},{"$f":"N45*1.1","v":13489563.978000002},{"$f":"O45*1.1","v":14838520.375800004}]
["Cash Payments by Type",{"$f":"SUM(B36:B45)","v":4677073.2841666657},4635406.6174999997,4635406.6174999997,4635406.6174999997,4635406.6174999997,4635406.6174999997,4635406.6174999997,4635406.6174999997,4635406.6174999997,4635406.6174999997,4635406.6174999997,5093739.9508333327,56124879.409999996,61737367.351000004,67911104.086100012]
[]
["Other Cash Flows/Payments by Type"]
[{"$f":"'A7-CFlow'!A24","v":"Capital assets"},{"$f":"136666.67-41666.67","v":95000.000000000015},{"$f":"1111666.67-41666.67","v":1070000},{"$f":"91666.67-41666.67","v":50000},{"$f":"71666.67-41666.67","v":30000},null,null,null,null,null,null,null,{"$f":"N49-SUM(B49:L49)","v":0},{"$f":"1745000-500000","v":1245000},{"$f":"150000*1.1","v":165000},{"$f":"O49*1.1","v":181500.00000000003}]
[{"$f":"'A7-CFlow'!A33","v":"Repayment of borrowing"},{"$f":"N50/12","v":41666.666666666664},41666.666666666664,41666.666666666664,41666.666666666664,41666.666666666664,41666.666666666664,41666.666666666664,41666.666666666664,41666.666666666664,41666.666666666664,41666.666666666664,{"$f":"N50-SUM(B50:L50)","v":41666.666666666628},500000,{"$f":"N50*1.1","v":550000},{"$f":"O50*1.1","v":605000}]
[{"$f":"LEFT(A48,25)","v":"Other Cash Flows/Payments"},{"$f":"N51/12","v":430333.33333333331},430333.33333333331,430333.33333333331,430333.33333333331,430333.33333333331,430333.33333333331,430333.33333333331,430333.33333333331,430333.33333333331,430333.33333333331,430333.33333333331,{"$f":"N51-SUM(B51:L51)","v":430333.33333333302},5164000,{"$f":"N51*1.1","v":5680400},{"$f":"O51*1.1","v":6248440.0000000009}]
["Total Cash Payments by Type",{"$f":"SUM(B46:B51)","v":5244073.2841666657},{"$f":"SUM(C46:C51)","v":6177406.6174999997},5157406.6174999997,5137406.6174999997,5107406.6174999997,5107406.6174999997,5107406.6174999997,5107406.6174999997,5107406.6174999997,5107406.6174999997,5107406.6174999997,5565739.9508333327,63033879.409999996,68132767.351000011,74946044.086100012,null,"Check"]
[]
["NET INCREASE/(DECREASE) IN CASH HELD",{"$f":"B33-B52","v":50540.925833334215},-262792.40749999974,137207.59250000026,157207.59250000026,187207.59250000026,237207.59250000026,187207.59250000026,187207.59250000026,187207.59250000026,187207.59250000026,187207.59250000026,-771125.78083332255,671491.07000000775,1943140.1769999862,2137454.1946999878]
["Cash/cash equivalents at the month/year begin:",null,{"$f":"B56","v":50540.925833334215},{"$f":"C56","v":-212251.48166666552},-75043.889166665263,82163.703333334997,269371.29583333526,506578.88833333552,693786.48083333578,880994.07333333604,1068201.6658333363,1255409.2583333366,1442616.8508333368,{"$f":"B55","v":0},{"$f":"N56","v":671491.07000000775},{"$f":"O56","v":2614631.2469999939}]
["Cash/cash equivalents at the month/year end:",{"$f":"B55+B54","v":50540.925833334215},{"$f":"C55+C54","v":-212251.48166666552},{"$f":"D55+D54","v":-75043.889166665263},82163.703333334997,269371.29583333526,506578.88833333552,693786.48083333578,880994.07333333604,1068201.6658333363,1255409.2583333366,1442616.8508333368,671491.07000001427,671491.07000000775,2614631.2469999939,4752085.4416999817]
[{"$f":"head27a","v":"References"}]
["1. Note that this section of Table SA 30 is deliberately not linked to Table A4 because timing differences between the invoicing of clients and receiving the cash means that the cashflow will differ from budgeted revenue, and similarly for budgeted expenditure. "]
[]
[]
[]
[]
[null,null,null,null,{"$f":"E46+E62","v":4635406.6174999997},4635406.6174999997,4635406.6174999997,4635406.6174999997,4635406.6174999997,4635406.6174999997,4635406.6174999997,4635406.6174999997,5093739.9508333327,56124879.409999996,61737367.351000004,67911104.086100012]
[null,null,null,null,{"$f":"E54-E62","v":157207.59250000026},187207.59250000026,237207.59250000026,187207.59250000026,187207.59250000026,187207.59250000026,187207.59250000026,187207.59250000026,-771125.78083332255,671491.07000000775,1943140.1769999862,2137454.1946999878]

{"sheet":"SA31","index":51,"n_rows":41,"n_cols":11,"rows_kept":41,"cut":false,"hidden":false,"merged":[[1,5,1,7],[1,8,1,10],[1,1,2,1]]}
[{"$f":"muni&\" - \"& TableA31","v":"DC16 Xhariep - NOT REQUIRED - municipality does not have entities"}]
[{"$f":"desc","v":"Description"},{"$f":"head27","v":"Ref"},{"$f":"head1b","v":"2010/11"},{"$f":"head1A","v":"2011/12"},{"$f":"Head1","v":"2012/13"},{"$f":"Head2","v":"Current Year 2013/14"},null,null,{"$f":"Head3","v":"2014/15 Medium Term Revenue & Expenditure Framework"}]
["R million",null,{"$f":"Head5","v":"Audited Outcome"},{"$f":"Head5","v":"Audited Outcome"},{"$f":"Head5","v":"Audited Outcome"},{"$f":"Head6","v":"Original Budget"},{"$f":"Head7","v":"Adjusted Budget"},{"$f":"Head8","v":"Full Year Forecast"},{"$f":"Head9","v":"Budget Year 2014/15"},{"$f":"Head10","v":"Budget Year +1 2015/16"},{"$f":"Head11","v":"Budget Year +2 2016/17"}]
["Financial Performance"]
[{"$f":"'A1-Sum'!A5","v":"Property rates"}]
[{"$f":"'A1-Sum'!A6","v":"Service charges"}]
[{"$f":"'A1-Sum'!A7","v":"Investment revenue"}]
[{"$f":"'A1-Sum'!A8","v":"Transfers recognised - operational"}]
[{"$f":"'A1-Sum'!A9","v":"Other own revenue"}]
[{"$f":"'A1-Sum'!A21","v":"Contributions recognised - capital & contributed assets"}]
[{"$f":"'A4-FinPerf RE'!A22","v":"Total Revenue (excluding capital transfers and contributions)"},null,{"$f":"SUM(C5:C10)","v":0},{"$f":"SUM(D5:D10)","v":0},{"$f":"SUM(E5:E10)","v":0},0,0,0,0,0,0]
[{"$f":"'A1-Sum'!A11","v":"Employee costs"}]
["Remuneration of Board Members"]
[{"$f":"'A1-Sum'!A13","v":"Depreciation & asset impairment"}]
[{"$f":"'A1-Sum'!A14","v":"Finance charges"}]
[{"$f":"'A1-Sum'!A15","v":"Materials and bulk purchases"}]
[{"$f":"'A1-Sum'!A16","v":"Transfers and grants"}]
[{"$f":"'A1-Sum'!A17","v":"Other expenditure"}]
[{"$f":"'A4-FinPerf RE'!A36","v":"Total Expenditure"},null,{"$f":"SUM(C12:C18)","v":0},{"$f":"SUM(D12:D18)","v":0},0,0,0,0,0,0,0]
[{"$f":"'A4-FinPerf RE'!A38","v":"Surplus/(Deficit)"},null,{"$f":"C11-C19","v":0},{"$f":"D11-D19","v":0},0,0,0,0,0,0,0]
[]
["Capital expenditure & funds sources"]
["Capital expenditure"]
[{"$f":"A8","v":"Transfers recognised - operational"}]
[{"$f":"'A5-Capex'!A71","v":"Public contributions & donations"}]
[{"$f":"'A5-Capex'!A72","v":"Borrowing"}]
[{"$f":"'A5-Capex'!A73","v":"Internally generated funds"}]
["Total sources",null,{"$f":"SUM(C24:C27)","v":0},0,0,0,0,0,0,0,0]
[]
["Financial position"]
[{"$f":"'A6-FinPos'!A12","v":"Total current assets"}]
[{"$f":"'A6-FinPos'!A24","v":"Total non current assets"}]
[{"$f":"'A6-FinPos'!A34","v":"Total current liabilities"}]
[{"$f":"'A6-FinPos'!A39","v":"Total non current liabilities"}]
["Equity"]
[]
["Cash flows"]
[{"$f":"'A1-Sum'!A42","v":"Net cash from (used) operating"}]
[{"$f":"'A1-Sum'!A43","v":"Net cash from (used) investing"}]
[{"$f":"'A1-Sum'!A44","v":"Net cash from (used) financing"}]
[{"$f":"'A1-Sum'!A45","v":"Cash/cash equivalents at the year end"}]

{"sheet":"SA32","index":52,"n_rows":27,"n_cols":6,"rows_kept":27,"cut":false,"hidden":false,"merged":[[1,3,2,3],[1,4,2,4],[1,1,2,1]]}
[{"$f":"muni&\" - \"&TableA32","v":"DC16 Xhariep - Supporting Table SA32 List of external mechanisms"}]
["External mechanism","Yrs/ Mths","Period of agreement 1.","Service provided","Expiry date of service delivery agreement or contract","Monetary value of agreement 2."]
["Name of organisation",null,"Number",null,null,"R thousand"]
[]
[]
[]
[]
[]
[]
[]
[]
[]
[]
[]
[]
[]
[]
[]
[]
[]
[]
[]
[]
[]
[{"$f":"head27a","v":"References"}]
["1. Total agreement period from commencement until end"]
["2. Annual value"]

{"sheet":"SA33","index":53,"n_rows":48,"n_cols":15,"rows_kept":48,"cut":false,"hidden":false,"merged":[[1,4,1,6],[47,0,47,13]]}
[{"$f":"muni&\" - \"& TableA33","v":"DC16 Xhariep - Supporting Table SA33 Contracts having future budgetary implications"}]
[{"$f":"desc","v":"Description"},{"$f":"head27","v":"Ref"},"Preceding Years",{"$f":"Head2","v":"Current Year 2013/14"},{"$f":"Head3","v":"2014/15 Medium Term Revenue & Expenditure Framework"},null,null,{"$f":"Head12","v":"Forecast 2017/18"},{"$f":"Head13","v":"Forecast 2018/19"},{"$f":"Head14","v":"Forecast 2019/20"},{"$f":"Head15","v":"Forecast 2020/21"},{"$f":"Head16","v":"Forecast 2021/22"},{"$f":"Head17","v":"Forecast 2022/23"},{"$f":"Head18","v":"Forecast 2023/24"},"Total Contract Value"]
["R thousand","1,3","Total",{"$f":"Head6","v":"Original Budget"},{"$f":"Head9","v":"Budget Year 2014/15"},{"$f":"Head10","v":"Budget Year +1 2015/16"},{"$f":"Head11","v":"Budget Year +2 2016/17"},"Estimate","Estimate","Estimate","Estimate","Estimate","Estimate","Estimate","Estimate"]
["Parent Municipality:"]
["Revenue Obligation By Contract",2]
["Finance Lease Contract",null,null,706000,500000,{"$f":"E6*1.1","v":550000},{"$f":"F6*1.1","v":605000},null,null,null,null,null,null,null,{"$f":"SUM(C6:N6)","v":2361000}]
["Contract 2",null,null,null,null,null,null,null,null,null,null,null,null,null,{"$f":"SUM(C7:N7)","v":0}]
["Contract 3 etc",null,null,null,null,null,null,null,null,null,null,null,null,null,{"$f":"SUM(C8:N8)","v":0}]
["Total Operating Revenue Implication",null,{"$f":"SUM(C6:C8)","v":0},{"$f":"SUM(D6:D8)","v":706000},500000,550000,605000,0,0,0,0,0,0,0,{"$f":"SUM(C9:N9)","v":2361000}]
[]
["Expenditure Obligation By Contract",2]
["Finance Lease Contract",null,null,706000,500000,{"$f":"E12*1.1","v":550000},{"$f":"F12*1.1","v":605000},null,null,null,null,null,null,null,{"$f":"SUM(C12:N12)","v":2361000}]
["Contract 2",null,null,null,null,null,null,null,null,null,null,null,null,null,{"$f":"SUM(C13:N13)","v":0}]
["Contract 3 etc",null,null,null,null,null,null,null,null,null,null,null,null,null,{"$f":"SUM(C14:N14)","v":0}]
["Total Operating Expenditure Implication",null,{"$f":"SUM(C12:C14)","v":0},706000,500000,550000,605000,0,0,0,0,0,0,0,{"$f":"SUM(C15:N15)","v":2361000}]
[]
["Capital Expenditure Obligation By Contract",2]
["Contract 1",null,null,null,null,null,null,null,null,null,null,null,null,null,{"$f":"SUM(C18:N18)","v":0}]
["Contract 2",null,null,null,null,null,null,null,null,null,null,null,null,null,{"$f":"SUM(C19:N19)","v":0}]
["Contract 3 etc",null,null,null,null,null,null,null,null,null,null,null,null,null,{"$f":"SUM(C20:N20)","v":0}]
["Total Capital Expenditure Implication",null,{"$f":"SUM(C18:C20)","v":0},0,0,0,0,0,0,0,0,0,0,0,{"$f":"SUM(C21:N21)","v":0}]
[]
["Total Parent Expenditure Implication",null,{"$f":"C15+C21","v":0},{"$f":"D15+D21","v":706000},500000,550000,605000,0,0,0,0,0,0,0,2361000]
[]
["Entities:"]
["Revenue Obligation By Contract",2]
["Contract 1",null,null,null,null,null,null,null,null,null,null,null,null,null,{"$f":"SUM(C27:N27)","v":0}]
["Contract 2",null,null,null,null,null,null,null,null,null,null,null,null,null,{"$f":"SUM(C28:N28)","v":0}]
["Contract 3 etc",null,null,null,null,null,null,null,null,null,null,null,null,null,{"$f":"SUM(C29:N29)","v":0}]
["Total Operating Revenue Implication",null,{"$f":"SUM(C27:C29)","v":0},0,0,0,0,0,0,0,0,0,0,0,{"$f":"SUM(C30:N30)","v":0}]
[]
["Expenditure Obligation By Contract",2]
["Contract 1",null,null,null,null,null,null,null,null,null,null,null,null,null,{"$f":"SUM(C33:N33)","v":0}]
["Contract 2",null,null,null,null,null,null,null,null,null,null,null,null,null,{"$f":"SUM(C34:N34)","v":0}]
["Contract 3 etc",null,null,null,null,null,null,null,null,null,null,null,null,null,{"$f":"SUM(C35:N35)","v":0}]
["Total Operating Expenditure Implication",null,{"$f":"SUM(C33:C35)","v":0},0,0,0,0,0,0,0,0,0,0,0,{"$f":"SUM(C36:N36)","v":0}]
[]
["Capital Expenditure Obligation By Contract",2]
["Contract 1",null,null,null,null,null,null,null,null,null,null,null,null,null,{"$f":"SUM(C39:N39)","v":0}]
["Contract 2",null,null,null,null,null,null,null,null,null,null,null,null,null,{"$f":"SUM(C40:N40)","v":0}]
["Contract 3 etc",null,null,null,null,null,null,null,null,null,null,null,null,null,{"$f":"SUM(C41:N41)","v":0}]
["Total Capital Expenditure Implication",null,{"$f":"SUM(C39:C41)","v":0},0,0,0,0,0,0,0,0,0,0,0,{"$f":"SUM(C42:N42)","v":0}]
[]
["Total Entity Expenditure Implication",null,{"$f":"C36+C42","v":0},{"$f":"D36+D42","v":0},0,0,0,0,0,0,0,0,0,0,0]
[{"$f":"head27a","v":"References"}]
["1. Total implication for all preceding years to be summed and total stated in 'Preceding Years' column"]
["2. List all contracts with future financial obligations beyond the three years covered by the MTREF (MFMA s33)"]
["3. For municipalities with approved total revenue not exceeding R250 m - all contracts with an annual cost greater than R500 000. For municipalities with approved total revenue greater than R250 m - all contracts with an annual cost greater than R1million. For municipalities with approved total revenue greater than R500 m - all contracts with an annual cost greater than R5 million"]

{"sheet":"SA34a","index":54,"n_rows":97,"n_cols":11,"rows_kept":97,"cut":false,"hidden":false,"merged":[[1,5,1,7],[1,8,1,10]]}
[{"$f":"muni&\" - \"&TableA34a","v":"DC16 Xhariep - Supporting Table SA34a Capital expenditure on new assets by asset class"}]
[{"$f":"desc","v":"Description"},{"$f":"head27","v":"Ref"},{"$f":"head1b","v":"2010/11"},{"$f":"head1A","v":"2011/12"},{"$f":"Head1","v":"2012/13"},{"$f":"Head2","v":"Current Year 2013/14"},null,null,{"$f":"Head3","v":"2014/15 Medium Term Revenue & Expenditure Framework"}]
["R thousand",1,{"$f":"Head5","v":"Audited Outcome"},{"$f":"Head5","v":"Audited Outcome"},{"$f":"Head5","v":"Audited Outcome"},{"$f":"Head6","v":"Original Budget"},{"$f":"Head7","v":"Adjusted Budget"},{"$f":"Head8","v":"Full Year Forecast"},{"$f":"Head9","v":"Budget Year 2014/15"},{"$f":"Head10","v":"Budget Year +1 2015/16"},{"$f":"Head11","v":"Budget Year +2 2016/17"}]
["Capital expenditure on new assets by Asset Class/Sub-class"]
[]
["Infrastructure",null,{"$f":"C7+C10+C14+C18+C21","v":0},0,0,0,0,0,0,0,0]
["Infrastructure - Road transport",null,{"$f":"SUM(C8:C9)","v":0},{"$f":"SUM(D8:D9)","v":0},0,0,0,0,0,0,0]
["Roads, Pavements & Bridges"]
["Storm water"]
["Infrastructure - Electricity",null,{"$f":"SUM(C11:C13)","v":0},{"$f":"SUM(D11:D13)","v":0},0,0,0,0,0,0,0]
["Generation"]
["Transmission & Reticulation"]
["Street Lighting"]
["Infrastructure - Water",null,{"$f":"SUM(C15:C17)","v":0},{"$f":"SUM(D15:D17)","v":0},0,0,0,0,0,0,0]
["Dams & Reservoirs"]
["Water purification"]
["Reticulation"]
["Infrastructure - Sanitation",null,{"$f":"SUM(C19:C20)","v":0},0,0,0,0,0,0,0,0]
["Reticulation"]
["Sewerage purification"]
["Infrastructure - Other",null,{"$f":"SUM(C22:C25)","v":0},{"$f":"SUM(D22:D25)","v":0},0,0,0,0,0,0,0]
["Waste Management"]
["Transportation",2]
["Gas"]
["Other",3]
[]
["Community",null,{"$f":"SUM(C28:C41)","v":0},{"$f":"SUM(D28:D41)","v":0},0,0,0,0,0,0,0]
["Parks & gardens"]
["Sportsfields & stadia"]
["Swimming pools"]
["Community halls"]
["Libraries"]
["Recreational facilities"]
["Fire, safety & emergency"]
["Security and policing"]
["Buses",7]
["Clinics"]
["Museums & Art Galleries"]
["Cemeteries"]
["Social rental housing",8]
["Other"]
[]
["Heritage assets",null,{"$f":"SUM(C44:C45)","v":0},{"$f":"SUM(D44:D45)","v":0},0,0,0,0,0,0,0]
["Buildings"]
["Other",9]
[]
["Investment properties",null,{"$f":"SUM(C48:C49)","v":0},{"$f":"SUM(D48:D49)","v":0},0,0,0,0,0,0,0]
["Housing development"]
["Other"]
[]
["Other assets",null,{"$f":"SUM(C52:C63)","v":2393801},{"$f":"SUM(D52:D63)","v":0},0,3050000,1324913,1324913,1745000,715000,786500]
["General vehicles",null,820000,null,null,1250000,185000,185000,1070000,0,0]
["Specialised vehicles",10,{"$f":"C79","v":0},{"$f":"D79","v":0},0,0,0,0,0,0,0]
["Plant & equipment",null,70000,null,null,null,null,0,0,0,0]
["Computers - hardware/equipment",null,296000,null,null,130000,172734,172734,125000,{"$f":"105000*1.1","v":115500.00000000001},{"$f":"J55*1.1","v":127050.00000000003}]
["Furniture and other office equipment",null,null,null,null,420000,67179,67179,50000,{"$f":"45000*1.1","v":49500.000000000007},{"$f":"J56*1.1","v":54450.000000000015}]
["Abattoirs"]
["Markets"]
["Civic Land and Buildings"]
["Other Buildings"]
["Other Land",null,null,null,null,650000]
["Surplus Assets - (Investment or Inventory)",null,1207801]
["Other",null,null,null,null,600000,900000,900000,500000,{"$f":"I63*1.1","v":550000},{"$f":"J63*1.1","v":605000}]
[]
["Agricultural assets",null,{"$f":"SUM(C66:C67)","v":0},{"$f":"SUM(D66:D67)","v":0},0,0,0,0,0,0,0]
["List sub-class"]
[]
[]
["Biological assets",null,{"$f":"SUM(C70:C71)","v":0},{"$f":"SUM(D70:D71)","v":0},0,0,0,0,0,0,0]
["List sub-class"]
[]
[]
["Intangibles",null,{"$f":"SUM(C74:C75)","v":0},{"$f":"SUM(D74:D75)","v":0},0,0,0,0,0,0,0]
["Computers - software & programming"]
["Other (list sub-class)"]
[]
["Total Capital Expenditure on new assets",1,{"$f":"C6+C27+C43+C47+C51+C73+C65+C69","v":2393801},0,0,3050000,1324913,1324913,1745000,715000,786500]
[]
["Specialised vehicles",null,{"$f":"SUM(C80:C83)","v":0},0,0,0,0,0,0,0,0]
["Refuse"]
["Fire"]
["Conservancy"]
["Ambulances"]
[{"$f":"head27a","v":"References"}]
["1. Total Capital Expenditure on new assets (SA34a) plus Total Capital Expenditure on renewal of existing assets (SA34b) must reconcile to total capital expenditure in Budgeted Capital Expenditure"]
["2. Airports, Car Parks, Bus Terminals and Taxi Ranks"]
["3. For example - technology backbones (e.g. fibre optic, WIFI infrastructure) for economic development purposes"]
["4. Work-in-progress/under construction to be budgeted under the respective item"]
["5. Infrastructure includes 'land and buildings required' by that infrastructure and vehicles/plant & equipment used by the service generated by that infrastructure"]
["6. Donated/contributed & leased assets to be included within the respective sub-class"]
["7. Busses used to provide a service to the community"]
["8. Not municipal contributions to the 'top structure' being built using the housing subsidies"]
["9. Statues, art collections, medals etc."]
["10. Ambulances, fire engines, refuse vehicles - but not vehicles that would normally be classified as 'Plant and equipment'"]
[]
[]
["check balance",null,{"$f":"SUM(C77+SA34b!C77)-'A5-Capex'!C40","v":-3077577},{"$f":"SUM(D77+SA34b!D77)-'A5-Capex'!D40","v":-7474889},{"$f":"SUM(E77+SA34b!E77)-'A5-Capex'!E40","v":-20076711},{"$f":"SUM(F77+SA34b!F77)-'A5-Capex'!F40","v":304.34782608598471},{"$f":"SUM(G77+SA34b!G77)-'A5-Capex'!G40","v":333.33629629644565},{"$f":"SUM(H77+SA34b!H77)-'A5-Capex'!H40","v":333.33629629644565},{"$f":"SUM(I77+SA34b!I77)-'A5-Capex'!J40","v":0},{"$f":"SUM(J77+SA34b!J77)-'A5-Capex'!K40","v":0},{"$f":"SUM(K77+SA34b!K77)-'A5-Capex'!L40","v":0}]

{"sheet":"SA34b","index":55,"n_rows":100,"n_cols":11,"rows_kept":100,"cut":false,"hidden":false,"merged":[[1,5,1,7],[1,8,1,10]]}
[{"$f":"muni&\" - \"&TableA34b","v":"DC16 Xhariep - Supporting Table SA34b Capital expenditure on the renewal of existing assets by asset class"}]
[{"$f":"desc","v":"Description"},{"$f":"head27","v":"Ref"},{"$f":"head1b","v":"2010/11"},{"$f":"head1A","v":"2011/12"},{"$f":"Head1","v":"2012/13"},{"$f":"Head2","v":"Current Year 2013/14"},null,null,{"$f":"Head3","v":"2014/15 Medium Term Revenue & Expenditure Framework"}]
["R thousand",1,{"$f":"Head5","v":"Audited Outcome"},{"$f":"Head5","v":"Audited Outcome"},{"$f":"Head5","v":"Audited Outcome"},{"$f":"Head6","v":"Original Budget"},{"$f":"Head7","v":"Adjusted Budget"},{"$f":"Head8","v":"Full Year Forecast"},{"$f":"Head9","v":"Budget Year 2014/15"},{"$f":"Head10","v":"Budget Year +1 2015/16"},{"$f":"Head11","v":"Budget Year +2 2016/17"}]
["Capital expenditure on renewal of existing assets by Asset Class/Sub-class"]
[]
["Infrastructure",null,{"$f":"C7+C10+C14+C18+C21","v":0},{"$f":"D7+D10+D14+D18+D21","v":0},0,0,0,0,0,0,0]
["Infrastructure - Road transport",null,{"$f":"SUM(C8:C9)","v":0},{"$f":"SUM(D8:D9)","v":0},0,0,0,0,0,0,0]
["Roads, Pavements & Bridges"]
["Storm water"]
["Infrastructure - Electricity",null,{"$f":"SUM(C11:C13)","v":0},{"$f":"SUM(D11:D13)","v":0},0,0,0,0,0,0,0]
["Generation"]
["Transmission & Reticulation"]
["Street Lighting"]
["Infrastructure - Water",null,{"$f":"SUM(C15:C17)","v":0},{"$f":"SUM(D15:D17)","v":0},0,0,0,0,0,0,0]
["Dams & Reservoirs"]
["Water purification"]
["Reticulation"]
["Infrastructure - Sanitation",null,{"$f":"SUM(C19:C20)","v":0},0,0,0,0,0,0,0,0]
["Reticulation"]
["Sewerage purification"]
["Infrastructure - Other",null,{"$f":"SUM(C22:C25)","v":0},{"$f":"SUM(D22:D25)","v":0},0,0,0,0,0,0,0]
["Waste Management"]
["Transportation",2]
["Gas"]
["Other",3]
[]
["Community",null,{"$f":"SUM(C28:C41)","v":0},{"$f":"SUM(D28:D41)","v":0},0,0,0,0,0,0,0]
["Parks & gardens"]
["Sportsfields & stadia"]
["Swimming pools"]
["Community halls"]
["Libraries"]
["Recreational facilities"]
["Fire, safety & emergency"]
["Security and policing"]
["Buses",7]
["Clinics"]
["Museums & Art Galleries"]
["Cemeteries"]
["Social rental housing",8]
["Other"]
[]
["Heritage assets",null,{"$f":"SUM(C44:C45)","v":0},{"$f":"SUM(D44:D45)","v":0},0,0,0,0,0,0,0]
["Buildings"]
["Other",9]
[]
["Investment properties",null,{"$f":"SUM(C48:C49)","v":0},{"$f":"SUM(D48:D49)","v":0},0,0,0,0,0,0,0]
["Housing development"]
["Other"]
[]
["Other assets",null,{"$f":"SUM(C52:C63)","v":140000},{"$f":"SUM(D52:D63)","v":0},0,0,0,0,0,0,0]
["General vehicles"]
["Specialised vehicles",10,{"$f":"C79","v":0},{"$f":"D79","v":0},0,0,0,0,0,0,0]
["Plant & equipment"]
["Computers - hardware/equipment"]
["Furniture and other office equipment"]
["Abattoirs"]
["Markets"]
["Civic Land and Buildings"]
["Other Buildings",null,140000]
["Other Land"]
["Surplus Assets - (Investment or Inventory)"]
["Other"]
[]
["Agricultural assets",null,{"$f":"SUM(C66:C67)","v":0},{"$f":"SUM(D66:D67)","v":0},0,0,0,0,0,0,0]
["List sub-class"]
[]
[]
["Biological assets",null,{"$f":"SUM(C70:C71)","v":0},{"$f":"SUM(D70:D71)","v":0},0,0,0,0,0,0,0]
["List sub-class"]
[]
[]
["Intangibles",null,{"$f":"SUM(C74:C75)","v":0},{"$f":"SUM(D74:D75)","v":0},0,0,0,0,0,0,0]
["Computers - software & programming"]
["Other (list sub-class)"]
[]
["Total Capital Expenditure on renewal of existing assets ",1,{"$f":"C6+C27+C43+C47+C51+C73+C65+C69","v":140000},0,0,0,0,0,0,0,0]
[]
["Specialised vehicles",null,{"$f":"SUM(C80:C83)","v":0},0,0,0,0,0,0,0,0]
["Refuse"]
["Fire"]
["Conservancy"]
["Ambulances"]
[]
["Renewal of Existing Assets as % of total capex",null,{"$f":"IF(ISERROR(C77/'A9-Asset'!C49),0,(C77/'A9-Asset'!C49))","v":5.5252957907902002E-2},{"$f":"IF(ISERROR(D77/'A9-Asset'!D49),0,(D77/'A9-Asset'!D49))","v":0},{"$f":"IF(ISERROR(E77/'A9-Asset'!E49),0,(E77/'A9-Asset'!E49))","v":0},{"$f":"IF(ISERROR(F77/'A9-Asset'!F49),0,(F77/'A9-Asset'!F49))","v":0},{"$f":"IF(ISERROR(G77/'A9-Asset'!G49),0,(G77/'A9-Asset'!G49))","v":0},{"$f":"IF(ISERROR(H77/'A9-Asset'!H49),0,(H77/'A9-Asset'!H49))","v":0},{"$f":"IF(ISERROR(I77/'A9-Asset'!I49),0,(I77/'A9-Asset'!I49))","v":0},{"$f":"IF(ISERROR(J77/'A9-Asset'!J49),0,(J77/'A9-Asset'!J49))","v":0},{"$f":"IF(ISERROR(K77/'A9-Asset'!K49),0,(K77/'A9-Asset'!K49))","v":0}]
["Renewal of Existing Assets as % of deprecn\"",null,{"$f":"IF(ISERROR(C77/'A9-Asset'!C68),0,(C77/'A9-Asset'!C68))","v":0},{"$f":"IF(ISERROR(D77/'A9-Asset'!D68),0,(D77/'A9-Asset'!D68))","v":0},{"$f":"IF(ISERROR(E77/'A9-Asset'!E68),0,(E77/'A9-Asset'!E68))","v":0},{"$f":"IF(ISERROR(F77/'A9-Asset'!F68),0,(F77/'A9-Asset'!F68))","v":0},{"$f":"IF(ISERROR(G77/'A9-Asset'!G68),0,(G77/'A9-Asset'!G68))","v":0},{"$f":"IF(ISERROR(H77/'A9-Asset'!H68),0,(H77/'A9-Asset'!H68))","v":0},{"$f":"IF(ISERROR(I77/'A9-Asset'!I68),0,(I77/'A9-Asset'!I68))","v":0},{"$f":"IF(ISERROR(J77/'A9-Asset'!J68),0,(J77/'A9-Asset'!J68))","v":0},{"$f":"IF(ISERROR(K77/'A9-Asset'!K68),0,(K77/'A9-Asset'!K68))","v":0}]
[{"$f":"head27a","v":"References"}]
["1. Total Capital Expenditure  on renewal of existing assets (SA34b) plus Total Capital Expenditure on new assets (SA34a) must reconcile to total capital expenditure in Budgeted Capital Expenditure"]
["2. Airports, Car Parks, Bus Terminals and Taxi Ranks"]
["3. For example - technology backbones (e.g. fibre optic, WIFI infrastructure) for economic development purposes"]
["4. Work-in-progress/under construction to be budgeted under the respective item"]
["5. Infrastructure includes 'land and buildings required' by that infrastructure and vehicles/plant & equipment used by the service generated by that infrastructure"]
["6. Donated/contributed & leased assets to be included within the respective sub-class"]
["7. Busses used to provide a service to the community"]
["8. Not municipal contributions to the 'top structure' being built using the housing subsidies"]
["9. Statues, art collections, medals etc."]
["10. Ambulances, fire engines, refuse vehicles - but not vehicles that would normally be classified as 'Plant and equipment'"]
[]
[]
["check balance",null,{"$f":"SUM(C77+SA34a!C77)-'A5-Capex'!C40","v":-3077577},{"$f":"SUM(D77+SA34a!D77)-'A5-Capex'!D40","v":-7474889},{"$f":"SUM(E77+SA34a!E77)-'A5-Capex'!E40","v":-20076711},{"$f":"SUM(F77+SA34a!F77)-'A5-Capex'!F40","v":304.34782608598471},{"$f":"SUM(G77+SA34a!G77)-'A5-Capex'!G40","v":333.33629629644565},{"$f":"SUM(H77+SA34a!H77)-'A5-Capex'!H40","v":333.33629629644565},{"$f":"SUM(I77+SA34a!I77)-'A5-Capex'!J40","v":0},{"$f":"SUM(J77+SA34a!J77)-'A5-Capex'!K40","v":0},{"$f":"SUM(K77+SA34a!K77)-'A5-Capex'!L40","v":0}]

{"sheet":"SA34c","index":56,"n_rows":100,"n_cols":11,"rows_kept":100,"cut":false,"hidden":false,"merged":[[1,5,1,7],[1,8,1,10]]}
[{"$f":"muni&\" - \"&TableA34c","v":"DC16 Xhariep - Supporting Table SA34c Repairs and maintenance expenditure by asset class"}]
[{"$f":"desc","v":"Description"},{"$f":"head27","v":"Ref"},{"$f":"head1b","v":"2010/11"},{"$f":"head1A","v":"2011/12"},{"$f":"Head1","v":"2012/13"},{"$f":"Head2","v":"Current Year 2013/14"},null,null,{"$f":"Head3","v":"2014/15 Medium Term Revenue & Expenditure Framework"}]
["R thousand",1,{"$f":"Head5","v":"Audited Outcome"},{"$f":"Head5","v":"Audited Outcome"},{"$f":"Head5","v":"Audited Outcome"},{"$f":"Head6","v":"Original Budget"},{"$f":"Head7","v":"Adjusted Budget"},{"$f":"Head8","v":"Full Year Forecast"},{"$f":"Head9","v":"Budget Year 2014/15"},{"$f":"Head10","v":"Budget Year +1 2015/16"},{"$f":"Head11","v":"Budget Year +2 2016/17"}]
["Repairs and maintenance expenditure by Asset Class/Sub-class"]
[]
["Infrastructure",null,{"$f":"C7+C10+C14+C18+C21","v":0},{"$f":"D7+D10+D14+D18+D21","v":0},0,0,0,0,0,0,0]
["Infrastructure - Road transport",null,{"$f":"SUM(C8:C9)","v":0},{"$f":"SUM(D8:D9)","v":0},0,0,0,0,0,0,0]
["Roads, Pavements & Bridges"]
["Storm water"]
["Infrastructure - Electricity",null,{"$f":"SUM(C11:C13)","v":0},{"$f":"SUM(D11:D13)","v":0},0,0,0,0,0,0,0]
["Generation"]
["Transmission & Reticulation"]
["Street Lighting"]
["Infrastructure - Water",null,{"$f":"SUM(C15:C17)","v":0},{"$f":"SUM(D15:D17)","v":0},0,0,0,0,0,0,0]
["Dams & Reservoirs"]
["Water purification"]
["Reticulation"]
["Infrastructure - Sanitation",null,{"$f":"SUM(C19:C20)","v":0},0,0,0,0,0,0,0,0]
["Reticulation"]
["Sewerage purification"]
["Infrastructure - Other",null,{"$f":"SUM(C22:C25)","v":0},{"$f":"SUM(D22:D25)","v":0},0,0,0,0,0,0,0]
["Waste Management"]
["Transportation",2]
["Gas"]
["Other",3]
[]
["Community",null,{"$f":"SUM(C28:C41)","v":0},{"$f":"SUM(D28:D41)","v":0},0,0,0,0,0,0,0]
["Parks & gardens"]
["Sportsfields & stadia"]
["Swimming pools"]
["Community halls"]
["Libraries"]
["Recreational facilities"]
["Fire, safety & emergency"]
["Security and policing"]
["Buses",7]
["Clinics"]
["Museums & Art Galleries"]
["Cemeteries"]
["Social rental housing",8]
["Other"]
[]
["Heritage assets",null,{"$f":"SUM(C44:C45)","v":0},{"$f":"SUM(D44:D45)","v":0},0,0,0,0,0,0,0]
["Buildings"]
["Other",9]
[]
["Investment properties",null,{"$f":"SUM(C48:C49)","v":0},{"$f":"SUM(D48:D49)","v":0},0,0,0,0,0,0,0]
["Housing development"]
["Other"]
[]
["Other assets",null,{"$f":"SUM(C52:C63)","v":4878087},{"$f":"SUM(D52:D63)","v":7602087},1271312,1151000,1445465,1445465,528000,580800,638880]
["General vehicles",null,1670528,127198,234735,100000,330000,330000,100000,{"$f":"I52*1.1","v":110000.00000000001},{"$f":"J52*1.1","v":121000.00000000003}]
["Specialised vehicles",10,{"$f":"C79","v":0},{"$f":"D79","v":0},0,0,0,0,0,0,0]
["Plant & equipment",null,null,2096675,0,null,null,null,0,0,0]
["Computers - hardware/equipment",null,571140,357195,38147,40000,2000,2000,20000,{"$f":"I55*1.1","v":22000},{"$f":"J55*1.1","v":24200.000000000004}]
["Furniture and other office equipment",null,687893,666676,347377,373000,435805,435805,{"$f":"130000","v":130000},{"$f":"I56*1.1","v":143000},{"$f":"J56*1.1","v":157300}]
["Abattoirs"]
["Markets"]
["Civic Land and Buildings"]
["Other Buildings",null,1948526,1475030,171053,250000,80000,80000,100000,{"$f":"I60*1.1","v":110000.00000000001},{"$f":"J60*1.1","v":121000.00000000003}]
["Other Land"]
["Surplus Assets - (Investment or Inventory)"]
["Other",null,null,2879313,480000,388000,597660,597660,178000,{"$f":"I63*1.1","v":195800.00000000003},{"$f":"J63*1.1","v":215380.00000000006}]
[]
["Agricultural assets",null,{"$f":"SUM(C66:C67)","v":0},{"$f":"SUM(D66:D67)","v":0},0,0,0,0,0,0,0]
["List sub-class"]
[]
[]
["Biological assets",null,{"$f":"SUM(C70:C71)","v":0},{"$f":"SUM(D70:D71)","v":0},0,0,0,0,0,0,0]
["List sub-class"]
[]
[]
["Intangibles",null,{"$f":"SUM(C74:C75)","v":0},{"$f":"SUM(D74:D75)","v":0},0,0,0,0,0,0,0]
["Computers - software & programming"]
["Other (list sub-class)"]
[]
["Total Repairs and Maintenance Expenditure",1,{"$f":"C6+C27+C43+C47+C51+C73+C65+C69","v":4878087},7602087,1271312,1151000,{"$f":"G6+G27+G43+G47+G51+G73+G65+G69","v":1445465},1445465,528000,580800,638880]
[]
["Specialised vehicles",null,{"$f":"SUM(C80:C83)","v":0},0,0,0,0,0,0,0,0]
["Refuse"]
["Fire"]
["Conservancy"]
["Ambulances"]
[]
["R&M as a % of PPE",null,{"$f":"IF(ISERROR(ROUND(C77/'A6-FinPos'!C19,3)),0,(ROUND(C77/'A6-FinPos'!C19,3)))","v":0.29099999999999998},{"$f":"IF(ISERROR(ROUND(D77/'A6-FinPos'!D19,3)),0,(ROUND(D77/'A6-FinPos'!D19,3)))","v":0.34499999999999997},{"$f":"IF(ISERROR(ROUND(E77/'A6-FinPos'!E19,3)),0,(ROUND(E77/'A6-FinPos'!E19,3)))","v":6.3E-2},{"$f":"IF(ISERROR(ROUND(F77/'A6-FinPos'!F19,3)),0,(ROUND(F77/'A6-FinPos'!F19,3)))","v":5.6000000000000001E-2},{"$f":"IF(ISERROR(ROUND(G77/'A6-FinPos'!G19,3)),0,(ROUND(G77/'A6-FinPos'!G19,3)))","v":7.0000000000000007E-2},{"$f":"IF(ISERROR(ROUND(H77/'A6-FinPos'!H19,3)),0,(ROUND(H77/'A6-FinPos'!H19,3)))","v":7.0000000000000007E-2},{"$f":"IF(ISERROR(ROUND(I77/'A6-FinPos'!J19,3)),0,(ROUND(I77/'A6-FinPos'!J19,3)))","v":3.3000000000000002E-2},{"$f":"IF(ISERROR(ROUND(J77/'A6-FinPos'!K19,3)),0,(ROUND(J77/'A6-FinPos'!K19,3)))","v":4.7E-2},{"$f":"IF(ISERROR(ROUND(K77/'A6-FinPos'!L19,3)),0,(ROUND(K77/'A6-FinPos'!L19,3)))","v":4.2999999999999997E-2}]
["R&M as % Operating Expenditure",null,{"$f":"IF(ISERROR(ROUND(C77/'A1-Sum'!B18,3)),0,(ROUND(C77/'A1-Sum'!B18,3)))","v":0.124},{"$f":"IF(ISERROR(ROUND(D77/'A1-Sum'!C18,3)),0,(ROUND(D77/'A1-Sum'!C18,3)))","v":0.112},{"$f":"IF(ISERROR(ROUND(E77/'A1-Sum'!D18,3)),0,(ROUND(E77/'A1-Sum'!D18,3)))","v":1.7999999999999999E-2},{"$f":"IF(ISERROR(ROUND(F77/'A1-Sum'!E18,3)),0,(ROUND(F77/'A1-Sum'!E18,3)))","v":1.7999999999999999E-2},{"$f":"IF(ISERROR(ROUND(G77/'A1-Sum'!F18,3)),0,(ROUND(G77/'A1-Sum'!F18,3)))","v":2.3E-2},{"$f":"IF(ISERROR(ROUND(H77/'A1-Sum'!G18,3)),0,(ROUND(H77/'A1-Sum'!G18,3)))","v":2.3E-2},{"$f":"IF(ISERROR(ROUND(I77/'A1-Sum'!I18,3)),0,(ROUND(I77/'A1-Sum'!I18,3)))","v":8.0000000000000002E-3},{"$f":"IF(ISERROR(ROUND(J77/'A1-Sum'!J18,3)),0,(ROUND(J77/'A1-Sum'!J18,3)))","v":8.0000000000000002E-3},{"$f":"IF(ISERROR(ROUND(K77/'A1-Sum'!K18,3)),0,(ROUND(K77/'A1-Sum'!K18,3)))","v":8.0000000000000002E-3}]
[{"$f":"head27a","v":"References"}]
["1. Total Repairs and Maintenance Expenditure by Asset Category must reconcile to total repairs and maintenance expenditure on Table SA1"]
["2. Airports, Car Parks, Bus Terminals and Taxi Ranks"]
["3. For example - technology backbones (e.g. fibre optic, WIFI infrastructure) for economic development purposes"]
["4. Work-in-progress/under construction to be budgeted under the respective item"]
["5. Infrastructure includes 'land and buildings required' by that infrastructure and vehicles/plant & equipment used by the service generated by that infrastructure"]
["6. Donated/contributed & leased assets to be included within the respective sub-class"]
["7. Busses used to provide a service to the community"]
["8. Not municipal contributions to the 'top structure' being built using the housing subsidies"]
["9. Statues, art collections, medals etc."]
["10. Ambulances, fire engines, refuse vehicles - but not vehicles that would normally be classified as 'Plant and equipment'"]
[]
[]
["check balance",null,{"$f":"C77-'SA1'!C160","v":87},{"$f":"D77-'SA1'!D160","v":87},{"$f":"E77-'SA1'!E160","v":0},{"$f":"F77-'SA1'!F160","v":0},{"$f":"G77-'SA1'!G160","v":0},{"$f":"H77-'SA1'!H160","v":0},{"$f":"I77-'SA1'!J160","v":0},{"$f":"J77-'SA1'!K160","v":0},{"$f":"K77-'SA1'!L160","v":0}]

{"sheet":"SA34d","index":57,"n_rows":97,"n_cols":11,"rows_kept":97,"cut":false,"hidden":false,"merged":[[1,5,1,7],[1,8,1,10]]}
[{"$f":"muni&\" - \"&TableA34d","v":"DC16 Xhariep - Supporting Table SA34d Depreciation by asset class"}]
[{"$f":"desc","v":"Description"},{"$f":"head27","v":"Ref"},{"$f":"head1b","v":"2010/11"},{"$f":"head1A","v":"2011/12"},{"$f":"Head1","v":"2012/13"},{"$f":"Head2","v":"Current Year 2013/14"},null,null,{"$f":"Head3","v":"2014/15 Medium Term Revenue & Expenditure Framework"}]
["R thousand",1,{"$f":"Head5","v":"Audited Outcome"},{"$f":"Head5","v":"Audited Outcome"},{"$f":"Head5","v":"Audited Outcome"},{"$f":"Head6","v":"Original Budget"},{"$f":"Head7","v":"Adjusted Budget"},{"$f":"Head8","v":"Full Year Forecast"},{"$f":"Head9","v":"Budget Year 2014/15"},{"$f":"Head10","v":"Budget Year +1 2015/16"},{"$f":"Head11","v":"Budget Year +2 2016/17"}]
["Depreciation by Asset Class/Sub-class"]
[]
["Infrastructure",null,{"$f":"C7+C10+C14+C18+C21","v":0},{"$f":"D7+D10+D14+D18+D21","v":0},0,0,0,0,0,0,0]
["Infrastructure - Road transport",null,{"$f":"SUM(C8:C9)","v":0},{"$f":"SUM(D8:D9)","v":0},0,0,0,0,0,0,0]
["Roads, Pavements & Bridges"]
["Storm water"]
["Infrastructure - Electricity",null,{"$f":"SUM(C11:C13)","v":0},{"$f":"SUM(D11:D13)","v":0},0,0,0,0,0,0,0]
["Generation"]
["Transmission & Reticulation"]
["Street Lighting"]
["Infrastructure - Water",null,{"$f":"SUM(C15:C17)","v":0},{"$f":"SUM(D15:D17)","v":0},0,0,0,0,0,0,0]
["Dams & Reservoirs"]
["Water purification"]
["Reticulation"]
["Infrastructure - Sanitation",null,{"$f":"SUM(C19:C20)","v":0},0,0,0,0,0,0,0,0]
["Reticulation"]
["Sewerage purification"]
["Infrastructure - Other",null,{"$f":"SUM(C22:C25)","v":0},{"$f":"SUM(D22:D25)","v":0},0,0,0,0,0,0,0]
["Waste Management"]
["Transportation",2]
["Gas"]
["Other",3]
[]
["Community",null,{"$f":"SUM(C28:C41)","v":0},{"$f":"SUM(D28:D41)","v":0},0,0,0,0,0,0,0]
["Parks & gardens"]
["Sportsfields & stadia"]
["Swimming pools"]
["Community halls"]
["Libraries"]
["Recreational facilities"]
["Fire, safety & emergency"]
["Security and policing"]
["Buses",7]
["Clinics"]
["Museums & Art Galleries"]
["Cemeteries"]
["Social rental housing",8]
["Other"]
[]
["Heritage assets",null,{"$f":"SUM(C44:C45)","v":0},{"$f":"SUM(D44:D45)","v":0},0,0,0,0,0,0,0]
["Buildings"]
["Other",9]
[]
["Investment properties",null,{"$f":"SUM(C48:C49)","v":0},{"$f":"SUM(D48:D49)","v":0},0,0,0,0,0,0,0]
["Housing development"]
["Other"]
[]
["Other assets",null,{"$f":"SUM(C52:C63)","v":0},{"$f":"SUM(D52:D63)","v":2307857},3647764,3866861.7446962921,3366861.7466666666,3366861.7466666666,3500000,3850000,4235000]
["General vehicles",null,null,241315,232425,170000,170000,170000,500000,{"$f":"I52*1.1","v":550000},{"$f":"J52*1.1","v":605000}]
["Specialised vehicles",10,{"$f":"C79","v":0},{"$f":"D79","v":0},0,0,0,0,0,0,0]
["Plant & equipment",null,null,101969,419510,0,0]
["Computers - hardware/equipment",null,null,484447,{"$f":"756193","v":756193},221186.66666666666,221186.66666666666,221186.66666666666,300000,{"$f":"I55*1.1","v":330000},{"$f":"J55*1.1","v":363000.00000000006}]
["Furniture and other office equipment",null,null,363676,556818,182360.6,182360.6,182360.6,250000,{"$f":"I56*1.1","v":275000},{"$f":"J56*1.1","v":302500}]
["Abattoirs"]
["Markets"]
["Civic Land and Buildings"]
["Other Buildings",null,null,473175,483377]
["Other Land",null,null,null,null,15000,15000,15000,0]
["Surplus Assets - (Investment or Inventory)"]
["Other",null,null,{"$f":"512899+130376","v":643275},{"$f":"928252+271189","v":1199441},3278314.4780296255,2778314.48,2778314.48,2450000,{"$f":"I63*1.1","v":2695000},{"$f":"J63*1.1","v":2964500.0000000005}]
[]
["Agricultural assets",null,{"$f":"SUM(C66:C67)","v":0},{"$f":"SUM(D66:D67)","v":0},0,0,0,0,0,0,0]
["List sub-class"]
[]
[]
["Biological assets",null,{"$f":"SUM(C70:C71)","v":0},{"$f":"SUM(D70:D71)","v":0},0,0,0,0,0,0,0]
["List sub-class"]
[]
[]
["Intangibles",null,{"$f":"SUM(C74:C75)","v":0},{"$f":"SUM(D74:D75)","v":0},0,0,0,0,0,0,0]
["Computers - software & programming"]
["Other (list sub-class)"]
[]
["Total Depreciation",1,{"$f":"C6+C27+C43+C47+C51+C73+C65+C69","v":0},2307857,3647764,3866861.7446962921,{"$f":"G6+G27+G43+G47+G51+G73+G65+G69","v":3366861.7466666666},3366861.7466666666,3500000,3850000,4235000]
[]
["Specialised vehicles",null,{"$f":"SUM(C80:C83)","v":0},0,0,0,0,0,0,0,0]
["Refuse"]
["Fire"]
["Conservancy"]
["Ambulances"]
[{"$f":"head27a","v":"References"}]
["1. Depreciation based on write down values. Not including Depreciation resulting from revaluation."]
["2. Airports, Car Parks, Bus Terminals and Taxi Ranks"]
["3. For example - technology backbones (e.g. fibre optic, WIFI infrastructure) for economic development purposes"]
["4. Work-in-progress/under construction to be budgeted under the respective item"]
["5. Infrastructure includes 'land and buildings required' by that infrastructure and vehicles/plant & equipment used by the service generated by that infrastructure"]
["6. Donated/contributed & leased assets to be included within the respective sub-class"]
["7. Busses used to provide a service to the community"]
["8. Not municipal contributions to the 'top structure' being built using the housing subsidies"]
["9. Statues, art collections, medals etc."]
["10. Ambulances, fire engines, refuse vehicles - but not vehicles that would normally be classified as 'Plant and equipment'"]
[]
[]
["Check",null,{"$f":"C77-'A4-FinPerf RE'!C28","v":0},{"$f":"D77-'A4-FinPerf RE'!D28","v":481},{"$f":"E77-'A4-FinPerf RE'!E28","v":-425},{"$f":"F77-'A4-FinPerf RE'!F28","v":0},{"$f":"G77-'A4-FinPerf RE'!G28","v":1.9703744910657406E-3},{"$f":"H77-'A4-FinPerf RE'!H28","v":1.9703744910657406E-3},{"$f":"I77-'A4-FinPerf RE'!J28","v":0},{"$f":"J77-'A4-FinPerf RE'!K28","v":0},{"$f":"K77-'A4-FinPerf RE'!L28","v":0}]

{"sheet":"SA35","index":58,"n_rows":60,"n_cols":9,"rows_kept":60,"cut":false,"hidden":false,"merged":[[1,5,1,8],[1,2,1,4]]}
[{"$f":"muni&\" - \"&TableA35","v":"DC16 Xhariep - Supporting Table SA35 Future financial implications of the capital budget"}]
[{"$f":"Vdesc","v":"Vote Description"},{"$f":"head27","v":"Ref"},{"$f":"Head3","v":"2014/15 Medium Term Revenue & Expenditure Framework"},null,null,"Forecasts"]
["R thousand",null,{"$f":"Head9","v":"Budget Year 2014/15"},{"$f":"Head10","v":"Budget Year +1 2015/16"},{"$f":"Head11","v":"Budget Year +2 2016/17"},{"$f":"Head12","v":"Forecast 2017/18"},{"$f":"Head13","v":"Forecast 2018/19"},{"$f":"Head14","v":"Forecast 2019/20"},{"$f":"Head48","v":"Present value"}]
["Capital expenditure",1]
[{"$f":"'A5-Capex'!A6","v":"Vote 1 - General Council"},null,{"$f":"'A5-Capex'!J6+'A5-Capex'!J24","v":1070000},{"$f":"'A5-Capex'!K6+'A5-Capex'!K24","v":0},{"$f":"'A5-Capex'!L6+'A5-Capex'!L24","v":0}]
[{"$f":"'A5-Capex'!A7","v":"Vote 2 - Municipal Manager"},null,{"$f":"'A5-Capex'!J7+'A5-Capex'!J25","v":25000},{"$f":"'A5-Capex'!K7+'A5-Capex'!K25","v":0},{"$f":"'A5-Capex'!L7+'A5-Capex'!L25","v":0}]
[{"$f":"'A5-Capex'!A8","v":"Vote 3 - Budget & Treasury Office"},null,{"$f":"'A5-Capex'!J8+'A5-Capex'!J26","v":570000},{"$f":"'A5-Capex'!K8+'A5-Capex'!K26","v":627000},{"$f":"'A5-Capex'!L8+'A5-Capex'!L26","v":689700}]
[{"$f":"'A5-Capex'!A9","v":"Vote 4 - Planning & Development"},null,{"$f":"'A5-Capex'!J9+'A5-Capex'!J27","v":55000},{"$f":"'A5-Capex'!K9+'A5-Capex'!K27","v":60500.000000000007},{"$f":"'A5-Capex'!L9+'A5-Capex'!L27","v":66550.000000000015}]
[{"$f":"'A5-Capex'!A10","v":"Vote 5 - Corporate Services"},null,{"$f":"'A5-Capex'!J10+'A5-Capex'!J28","v":25000},{"$f":"'A5-Capex'!K10+'A5-Capex'!K28","v":27500.000000000004},{"$f":"'A5-Capex'!L10+'A5-Capex'!L28","v":30250.000000000007}]
[{"$f":"'A5-Capex'!A11","v":"Vote 6 - [NAME OF VOTE 6]"},null,{"$f":"'A5-Capex'!J11+'A5-Capex'!J29","v":0},{"$f":"'A5-Capex'!K11+'A5-Capex'!K29","v":0},{"$f":"'A5-Capex'!L11+'A5-Capex'!L29","v":0}]
[{"$f":"'A5-Capex'!A12","v":"Vote 7 - [NAME OF VOTE 7]"},null,{"$f":"'A5-Capex'!J12+'A5-Capex'!J30","v":0},{"$f":"'A5-Capex'!K12+'A5-Capex'!K30","v":0},{"$f":"'A5-Capex'!L12+'A5-Capex'!L30","v":0}]
[{"$f":"'A5-Capex'!A13","v":"Vote 8 - [NAME OF VOTE 8]"},null,{"$f":"'A5-Capex'!J13+'A5-Capex'!J31","v":0},{"$f":"'A5-Capex'!K13+'A5-Capex'!K31","v":0},{"$f":"'A5-Capex'!L13+'A5-Capex'!L31","v":0}]
[{"$f":"'A5-Capex'!A14","v":"Vote 9 - [NAME OF VOTE 9]"},null,{"$f":"'A5-Capex'!J14+'A5-Capex'!J32","v":0},{"$f":"'A5-Capex'!K14+'A5-Capex'!K32","v":0},{"$f":"'A5-Capex'!L14+'A5-Capex'!L32","v":0}]
[{"$f":"'A5-Capex'!A15","v":"Vote 10 - [NAME OF VOTE 10]"},null,{"$f":"'A5-Capex'!J15+'A5-Capex'!J33","v":0},{"$f":"'A5-Capex'!K15+'A5-Capex'!K33","v":0},{"$f":"'A5-Capex'!L15+'A5-Capex'!L33","v":0}]
[{"$f":"'A5-Capex'!A16","v":"Vote 11 - [NAME OF VOTE 11]"},null,{"$f":"'A5-Capex'!J16+'A5-Capex'!J34","v":0},{"$f":"'A5-Capex'!K16+'A5-Capex'!K34","v":0},{"$f":"'A5-Capex'!L16+'A5-Capex'!L34","v":0}]
[{"$f":"'A5-Capex'!A17","v":"Vote 12 - [NAME OF VOTE 12]"},null,{"$f":"'A5-Capex'!J17+'A5-Capex'!J35","v":0},{"$f":"'A5-Capex'!K17+'A5-Capex'!K35","v":0},{"$f":"'A5-Capex'!L17+'A5-Capex'!L35","v":0}]
[{"$f":"'A5-Capex'!A18","v":"Vote 13 - [NAME OF VOTE 13]"},null,{"$f":"'A5-Capex'!J18+'A5-Capex'!J36","v":0},{"$f":"'A5-Capex'!K18+'A5-Capex'!K36","v":0},{"$f":"'A5-Capex'!L18+'A5-Capex'!L36","v":0}]
[{"$f":"'A5-Capex'!A19","v":"Vote 14 - [NAME OF VOTE 14]"},null,{"$f":"'A5-Capex'!J19+'A5-Capex'!J37","v":0},{"$f":"'A5-Capex'!K19+'A5-Capex'!K37","v":0},{"$f":"'A5-Capex'!L19+'A5-Capex'!L37","v":0}]
[{"$f":"'A5-Capex'!A20","v":"Vote 15 - [NAME OF VOTE 15]"},null,{"$f":"'A5-Capex'!J20+'A5-Capex'!J38","v":0},{"$f":"'A5-Capex'!K20+'A5-Capex'!K38","v":0},{"$f":"'A5-Capex'!L20+'A5-Capex'!L38","v":0}]
["List entity summary if applicable"]
["Total Capital Expenditure ",null,{"$f":"SUM(C5:C20)","v":1745000},{"$f":"SUM(D5:D20)","v":715000},786500,0,0,0,0]
[]
["Future operational costs by vote",2]
[{"$f":"A5","v":"Vote 1 - General Council"}]
[{"$f":"A6","v":"Vote 2 - Municipal Manager"}]
["Vote 3 - Budget & Treasury Office"]
["Vote 4 - Planning & Development"]
["Vote 5 - Corporate Services"]
["Vote 6 - [NAME OF VOTE 6]"]
["Vote 7 - [NAME OF VOTE 7]"]
["Vote 8 - [NAME OF VOTE 8]"]
["Vote 9 - [NAME OF VOTE 9]"]
["Vote 10 - [NAME OF VOTE 10]"]
["Vote 11 - [NAME OF VOTE 11]"]
["Vote 12 - [NAME OF VOTE 12]"]
["Vote 13 - [NAME OF VOTE 13]"]
["Vote 14 - [NAME OF VOTE 14]"]
["Vote 15 - [NAME OF VOTE 15]"]
["List entity summary if applicable"]
["Total future operational costs",null,{"$f":"SUM(C24:C39)","v":0},{"$f":"SUM(D24:D39)","v":0},0,0,0,0,0]
[]
["Future revenue by source",3]
[{"$f":"'A4-FinPerf RE'!A5","v":"Property rates"}]
[{"$f":"'A4-FinPerf RE'!A6","v":"Property rates - penalties & collection charges"}]
[{"$f":"'A4-FinPerf RE'!A7","v":"Service charges - electricity revenue"}]
[{"$f":"'A4-FinPerf RE'!A8","v":"Service charges - water revenue"}]
[{"$f":"'A4-FinPerf RE'!A9","v":"Service charges - sanitation revenue"}]
[{"$f":"'A4-FinPerf RE'!A10","v":"Service charges - refuse revenue"}]
[{"$f":"'A4-FinPerf RE'!A11","v":"Service charges - other"}]
[{"$f":"'A4-FinPerf RE'!A12","v":"Rental of facilities and equipment"}]
["List other revenues sources if applicable"]
["List entity summary if applicable"]
["Total future revenue",null,{"$f":"SUM(C43:C52)","v":0},{"$f":"SUM(D43:D52)","v":0},0,0,0,0,0]
["Net Financial Implications",null,{"$f":"C21+C40-C53","v":1745000},715000,786500,0,0,0,0]
[{"$f":"head27a","v":"References"}]
["1. Summarise the total capital cost until capital project is operational (MFMA s19(2)(a))"]
["2. Summary of future operational costs from when projects operational (present value until the end of each asset's useful life) (MFMA s19(2)(b))"]
["3. Summarise the future revenue from when projects are operational, including municipal tax and tariff implications, (present value until the end of asset's useful life)"]
[]
["check",null,{"$f":"C21-('A5-Capex'!J21+'A5-Capex'!J39)","v":0},{"$f":"D21-('A5-Capex'!K21+'A5-Capex'!K39)","v":0},{"$f":"E21-('A5-Capex'!L21+'A5-Capex'!L39)","v":0}]

{"sheet":"SA36","index":59,"n_rows":44,"n_cols":17,"rows_kept":44,"cut":false,"hidden":false,"merged":[[1,15,1,16],[1,2,2,2],[1,3,2,3],[1,4,2,4],[1,10,1,11],[1,9,2,9],[1,12,1,14]]}
[{"$f":"muni&\" - \"&TableA36","v":"DC16 Xhariep - Supporting Table SA36 Detailed capital budget"}]
["Municipal Vote/Capital project",{"$f":"head27","v":"Ref"},"Program/Project description","Project number","IDP Goal code \n2","Individually Approved\n(Yes/No)","Asset Class     \n","Asset Sub-Class   \n","GPS co-ordinates\n","Total Project Estimate","Prior year outcomes",null,{"$f":"Head3","v":"2014/15 Medium Term Revenue & Expenditure Framework"},null,null,"Project information"]
["R thousand",4,null,"Audited Actual",null,6,3,3,5,null,{"$f":"Head5&\"    \"&Head1","v":"Audited Outcome    2012/13"},{"$f":"Head2 & \"        \"&Head8","v":"Current Year 2013/14        Full Year Forecast"},{"$f":"Head9","v":"Budget Year 2014/15"},{"$f":"Head10","v":"Budget Year +1 2015/16"},{"$f":"Head11","v":"Budget Year +2 2016/17"},"Ward location","New or renewal"]
["Parent municipality:"]
["List all capital projects grouped by Municipal Vote"]
[]
["Vehicles",null,null,null,null,null,"Other Assets","General vehicles"]
["General Council",null,"Executive Mayor and Speaker's Vehicles",null,null,null,null,null,null,null,null,null,1070000,0,0]
[]
[]
["Furniture and Equipment",null,null,null,null,null,"Other Assets","Furniture and other office equipment"]
["Municipal Manager",null,null,null,null,null,null,null,null,null,null,null,5000,0,0]
["Budget and Treasury Office",null,null,null,null,null,null,null,null,null,null,null,30000,{"$f":"M13*1.1","v":33000},{"$f":"N13*1.1","v":36300}]
["Corporate Services",null,null,null,null,null,null,null,null,null,null,null,0,0,0]
["Planning and Social Development",null,null,null,null,null,null,null,null,null,null,null,15000,{"$f":"M15*1.1","v":16500},{"$f":"N15*1.1","v":18150}]
["Computers and Laptops",null,null,null,null,null,"Other Assets","Computers - hardware/equipment"]
["Municipal Manager",null,null,null,null,null,null,null,null,null,null,null,20000,0,0]
["Budget and Treasury Office",null,null,null,null,null,null,null,null,null,null,null,40000,{"$f":"M18*1.1","v":44000},{"$f":"N18*1.1","v":48400.000000000007}]
["Corporate Services",null,null,null,null,null,null,null,null,null,null,null,25000,{"$f":"M19*1.1","v":27500.000000000004},30250.000000000007]
["Planning and Social Development",null,null,null,null,null,null,null,null,null,null,null,40000,{"$f":"M20*1.1","v":44000},48400.000000000007]
[]
["Repayment of borrowing",null,"Printing Machines",null,null,null,"Other Assets","Furniture and other office equipment",null,null,null,null,500000,{"$f":"M22*1.1","v":550000},{"$f":"N22*1.1","v":605000}]
["Parent Capital expenditure",1,null,null,null,null,null,null,null,null,null,null,{"$f":"SUM(M7:M22)","v":1745000},{"$f":"SUM(N7:N22)","v":715000},{"$f":"SUM(O7:O22)","v":786500},{"$f":"SUM(P6:P22)","v":0},{"$f":"SUM(Q6:Q22)","v":0}]
[]
["Entities:"]
["List all capital projects grouped by Entity"]
[]
["Entity A"]
["Water project A"]
[]
["Entity B"]
["Electricity project B"]
[]
[]
[]
["Entity Capital expenditure",null,null,null,null,null,null,null,null,null,{"$f":"SUM(K28:K35)","v":0},{"$f":"SUM(L28:L35)","v":0},{"$f":"SUM(M28:M35)","v":0},{"$f":"SUM(N28:N35)","v":0},{"$f":"SUM(O28:O35)","v":0}]
["Total Capital expenditure",null,null,null,null,null,null,null,null,null,{"$f":"SUM(K7:K22)+SUM(K28:K35)","v":0},{"$f":"SUM(L7:L22)+SUM(L28:L35)","v":0},{"$f":"SUM(M7:M22)+SUM(M28:M35)","v":1745000},{"$f":"SUM(N7:N22)+SUM(N28:N35)","v":715000},{"$f":"SUM(O7:O22)+SUM(O28:O35)","v":786500}]
[{"$f":"head27a","v":"References"}]
["1. Must reconcile with Budgeted Capital Expenditure"]
["2. As per Table SA6"]
["3. As per Table SA34"]
["4. Projects that fall above the threshold values applicable to the municipality as identified in regulation 13 of the Municipal Budget and Reporting Regulations must be listed individually. Other projects by programme by Vote"]
["5. Correct to seconds. Provide a logical starting point on networked infrastructure."]
["6. Distinguish projects approved in terms of MFMA section 19(1)(b) and MRRR Regulation 13",null,null,null,null,null,null,null,null,"Check",{"$f":"SUM(SA34a!E77+SA34b!E77)-'SA36'!K37","v":0}]

{"sheet":"SA37","index":60,"n_rows":28,"n_cols":13,"rows_kept":28,"cut":false,"hidden":false,"merged":[[1,0,2,0],[1,7,2,7],[1,8,1,9],[1,10,1,12],[1,2,3,2],[1,3,3,3],[1,5,3,5],[1,4,3,4],[1,6,3,6]]}
[{"$f":"muni&\" - \"&TableA37","v":"DC16 Xhariep - Supporting Table SA37 Projects delayed from previous financial year/s"}]
["Municipal Vote/Capital project","Ref.","Project name","Project number","Asset Class  \n3","Asset Sub-Class  \n3","GPS co-ordinates\n4",{"$f":"Head47","v":"Previous target year to complete"},{"$f":"Head2","v":"Current Year 2013/14"},null,{"$f":"Head3","v":"2014/15 Medium Term Revenue & Expenditure Framework"}]
[null,"1,2",null,"Audited Actual",null,null,null,null,{"$f":"Head6","v":"Original Budget"},{"$f":"Head8","v":"Full Year Forecast"},{"$f":"Head9","v":"Budget Year 2014/15"},{"$f":"Head10","v":"Budget Year +1 2015/16"},{"$f":"Head11","v":"Budget Year +2 2016/17"}]
["R thousand",null,null,"R'000",null,null,null,"Year"]
["Parent municipality:"]
["List all capital projects grouped by Municipal Vote",null,null,null,"Examples","Examples"]
[]
[]
[]
[]
[]
[]
[]
[]
["Entities:"]
["List all capital projects grouped by Municipal Entity"]
[]
["Entity Name"]
["Project name"]
[]
[]
[]
[]
[{"$f":"head27a","v":"References"}]
["1. List all projects with planned completion dates in current year that have been re-budgeted in the MTREF"]
["2. Refer MFMA s30"]
["3. As per Table SA34"]
["4. Correct to seconds. Provide a logical starting point on networked infrastructure."]

{"sheet":"NERF","index":61,"n_rows":82,"n_cols":13,"rows_kept":82,"cut":false,"hidden":true,"merged":[[0,0,0,12],[2,0,4,0],[2,1,3,1],[2,6,2,8],[2,10,2,12]]}
[{"$f":"\"Financial summary for the \" &muni& \"eThekwini\"","v":"Financial summary for the DC16 XhariepeThekwini"}]
[{"$f":"muni&SFPerf2","v":"DC16 XhariepForecast Financial Performance"}]
[{"$f":"desc","v":"Description"},{"$f":"head27","v":"Ref"},null,{"$f":"head1b","v":"2010/11"},{"$f":"head1A","v":"2011/12"},{"$f":"Head1","v":"2012/13"},{"$f":"Head2","v":"Current Year 2013/14"},null,null,null,{"$f":"Head3","v":"2014/15 Medium Term Revenue & Expenditure Framework"}]
[null,null,null,{"$f":"Head5","v":"Audited Outcome"},{"$f":"Head5","v":"Audited Outcome"},{"$f":"Head5","v":"Audited Outcome"},{"$f":"Head6","v":"Original Budget"},{"$f":"Head7","v":"Adjusted Budget"},{"$f":"Head8","v":"Full Year Forecast"},null,{"$f":"Head9","v":"Budget Year 2014/15"},{"$f":"Head10","v":"Budget Year +1 2015/16"},{"$f":"Head11","v":"Budget Year +2 2016/17"}]
[null,1,null,"R'000","R'000","R'000","R'000","R'000","R'000",null,"R'000","R'000","R'000"]
["R Thousand ",null,null,"DRAFT UNDER DEVELOPMENT"]
["Receipts"]
["Tax receipts",null,null,{"$f":"SUM(D9:D10)","v":{"$error":"#REF!"}},{"$f":"SUM(E9:E10)","v":{"$error":"#REF!"}},{"$error":"#REF!"},{"$error":"#REF!"},{"$error":"#REF!"},{"$error":"#REF!"},{"$f":"SUM(J9:J10)","v":{"$error":"#REF!"}},{"$error":"#REF!"},{"$error":"#REF!"},{"$error":"#REF!"}]
[{"$f":"'A4-FinPerf RE'!A5","v":"Property rates"},null,null,{"$f":"IF(ISERROR('A4-FinPerf RE'!C5+'A4-FinPerf RE'!C6+D71),0,('A4-FinPerf RE'!C5+'A4-FinPerf RE'!C6+D71))","v":0},{"$f":"IF(ISERROR('A4-FinPerf RE'!D5+'A4-FinPerf RE'!D6+E71),0,('A4-FinPerf RE'!D5+'A4-FinPerf RE'!D6+E71))","v":0},{"$f":"IF(ISERROR('A4-FinPerf RE'!E5+'A4-FinPerf RE'!E6+F71),0,('A4-FinPerf RE'!E5+'A4-FinPerf RE'!E6+F71))","v":0},{"$f":"IF(ISERROR('A4-FinPerf RE'!F5+'A4-FinPerf RE'!F6+G71),0,('A4-FinPerf RE'!F5+'A4-FinPerf RE'!F6+G71))","v":0},{"$f":"IF(ISERROR('A4-FinPerf RE'!G5+'A4-FinPerf RE'!G6+H71),0,('A4-FinPerf RE'!G5+'A4-FinPerf RE'!G6+H71))","v":0},{"$f":"IF(ISERROR('A4-FinPerf RE'!H5+'A4-FinPerf RE'!H6+I71),0,('A4-FinPerf RE'!H5+'A4-FinPerf RE'!H6+I71))","v":0},{"$f":"IF(ISERROR('A4-FinPerf RE'!I5+'A4-FinPerf RE'!I6+J71),0,('A4-FinPerf RE'!I5+'A4-FinPerf RE'!I6+J71))","v":0},{"$f":"IF(ISERROR('A4-FinPerf RE'!J5+'A4-FinPerf RE'!J6+K71),0,('A4-FinPerf RE'!J5+'A4-FinPerf RE'!J6+K71))","v":0},{"$f":"IF(ISERROR('A4-FinPerf RE'!K5+'A4-FinPerf RE'!K6+L71),0,('A4-FinPerf RE'!K5+'A4-FinPerf RE'!K6+L71))","v":0},{"$f":"IF(ISERROR('A4-FinPerf RE'!L5+'A4-FinPerf RE'!L6+M71),0,('A4-FinPerf RE'!L5+'A4-FinPerf RE'!L6+M71))","v":0}]
["RSC levies",null,null,{"$f":"'SA1'!C33+'SA1'!#REF!","v":{"$error":"#REF!"}},{"$f":"'SA1'!D33+'SA1'!#REF!","v":{"$error":"#REF!"}},{"$f":"'SA1'!E33+'SA1'!#REF!","v":{"$error":"#REF!"}},{"$f":"'SA1'!F33+'SA1'!#REF!","v":{"$error":"#REF!"}},{"$f":"'SA1'!G33+'SA1'!#REF!","v":{"$error":"#REF!"}},{"$f":"'SA1'!H33+'SA1'!#REF!","v":{"$error":"#REF!"}},{"$f":"'SA1'!I33+'SA1'!#REF!","v":{"$error":"#REF!"}},{"$f":"'SA1'!J33+'SA1'!#REF!","v":{"$error":"#REF!"}},{"$f":"'SA1'!K33+'SA1'!#REF!","v":{"$error":"#REF!"}},{"$f":"'SA1'!L33+'SA1'!#REF!","v":{"$error":"#REF!"}}]
["Sale of goods & services (excl. capital assets)",null,null,{"$f":"SUM(D12:D14)","v":{"$error":"#REF!"}},{"$f":"SUM(E12:E14)","v":{"$error":"#REF!"}},{"$error":"#REF!"},{"$error":"#REF!"},{"$error":"#REF!"},{"$error":"#REF!"},{"$f":"SUM(J12:J14)","v":{"$error":"#REF!"}},{"$error":"#REF!"},{"$error":"#REF!"},{"$error":"#REF!"}]
["Administrative fees",null,null,{"$f":"'A4-FinPerf RE'!C17+'A4-FinPerf RE'!C18","v":0},{"$f":"'A4-FinPerf RE'!D17+'A4-FinPerf RE'!D18","v":0},{"$f":"'A4-FinPerf RE'!E17+'A4-FinPerf RE'!E18","v":0},{"$f":"'A4-FinPerf RE'!F17+'A4-FinPerf RE'!F18","v":0},{"$f":"'A4-FinPerf RE'!G17+'A4-FinPerf RE'!G18","v":0},{"$f":"'A4-FinPerf RE'!H17+'A4-FinPerf RE'!H18","v":0},{"$f":"'A4-FinPerf RE'!I17+'A4-FinPerf RE'!I18","v":0},{"$f":"'A4-FinPerf RE'!J17+'A4-FinPerf RE'!J18","v":0},{"$f":"'A4-FinPerf RE'!K17+'A4-FinPerf RE'!K18","v":0},{"$f":"'A4-FinPerf RE'!L17+'A4-FinPerf RE'!L18","v":0}]
["Sales by market establishments",null,null,{"$f":"IF(ISERROR(SUM('A4-FinPerf RE'!C7:C11)+D72),0,(SUM('A4-FinPerf RE'!C7:C11)+D72))","v":507546.83333333302},{"$f":"IF(ISERROR(SUM('A4-FinPerf RE'!D7:D11)+E72),0,(SUM('A4-FinPerf RE'!D7:D11)+E72))","v":-819896},{"$f":"IF(ISERROR(SUM('A4-FinPerf RE'!E7:E11)+F72),0,(SUM('A4-FinPerf RE'!E7:E11)+F72))","v":2465385},{"$f":"IF(ISERROR(SUM('A4-FinPerf RE'!F7:F11)+G72),0,(SUM('A4-FinPerf RE'!F7:F11)+G72))","v":-1033317.68},{"$f":"IF(ISERROR(SUM('A4-FinPerf RE'!G7:G11)+H72),0,(SUM('A4-FinPerf RE'!G7:G11)+H72))","v":0},{"$f":"IF(ISERROR(SUM('A4-FinPerf RE'!H7:H11)+I72),0,(SUM('A4-FinPerf RE'!H7:H11)+I72))","v":0},{"$f":"IF(ISERROR(SUM('A4-FinPerf RE'!I7:I11)+J72),0,(SUM('A4-FinPerf RE'!I7:I11)+J72))","v":0},{"$f":"IF(ISERROR(SUM('A4-FinPerf RE'!J7:J11)+K72),0,(SUM('A4-FinPerf RE'!J7:J11)+K72))","v":1033317.68},{"$f":"IF(ISERROR(SUM('A4-FinPerf RE'!K7:K11)+L72),0,(SUM('A4-FinPerf RE'!K7:K11)+L72))","v":0},{"$f":"IF(ISERROR(SUM('A4-FinPerf RE'!L7:L11)+M72),0,(SUM('A4-FinPerf RE'!L7:L11)+M72))","v":0}]
["Other Sales",null,null,{"$f":"SUM(D15)","v":{"$error":"#REF!"}},{"$f":"SUM(E15)","v":{"$error":"#REF!"}},{"$error":"#REF!"},{"$error":"#REF!"},{"$error":"#REF!"},{"$error":"#REF!"},{"$error":"#REF!"},{"$error":"#REF!"},{"$error":"#REF!"},{"$error":"#REF!"}]
["Other",null,null,{"$f":"'A7-CFlow'!C6+'A7-CFlow'!C20+'A7-CFlow'!C21-NERF!D8-NERF!D12-NERF!D13-NERF!D22-D26","v":{"$error":"#REF!"}},{"$f":"'A7-CFlow'!D6+'A7-CFlow'!D20+'A7-CFlow'!D21-NERF!E8-NERF!E12-NERF!E13-NERF!E22-E26","v":{"$error":"#REF!"}},{"$f":"'A7-CFlow'!E6+'A7-CFlow'!E20+'A7-CFlow'!E21-NERF!F8-NERF!F12-NERF!F13-NERF!F22-F26","v":{"$error":"#REF!"}},{"$f":"'A7-CFlow'!F6+'A7-CFlow'!F20+'A7-CFlow'!F21-NERF!G8-NERF!G12-NERF!G13-NERF!G22-G26-G82","v":{"$error":"#REF!"}},{"$f":"'A7-CFlow'!G6+'A7-CFlow'!G20+'A7-CFlow'!G21-NERF!H8-NERF!H12-NERF!H13-NERF!H22-H26-H82","v":{"$error":"#REF!"}},{"$f":"'A7-CFlow'!H6+'A7-CFlow'!H20+'A7-CFlow'!H21-NERF!I8-NERF!I12-NERF!I13-NERF!I22-I26-I82","v":{"$error":"#REF!"}},{"$f":"'A7-CFlow'!I6+'A7-CFlow'!I20+'A7-CFlow'!I21-NERF!J8-NERF!J12-NERF!J13-NERF!J22-J26-J82","v":{"$error":"#REF!"}},{"$f":"'A7-CFlow'!J6+'A7-CFlow'!J20+'A7-CFlow'!J21-NERF!K8-NERF!K12-NERF!K13-NERF!K22-K26-K82","v":{"$error":"#REF!"}},{"$f":"'A7-CFlow'!K6+'A7-CFlow'!K20+'A7-CFlow'!K21-NERF!L8-NERF!L12-NERF!L13-NERF!L22-L26-L82","v":{"$error":"#REF!"}},{"$f":"'A7-CFlow'!L6+'A7-CFlow'!L20+'A7-CFlow'!L21-NERF!M8-NERF!M12-NERF!M13-NERF!M22-M26-M82","v":{"$error":"#REF!"}}]
["Sale of scrap, waste & other used goods (excl.cap)"]
["Transfers received",null,null,{"$f":"SUM(D18:D21)","v":40782860},{"$f":"SUM(E18:E21)","v":78025800},40588152,59971000,59339904.380000003,59339904.380000003,{"$f":"SUM(J18:J21)","v":59339904.380000003},62992000,69291200,76220320]
["Other governmental units - operating",null,null,{"$f":"'A7-CFlow'!C7","v":40782860},{"$f":"'A7-CFlow'!D7","v":78025800},{"$f":"'A7-CFlow'!E7","v":40588152},{"$f":"'A7-CFlow'!F7","v":59971000},{"$f":"'A7-CFlow'!G7","v":59339904.380000003},{"$f":"'A7-CFlow'!H7","v":59339904.380000003},{"$f":"'A7-CFlow'!I7","v":59339904.380000003},{"$f":"'A7-CFlow'!J7","v":62992000},{"$f":"'A7-CFlow'!K7","v":69291200},{"$f":"'A7-CFlow'!L7","v":76220320}]
["Other governmental units - capital",null,null,{"$f":"'A7-CFlow'!C8","v":0},{"$f":"'A7-CFlow'!D8","v":0},{"$f":"'A7-CFlow'!E8","v":0},{"$f":"'A7-CFlow'!F8","v":0},{"$f":"'A7-CFlow'!G8","v":0},{"$f":"'A7-CFlow'!H8","v":0},{"$f":"'A7-CFlow'!I8","v":0},{"$f":"'A7-CFlow'!J8","v":0},{"$f":"'A7-CFlow'!K8","v":0},{"$f":"'A7-CFlow'!L8","v":0}]
["International organisations"]
["Public corporations and private enterprises"]
["Fines, penalties and forfeits",null,null,{"$f":"'A4-FinPerf RE'!C16","v":0},{"$f":"'A4-FinPerf RE'!D16","v":0},{"$f":"'A4-FinPerf RE'!E16","v":0},{"$f":"'A4-FinPerf RE'!F16","v":0},{"$f":"'A4-FinPerf RE'!G16","v":0},{"$f":"'A4-FinPerf RE'!H16","v":0},{"$f":"'A4-FinPerf RE'!I16","v":0},{"$f":"'A4-FinPerf RE'!J16","v":0},{"$f":"'A4-FinPerf RE'!K16","v":0},{"$f":"'A4-FinPerf RE'!L16","v":0}]
["Interest, dividends and rent on land",null,null,{"$f":"SUM(D24:D26)","v":166320.16666666698},{"$f":"SUM(E24:E26)","v":1678242},-1749052,1513398.7242105263,469322.68421052635,469322.68421052635,{"$f":"SUM(J24:J26)","v":469322.68421052635},-448945.80000000005,642809.06800000009,707089.97480000008]
["Interest",null,null,{"$f":"'A7-CFlow'!C9","v":382910},{"$f":"'A7-CFlow'!D9","v":731392},{"$f":"'A7-CFlow'!E9","v":283816},{"$f":"'A7-CFlow'!F9","v":139358.35999999999},{"$f":"'A7-CFlow'!G9","v":128599.99999999999},{"$f":"'A7-CFlow'!H9","v":128599.99999999999},{"$f":"'A7-CFlow'!I9","v":128599.99999999999},{"$f":"'A7-CFlow'!J9","v":115806},{"$f":"'A7-CFlow'!K9","v":127386.6},{"$f":"'A7-CFlow'!L9","v":140125.26}]
["Dividends",null,null,{"$f":"'A7-CFlow'!C10","v":0},{"$f":"'A7-CFlow'!D10","v":0},{"$f":"'A7-CFlow'!E10","v":0},{"$f":"'A7-CFlow'!F10","v":0},{"$f":"'A7-CFlow'!G10","v":0},{"$f":"'A7-CFlow'!H10","v":0},{"$f":"'A7-CFlow'!I10","v":0},{"$f":"'A7-CFlow'!J10","v":0},{"$f":"'A7-CFlow'!K10","v":0},{"$f":"'A7-CFlow'!L10","v":0}]
["Rent on land",null,null,{"$f":"'A4-FinPerf RE'!C12+NERF!D74","v":-216589.83333333302},{"$f":"'A4-FinPerf RE'!D12+NERF!E74","v":946850},{"$f":"'A4-FinPerf RE'!E12+NERF!F74","v":-2032868},{"$f":"'A4-FinPerf RE'!F12+NERF!G74","v":1374040.3642105265},{"$f":"'A4-FinPerf RE'!G12+NERF!H74","v":340722.68421052635},{"$f":"'A4-FinPerf RE'!H12+NERF!I74","v":340722.68421052635},{"$f":"'A4-FinPerf RE'!I12+NERF!J74","v":340722.68421052635},{"$f":"'A4-FinPerf RE'!J12+NERF!K74","v":-564751.80000000005},{"$f":"'A4-FinPerf RE'!K12+NERF!L74","v":515422.46800000005},{"$f":"'A4-FinPerf RE'!L12+NERF!M74","v":566964.71480000007}]
["Sales of capital assets",null,null,{"$f":"SUM(D28:D29)","v":774286},{"$f":"SUM(E28:E29)","v":40288},46697,0,0,0,{"$f":"SUM(J28:J29)","v":0},0,0,0]
["Land and subsoil assets",null,null,0,0,0,0,0,0,0,0,0,0]
["Other capital assets",null,null,{"$f":"'A7-CFlow'!C19","v":774286},{"$f":"'A7-CFlow'!D19","v":40288},{"$f":"'A7-CFlow'!E19","v":46697},{"$f":"'A7-CFlow'!F19","v":0},{"$f":"'A7-CFlow'!G19","v":0},{"$f":"'A7-CFlow'!H19","v":0},{"$f":"'A7-CFlow'!I19","v":0},{"$f":"'A7-CFlow'!J19","v":0},{"$f":"'A7-CFlow'!K19","v":0},{"$f":"'A7-CFlow'!L19","v":0}]
["Financial transactions in assets and liabilities"]
["Total receipts",null,null,{"$f":"SUM(D8,D11,D16,D17,D22,D23,D27,D30)","v":{"$error":"#REF!"}},{"$error":"#REF!"},{"$error":"#REF!"},{"$error":"#REF!"},{"$error":"#REF!"},{"$error":"#REF!"},{"$error":"#REF!"},{"$error":"#REF!"},{"$error":"#REF!"},{"$error":"#REF!"}]
["Payments"]
["Current payments"]
["Compensation of employees ",null,null,{"$f":"SUM(D35:D36)","v":20001631},{"$f":"SUM(E35:E36)","v":24585630},30159010,34411006.495802283,32099545.215802278,32099545.215802278,{"$f":"SUM(J35:J36)","v":32099545.215802278},39164805.949999996,42421907.75925,45955266.340493746]
["Salaries & Wages",null,null,{"$f":"'SA1'!C63-'SA1'!C50","v":17203276},{"$f":"'SA1'!D63-'SA1'!D50","v":20874876},{"$f":"'SA1'!E63-'SA1'!E50","v":25472115},{"$f":"'SA1'!F63-'SA1'!F50","v":30669058.610935226},{"$f":"'SA1'!G63-'SA1'!G50","v":28357597.330935221},{"$f":"'SA1'!H63-'SA1'!H50","v":28357597.330935221},{"$f":"'SA1'!I63-'SA1'!I50","v":28357597.330935221},{"$f":"'SA1'!J63-'SA1'!J50","v":34943119.229999997},{"$f":"'SA1'!K63-'SA1'!K50","v":37778052.367250003},{"$f":"'SA1'!L63-'SA1'!L50","v":40847025.409293748}]
["Social contributions",null,null,{"$f":"'SA1'!C50","v":2798355},{"$f":"'SA1'!D50","v":3710754},{"$f":"'SA1'!E50","v":4686895},{"$f":"'SA1'!F50","v":3741947.8848670567},{"$f":"'SA1'!G50","v":3741947.8848670567},{"$f":"'SA1'!H50","v":3741947.8848670567},{"$f":"'SA1'!I50","v":3741947.8848670567},{"$f":"'SA1'!J50","v":4221686.72},{"$f":"'SA1'!K50","v":4643855.392},{"$f":"'SA1'!L50","v":5108240.9312000005}]
["Goods and services ",null,null,{"$f":"SUM(D38:D42)","v":{"$error":"#REF!"}},{"$f":"SUM(E38:E42)","v":{"$error":"#REF!"}},{"$error":"#REF!"},{"$error":"#REF!"},{"$error":"#REF!"},{"$error":"#REF!"},{"$f":"SUM(J38:J42)","v":{"$error":"#REF!"}},{"$error":"#REF!"},{"$error":"#REF!"},{"$error":"#REF!"}]
[{"$f":"'A4-FinPerf RE'!A30","v":"Bulk purchases"},null,null,{"$f":"'A4-FinPerf RE'!C30","v":0},{"$f":"'A4-FinPerf RE'!D30","v":0},{"$f":"'A4-FinPerf RE'!E30","v":0},{"$f":"'A4-FinPerf RE'!F30","v":0},{"$f":"'A4-FinPerf RE'!G30","v":0},{"$f":"'A4-FinPerf RE'!H30","v":0},{"$f":"'A4-FinPerf RE'!I30","v":0},{"$f":"'A4-FinPerf RE'!J30","v":0},{"$f":"'A4-FinPerf RE'!K30","v":0},{"$f":"'A4-FinPerf RE'!L30","v":0}]
["Other materials",null,null,0,0,0,0,0,0,0,0,0,0]
[{"$f":"'A4-FinPerf RE'!A32","v":"Contracted services"},null,null,{"$f":"'A4-FinPerf RE'!C32","v":0},{"$f":"'A4-FinPerf RE'!D32","v":0},{"$f":"'A4-FinPerf RE'!E32","v":0},{"$f":"'A4-FinPerf RE'!F32","v":600000},{"$f":"'A4-FinPerf RE'!G32","v":900000},{"$f":"'A4-FinPerf RE'!H32","v":900000},{"$f":"'A4-FinPerf RE'!I32","v":900000},{"$f":"'A4-FinPerf RE'!J32","v":500000},{"$f":"'A4-FinPerf RE'!K32","v":550000},{"$f":"'A4-FinPerf RE'!L32","v":605000}]
["Repairs and maintenance",null,null,{"$f":"'SA1'!#REF!","v":{"$error":"#REF!"}},{"$f":"'SA1'!#REF!","v":{"$error":"#REF!"}},{"$f":"'SA1'!#REF!","v":{"$error":"#REF!"}},{"$f":"'SA1'!#REF!","v":{"$error":"#REF!"}},{"$f":"'SA1'!#REF!","v":{"$error":"#REF!"}},{"$f":"'SA1'!#REF!","v":{"$error":"#REF!"}},{"$f":"'SA1'!#REF!","v":{"$error":"#REF!"}},{"$f":"'SA1'!#REF!","v":{"$error":"#REF!"}},{"$f":"'SA1'!#REF!","v":{"$error":"#REF!"}},{"$f":"'SA1'!#REF!","v":{"$error":"#REF!"}}]
[{"$f":"'A4-FinPerf RE'!A34","v":"Other expenditure"},null,null,{"$f":"-'A7-CFlow'!C12-NERF!D34-NERF!D38-NERF!D39-NERF!D40-D41-NERF!D52","v":{"$error":"#REF!"}},{"$f":"-'A7-CFlow'!D12-NERF!E34-NERF!E38-NERF!E39-NERF!E40-E41-NERF!E52","v":{"$error":"#REF!"}},{"$f":"-'A7-CFlow'!E12-NERF!F34-NERF!F38-NERF!F39-NERF!F40-F41-NERF!F52","v":{"$error":"#REF!"}},{"$f":"-'A7-CFlow'!F12-NERF!G34-NERF!G38-NERF!G39-NERF!G40-G41-NERF!G52-G82","v":{"$error":"#REF!"}},{"$f":"-'A7-CFlow'!G12-NERF!H34-NERF!H38-NERF!H39-NERF!H40-H41-NERF!H52-H82","v":{"$error":"#REF!"}},{"$f":"-'A7-CFlow'!H12-NERF!I34-NERF!I38-NERF!I39-NERF!I40-I41-NERF!I52-I82","v":{"$error":"#REF!"}},{"$f":"-'A7-CFlow'!I12-NERF!J34-NERF!J38-NERF!J39-NERF!J40-J41-NERF!J52-J82","v":{"$error":"#REF!"}},{"$f":"-'A7-CFlow'!J12-NERF!K34-NERF!K38-NERF!K39-NERF!K40-K41-NERF!K52-K82","v":{"$error":"#REF!"}},{"$f":"-'A7-CFlow'!K12-NERF!L34-NERF!L38-NERF!L39-NERF!L40-L41-NERF!L52-L82","v":{"$error":"#REF!"}},{"$f":"-'A7-CFlow'!L12-NERF!M34-NERF!M38-NERF!M39-NERF!M40-M41-NERF!M52-M82","v":{"$error":"#REF!"}}]
["Interest, dividends and rent on land",null,null,{"$f":"SUM(D44:D46)","v":497112},{"$f":"SUM(E44:E46)","v":307741},286676,0,0,0,{"$f":"SUM(J44:J46)","v":1646},0,0,0]
["Interest",null,null,{"$f":"-'A7-CFlow'!C13","v":497112},{"$f":"-'A7-CFlow'!D13","v":307741},{"$f":"-'A7-CFlow'!E13","v":286676},{"$f":"-'A7-CFlow'!F13","v":0},{"$f":"-'A7-CFlow'!G13","v":0},{"$f":"-'A7-CFlow'!H13","v":0},{"$f":"-'A7-CFlow'!I13","v":1646},{"$f":"-'A7-CFlow'!J13","v":0},{"$f":"-'A7-CFlow'!K13","v":0},{"$f":"-'A7-CFlow'!L13","v":0}]
["Dividends",null,null,0,0,0,0,0,0,0,0,0,0]
["Rent on land",null,null,0,0,0,0,0,0,0,0,0,0]
[{"$f":"A30","v":"Financial transactions in assets and liabilities"},null,null,0,0,0,0,0,0,0,0,0,0]
["Unauthorised expenditure",null,null,0,0,0,0,0,0,0,0,0,0]
["Transfers and subsidies",null,null,{"$f":"SUM(D50:D52)","v":0},{"$f":"SUM(E50:E52)","v":0},0,0,0,0,{"$f":"SUM(J50:J52)","v":0},0,0,0]
["Municipal agencies and accounts",null,null,{"$f":"-'A7-CFlow'!C14","v":0},{"$f":"-'A7-CFlow'!D14","v":0},{"$f":"-'A7-CFlow'!E14","v":0},{"$f":"-'A7-CFlow'!F14","v":0},{"$f":"-'A7-CFlow'!G14","v":0},{"$f":"-'A7-CFlow'!H14","v":0},{"$f":"-'A7-CFlow'!I14","v":0},{"$f":"-'A7-CFlow'!J14","v":0},{"$f":"-'A7-CFlow'!K14","v":0},{"$f":"-'A7-CFlow'!L14","v":0}]
[{"$f":"A21","v":"Public corporations and private enterprises"},null,null,0,0,0,0,0,0,0,0,0,0]
["Households - social benefits",null,null,{"$f":"'A10-SerDel'!C78","v":0},{"$f":"'A10-SerDel'!D78","v":0},{"$f":"'A10-SerDel'!E78","v":0},{"$f":"'A10-SerDel'!F78","v":0},{"$f":"'A10-SerDel'!G78","v":0},{"$f":"'A10-SerDel'!H78","v":0},{"$f":"'A10-SerDel'!I78","v":0},{"$f":"'A10-SerDel'!I78","v":0},{"$f":"'A10-SerDel'!J78","v":0},{"$f":"'A10-SerDel'!K78","v":0}]
["Payment for capital assets",null,null,{"$f":"SUM(D54:D57)","v":5611378},{"$f":"SUM(E54:E57)","v":6008753},1457514,3746000,2620913,2620913,{"$f":"SUM(J54:J57)","v":2620913},0,0,0]
["Buildings and other fixed structures",null,null,{"$f":"-'A7-CFlow'!C24-NERF!D55-NERF!D56-NERF!D57","v":4425378},{"$f":"-'A7-CFlow'!D24-NERF!E55-NERF!E56-NERF!E57","v":6008753},{"$f":"-'A7-CFlow'!E24-NERF!F55-NERF!F56-NERF!F57","v":1457514},{"$f":"-'A7-CFlow'!F24-NERF!G55-NERF!G56-NERF!G57","v":1296000},{"$f":"-'A7-CFlow'!G24-NERF!H55-NERF!H56-NERF!H57","v":2196000},{"$f":"-'A7-CFlow'!H24-NERF!I55-NERF!I56-NERF!I57","v":2196000},{"$f":"-'A7-CFlow'!I24-NERF!J55-NERF!J56-NERF!J57","v":1375913},{"$f":"-'A7-CFlow'!J24-NERF!K55-NERF!K56-NERF!K57","v":-1245000},{"$f":"-'A7-CFlow'!K24-NERF!L55-NERF!L56-NERF!L57","v":-165000.00000000003},{"$f":"-'A7-CFlow'!L24-NERF!M55-NERF!M56-NERF!M57","v":-181500.00000000006}]
["Machinery and equipment",null,null,{"$f":"SA34a!C52+SA34a!C54+SA34a!C55+SA34a!C56","v":1186000},{"$f":"SA34a!D52+SA34a!D54+SA34a!D55+SA34a!D56","v":0},{"$f":"SA34a!E52+SA34a!E54+SA34a!E55+SA34a!E56","v":0},{"$f":"SA34a!F52+SA34a!F54+SA34a!F55+SA34a!F56","v":1800000},{"$f":"SA34a!G52+SA34a!G54+SA34a!G55+SA34a!G56","v":424913},{"$f":"SA34a!H52+SA34a!H54+SA34a!H55+SA34a!H56","v":424913},{"$f":"SA34a!I52+SA34a!I54+SA34a!I55+SA34a!I56","v":1245000},{"$f":"SA34a!I52+SA34a!I54+SA34a!I55+SA34a!I56","v":1245000},{"$f":"SA34a!J52+SA34a!J54+SA34a!J55+SA34a!J56","v":165000.00000000003},{"$f":"SA34a!K52+SA34a!K54+SA34a!K55+SA34a!K56","v":181500.00000000006}]
["Software and other intangible assets",null,null,{"$f":"'A9-Asset'!C48","v":0},{"$f":"'A9-Asset'!D48","v":0},{"$f":"'A9-Asset'!E48","v":0},{"$f":"'A9-Asset'!F48","v":0},{"$f":"'A9-Asset'!G48","v":0},{"$f":"'A9-Asset'!H48","v":0},{"$f":"'A9-Asset'!I48","v":0},{"$f":"'A9-Asset'!I48","v":0},{"$f":"'A9-Asset'!J48","v":0},{"$f":"'A9-Asset'!K48","v":0}]
["Land and subsoil assets",null,null,{"$f":"SA34a!C61","v":0},{"$f":"SA34a!D61","v":0},{"$f":"SA34a!E61","v":0},{"$f":"SA34a!F61","v":650000},{"$f":"SA34a!G61","v":0},{"$f":"SA34a!H61","v":0},{"$f":"SA34a!I61","v":0},{"$f":"SA34a!I61","v":0},{"$f":"SA34a!J61","v":0},{"$f":"SA34a!K61","v":0}]
["Total payments",null,null,{"$f":"SUM(D34,D37,D43,D47,D48,D49,D53)","v":{"$error":"#REF!"}},{"$f":"SUM(E34,E37,E43,E47,E48,E49,E53)","v":{"$error":"#REF!"}},{"$error":"#REF!"},{"$error":"#REF!"},{"$error":"#REF!"},{"$error":"#REF!"},{"$f":"SUM(J34,J37,J43,J47,J48,J49,J53)","v":{"$error":"#REF!"}},{"$error":"#REF!"},{"$error":"#REF!"},{"$error":"#REF!"}]
["Receipts less payments",null,null,{"$f":"D31-D58","v":{"$error":"#REF!"}},{"$f":"E31-E58","v":{"$error":"#REF!"}},{"$error":"#REF!"},{"$error":"#REF!"},{"$error":"#REF!"},{"$error":"#REF!"},{"$error":"#REF!"},{"$error":"#REF!"},{"$error":"#REF!"},{"$error":"#REF!"}]
["Financing"]
[{"$f":"'A7-CFlow'!A30","v":"Borrowing long term/refinancing"},null,null,{"$f":"SUM('A7-CFlow'!C29,'A7-CFlow'!C30)","v":0},{"$f":"SUM('A7-CFlow'!D29,'A7-CFlow'!D30)","v":0},{"$f":"SUM('A7-CFlow'!E29,'A7-CFlow'!E30)","v":0},{"$f":"SUM('A7-CFlow'!F29,'A7-CFlow'!F30)","v":0},{"$f":"SUM('A7-CFlow'!G29,'A7-CFlow'!G30)","v":0},{"$f":"SUM('A7-CFlow'!H29,'A7-CFlow'!H30)","v":0},{"$f":"SUM('A7-CFlow'!I29,'A7-CFlow'!I30)","v":0},{"$f":"SUM('A7-CFlow'!J29,'A7-CFlow'!J30)","v":0},{"$f":"SUM('A7-CFlow'!K29,'A7-CFlow'!K30)","v":0},{"$f":"SUM('A7-CFlow'!L29,'A7-CFlow'!L30)","v":0}]
["Consumer deposits",null,null,{"$f":"'A7-CFlow'!C31","v":0},{"$f":"'A7-CFlow'!D31","v":0},{"$f":"'A7-CFlow'!E31","v":0},{"$f":"'A7-CFlow'!F31","v":0},{"$f":"'A7-CFlow'!G31","v":0},{"$f":"'A7-CFlow'!H31","v":0},{"$f":"'A7-CFlow'!I31","v":0},{"$f":"'A7-CFlow'!J31","v":0},{"$f":"'A7-CFlow'!K31","v":0},{"$f":"'A7-CFlow'!L31","v":0}]
["Investment receipts",null,null,{"$f":"IF('A7-CFlow'!C22>0,'A7-CFlow'!C22,0)","v":0},{"$f":"IF('A7-CFlow'!D22>0,'A7-CFlow'!D22,0)","v":31973},{"$f":"IF('A7-CFlow'!E22>0,'A7-CFlow'!E22,0)","v":0},{"$f":"IF('A7-CFlow'!F22>0,'A7-CFlow'!F22,0)","v":0},{"$f":"IF('A7-CFlow'!G22>0,'A7-CFlow'!G22,0)","v":0},{"$f":"IF('A7-CFlow'!H22>0,'A7-CFlow'!H22,0)","v":0},{"$f":"IF('A7-CFlow'!I22>0,'A7-CFlow'!I22,0)","v":0},{"$f":"IF('A7-CFlow'!J22>0,'A7-CFlow'!J22,0)","v":0},{"$f":"IF('A7-CFlow'!K22>0,'A7-CFlow'!K22,0)","v":0},{"$f":"IF('A7-CFlow'!L22>0,'A7-CFlow'!L22,0)","v":0}]
["Investment payments",null,null,{"$f":"IF('A7-CFlow'!C22<0,'A7-CFlow'!C22,0)","v":-901256},{"$f":"IF('A7-CFlow'!D22<0,'A7-CFlow'!D22,0)","v":0},{"$f":"IF('A7-CFlow'!E22<0,'A7-CFlow'!E22,0)","v":0},{"$f":"IF('A7-CFlow'!F22<0,'A7-CFlow'!F22,0)","v":0},{"$f":"IF('A7-CFlow'!G22<0,'A7-CFlow'!G22,0)","v":0},{"$f":"IF('A7-CFlow'!H22<0,'A7-CFlow'!H22,0)","v":0},{"$f":"IF('A7-CFlow'!I22<0,'A7-CFlow'!I22,0)","v":0},{"$f":"IF('A7-CFlow'!J22<0,'A7-CFlow'!J22,0)","v":0},{"$f":"IF('A7-CFlow'!K22<0,'A7-CFlow'!K22,0)","v":0},{"$f":"IF('A7-CFlow'!L22<0,'A7-CFlow'!L22,0)","v":0}]
[{"$f":"'A7-CFlow'!A33","v":"Repayment of borrowing"},null,null,{"$f":"'A7-CFlow'!C33","v":-254470},{"$f":"'A7-CFlow'!D33","v":-397947},{"$f":"'A7-CFlow'!E33","v":-362859},{"$f":"'A7-CFlow'!F33","v":0},{"$f":"'A7-CFlow'!G33","v":0},{"$f":"'A7-CFlow'!H33","v":0},{"$f":"'A7-CFlow'!I33","v":0},{"$f":"'A7-CFlow'!J33","v":-500000},{"$f":"'A7-CFlow'!K33","v":-550000},{"$f":"'A7-CFlow'!L33","v":-605000}]
[{"$f":"A59&\" and Financing\"","v":"Receipts less payments and Financing"},null,null,{"$f":"SUM(D59:D65)","v":{"$error":"#REF!"}},{"$f":"SUM(E59:E65)","v":{"$error":"#REF!"}},{"$error":"#REF!"},{"$error":"#REF!"},{"$error":"#REF!"},{"$error":"#REF!"},{"$error":"#REF!"},{"$error":"#REF!"},{"$error":"#REF!"},{"$error":"#REF!"}]
["Net increase/(decrease) in cash held",null,null,{"$f":"'A7-CFlow'!C36","v":-524523},{"$f":"'A7-CFlow'!D36","v":9703914},{"$f":"'A7-CFlow'!E36","v":-13659933},{"$f":"'A7-CFlow'!F36","v":-1549608.515789479},{"$f":"'A7-CFlow'!G36","v":1417554.8089068159},{"$f":"'A7-CFlow'!H36","v":1417554.8089068159},{"$f":"'A7-CFlow'!I36","v":1415908.8089068159},{"$f":"'A7-CFlow'!J36","v":-2328509.4099999964},{"$f":"'A7-CFlow'!K36","v":-2561360.3509999961},{"$f":"'A7-CFlow'!L36","v":-2817496.3860999942}]
[null,null,null,{"$f":"D66-D67","v":{"$error":"#REF!"}},{"$f":"E66-E67","v":{"$error":"#REF!"}},{"$error":"#REF!"},{"$error":"#REF!"},{"$error":"#REF!"},{"$error":"#REF!"},{"$error":"#REF!"},{"$error":"#REF!"},{"$error":"#REF!"},{"$error":"#REF!"}]
[]
["Increase/(decrease) in tax/consumer debtors",null,null,{"$f":"'A7-CFlow'!C20+'A7-CFlow'!C21-NERF!D74","v":507546.83333333302},{"$f":"'A7-CFlow'!D20+'A7-CFlow'!D21-NERF!E74","v":-819896},{"$f":"'A7-CFlow'!E20+'A7-CFlow'!E21-NERF!F74","v":2465385},{"$f":"'A7-CFlow'!F20+'A7-CFlow'!F21-NERF!G74","v":-1033317.68},{"$f":"'A7-CFlow'!G20+'A7-CFlow'!G21-NERF!H74","v":0},{"$f":"'A7-CFlow'!H20+'A7-CFlow'!H21-NERF!I74","v":0},{"$f":"'A7-CFlow'!I20+'A7-CFlow'!I21-NERF!J74","v":0},{"$f":"'A7-CFlow'!J20+'A7-CFlow'!J21-NERF!K74","v":1033317.68},{"$f":"'A7-CFlow'!K20+'A7-CFlow'!K21-NERF!L74","v":0},{"$f":"'A7-CFlow'!L20+'A7-CFlow'!L21-NERF!M74","v":0}]
["Increase/(decrease) attributable to rates",null,null,{"$f":"IF(ISERROR(ROUND(D70*D76,0)),0,(ROUND(D70*D76,0)))","v":0},0,0,0,0,0,0,0,0,0]
["Increase/(decrease) attributable to service debtors",null,null,{"$f":"D70-D71","v":507546.83333333302},{"$f":"E70-E71","v":-819896},2465385,-1033317.68,0,0,0,1033317.68,0,0]
[{"$f":"'A6-FinPos'!A9","v":"Other debtors"},null,{"$f":"TREND(D73:F73)","v":2393035.833333333},{"$f":"'A6-FinPos'!C9","v":1885489},{"$f":"'A6-FinPos'!D9","v":2465385},{"$f":"'A6-FinPos'!E9","v":0},{"$f":"'A6-FinPos'!F9","v":1033317.68},{"$f":"'A6-FinPos'!G9","v":1033317.68},{"$f":"'A6-FinPos'!H9","v":1033317.68},{"$f":"'A6-FinPos'!I9","v":1033317.68},{"$f":"'A6-FinPos'!J9","v":0},{"$f":"'A6-FinPos'!K9","v":0},{"$f":"'A6-FinPos'!L9","v":0}]
["Increase/(decrease) in other debtors",null,null,{"$f":"D73-C73","v":-507546.83333333302},{"$f":"E73-D73","v":579896},-2465385,1033317.68,0,0,0,{"$f":"K73-I73","v":-1033317.68},0,0]
[]
["Property tax revenue as % of tax + service revenue",null,null,{"$f":"IF(ISERROR(ROUND(('A4-FinPerf RE'!C5+'A4-FinPerf RE'!C6)/SUM('A4-FinPerf RE'!C5:C11),3)),0,(ROUND(('A4-FinPerf RE'!C5+'A4-FinPerf RE'!C6)/SUM('A4-FinPerf RE'!C5:C11),3)))","v":0},{"$f":"IF(ISERROR(ROUND(('A4-FinPerf RE'!D5+'A4-FinPerf RE'!D6)/SUM('A4-FinPerf RE'!D5:D11),3)),0,(ROUND(('A4-FinPerf RE'!D5+'A4-FinPerf RE'!D6)/SUM('A4-FinPerf RE'!D5:D11),3)))","v":0},{"$f":"IF(ISERROR(ROUND(('A4-FinPerf RE'!E5+'A4-FinPerf RE'!E6)/SUM('A4-FinPerf RE'!E5:E11),3)),0,(ROUND(('A4-FinPerf RE'!E5+'A4-FinPerf RE'!E6)/SUM('A4-FinPerf RE'!E5:E11),3)))","v":0},{"$f":"IF(ISERROR(ROUND(('A4-FinPerf RE'!F5+'A4-FinPerf RE'!F6)/SUM('A4-FinPerf RE'!F5:F11),3)),0,(ROUND(('A4-FinPerf RE'!F5+'A4-FinPerf RE'!F6)/SUM('A4-FinPerf RE'!F5:F11),3)))","v":0},{"$f":"IF(ISERROR(ROUND(('A4-FinPerf RE'!G5+'A4-FinPerf RE'!G6)/SUM('A4-FinPerf RE'!G5:G11),3)),0,(ROUND(('A4-FinPerf RE'!G5+'A4-FinPerf RE'!G6)/SUM('A4-FinPerf RE'!G5:G11),3)))","v":0},{"$f":"IF(ISERROR(ROUND(('A4-FinPerf RE'!H5+'A4-FinPerf RE'!H6)/SUM('A4-FinPerf RE'!H5:H11),3)),0,(ROUND(('A4-FinPerf RE'!H5+'A4-FinPerf RE'!H6)/SUM('A4-FinPerf RE'!H5:H11),3)))","v":0},{"$f":"IF(ISERROR(ROUND(('A4-FinPerf RE'!I5+'A4-FinPerf RE'!I6)/SUM('A4-FinPerf RE'!I5:I11),3)),0,(ROUND(('A4-FinPerf RE'!I5+'A4-FinPerf RE'!I6)/SUM('A4-FinPerf RE'!I5:I11),3)))","v":0},{"$f":"IF(ISERROR(ROUND(('A4-FinPerf RE'!J5+'A4-FinPerf RE'!J6)/SUM('A4-FinPerf RE'!J5:J11),3)),0,(ROUND(('A4-FinPerf RE'!J5+'A4-FinPerf RE'!J6)/SUM('A4-FinPerf RE'!J5:J11),3)))","v":0},{"$f":"IF(ISERROR(ROUND(('A4-FinPerf RE'!K5+'A4-FinPerf RE'!K6)/SUM('A4-FinPerf RE'!K5:K11),3)),0,(ROUND(('A4-FinPerf RE'!K5+'A4-FinPerf RE'!K6)/SUM('A4-FinPerf RE'!K5:K11),3)))","v":0},{"$f":"IF(ISERROR(ROUND(('A4-FinPerf RE'!L5+'A4-FinPerf RE'!L6)/SUM('A4-FinPerf RE'!L5:L11),3)),0,(ROUND(('A4-FinPerf RE'!L5+'A4-FinPerf RE'!L6)/SUM('A4-FinPerf RE'!L5:L11),3)))","v":0}]
["Check total receipts = Cash Flow Budget",null,null,{"$f":"D31-'A7-CFlow'!C43","v":{"$error":"#REF!"}},{"$f":"E31-'A7-CFlow'!D43","v":{"$error":"#REF!"}},{"$f":"F31-'A7-CFlow'!E43","v":{"$error":"#REF!"}},{"$f":"G31-'A7-CFlow'!F43","v":{"$error":"#REF!"}},{"$f":"H31-'A7-CFlow'!G43","v":{"$error":"#REF!"}},{"$f":"I31-'A7-CFlow'!H43","v":{"$error":"#REF!"}},{"$f":"J31-'A7-CFlow'!I43","v":{"$error":"#REF!"}},{"$f":"K31-'A7-CFlow'!J43","v":{"$error":"#REF!"}},{"$f":"L31-'A7-CFlow'!K43","v":{"$error":"#REF!"}},{"$f":"M31-'A7-CFlow'!L43","v":{"$error":"#REF!"}}]
["Check changes in cash flow receivables apportioned",null,null,{"$f":"'A7-CFlow'!C20+'A7-CFlow'!C21-NERF!D71-NERF!D72-NERF!D74","v":0},{"$f":"'A7-CFlow'!D20+'A7-CFlow'!D21-NERF!E71-NERF!E72-NERF!E74","v":0},{"$f":"'A7-CFlow'!E20+'A7-CFlow'!E21-NERF!F71-NERF!F72-NERF!F74","v":0},{"$f":"'A7-CFlow'!F20+'A7-CFlow'!F21-NERF!G71-NERF!G72-NERF!G74","v":0},{"$f":"'A7-CFlow'!G20+'A7-CFlow'!G21-NERF!H71-NERF!H72-NERF!H74","v":0},{"$f":"'A7-CFlow'!H20+'A7-CFlow'!H21-NERF!I71-NERF!I72-NERF!I74","v":0},{"$f":"'A7-CFlow'!I20+'A7-CFlow'!I21-NERF!J71-NERF!J72-NERF!J74","v":0},{"$f":"'A7-CFlow'!J20+'A7-CFlow'!J21-NERF!K71-NERF!K72-NERF!K74","v":0},{"$f":"'A7-CFlow'!K20+'A7-CFlow'!K21-NERF!L71-NERF!L72-NERF!L74","v":0},{"$f":"'A7-CFlow'!L20+'A7-CFlow'!L21-NERF!M71-NERF!M72-NERF!M74","v":0}]
[]
["Check total payments - Cash Flow Budget",null,null,{"$f":"D58+'A7-CFlow'!C44","v":{"$error":"#REF!"}},{"$f":"E58+'A7-CFlow'!D44","v":{"$error":"#REF!"}},{"$f":"F58+'A7-CFlow'!E44","v":{"$error":"#REF!"}},{"$f":"G58+'A7-CFlow'!F44","v":{"$error":"#REF!"}},{"$f":"H58+'A7-CFlow'!G44","v":{"$error":"#REF!"}},{"$f":"I58+'A7-CFlow'!H44","v":{"$error":"#REF!"}},{"$f":"J58+'A7-CFlow'!I44","v":{"$error":"#REF!"}},{"$f":"K58+'A7-CFlow'!J44","v":{"$error":"#REF!"}},{"$f":"L58+'A7-CFlow'!K44","v":{"$error":"#REF!"}},{"$f":"M58+'A7-CFlow'!L44","v":{"$error":"#REF!"}}]
[]
["Negative income adjustment"]

{"sheet":"MSCOA","index":62,"n_rows":37,"n_cols":8,"rows_kept":37,"cut":false,"hidden":true,"merged":[[1,1,1,2],[1,3,1,4]]}
["UNDER DEVELOPMENT - 2008/09 PROJECT"]
["Standard classifications",{"$f":"'A4-FinPerf RE'!A4","v":"Revenue By Source"},null,{"$f":"'A4-FinPerf RE'!A24","v":"Expenditure By Type"},null,"Financial Position categories and sub-categories","Cash Flow categories & sub-categories","Asset Management"]
[null,"Top level","Supporting table level",{"$f":"B3","v":"Top level"},{"$f":"C3","v":"Supporting table level"}]
[{"$f":"'A2-FinPerf SC'!A5","v":"Governance and administration"},{"$f":"'A4-FinPerf RE'!A5","v":"Property rates"},null,{"$f":"'A4-FinPerf RE'!A25","v":"Employee related costs"},{"$f":"'SA1'!A49","v":"Basic Salaries and Wages"},{"$f":"'A6-FinPos'!A4","v":"ASSETS"},{"$f":"'A7-CFlow'!A4","v":"CASH FLOW FROM OPERATING ACTIVITIES"},{"$f":"'A9-Asset'!A11","v":"Infrastructure"}]
[{"$f":"'A2-FinPerf SC'!A6","v":"Executive and council"},{"$f":"'A4-FinPerf RE'!A6","v":"Property rates - penalties & collection charges"},null,null,{"$f":"'SA1'!A50","v":"Pension and UIF Contributions"},{"$f":"'A6-FinPos'!A5","v":"Current assets"},{"$f":"'A7-CFlow'!A5","v":"Receipts"},{"$f":"'A9-Asset'!A12","v":"Community"}]
[{"$f":"'A2-FinPerf SC'!A7","v":"Budget and treasury office"},{"$f":"'A4-FinPerf RE'!A7","v":"Service charges - electricity revenue"},null,null,{"$f":"'SA1'!A51","v":"Medical Aid Contributions"},{"$f":"'A6-FinPos'!A6","v":"Cash"},{"$f":"'A7-CFlow'!A6","v":"Ratepayers and other"},{"$f":"'A9-Asset'!A13","v":"Heritage assets"}]
[{"$f":"'A2-FinPerf SC'!A8","v":"Corporate services"},{"$f":"'A4-FinPerf RE'!A8","v":"Service charges - water revenue"},null,null,{"$f":"'SA1'!A56","v":"Housing Allowances"},{"$f":"'A6-FinPos'!A7","v":"Call investment deposits"},{"$f":"'A7-CFlow'!A7","v":"Government - operating"},{"$f":"'A9-Asset'!A14","v":"Investment properties"}]
[{"$f":"'A2-FinPerf SC'!A9","v":"Community and public safety"},{"$f":"'A4-FinPerf RE'!A9","v":"Service charges - sanitation revenue"},null,null,{"$f":"'SA1'!A57","v":"Other benefits and allowances"},{"$f":"'A6-FinPos'!A8","v":"Consumer debtors"},{"$f":"'A7-CFlow'!A8","v":"Government - capital"},{"$f":"'A9-Asset'!A15","v":"Other assets"}]
[{"$f":"'A2-FinPerf SC'!A10","v":"Community and social services"},{"$f":"'A4-FinPerf RE'!A10","v":"Service charges - refuse revenue"},{"$f":"'SA1'!A27","v":"Total refuse removal revenue"},null,{"$f":"'SA1'!A58","v":"Payments in lieu of leave"},{"$f":"'A6-FinPos'!A9","v":"Other debtors"},{"$f":"'A7-CFlow'!A9","v":"Interest"},{"$f":"'A9-Asset'!A18","v":"Intangibles"}]
[{"$f":"'A2-FinPerf SC'!A11","v":"Sport and recreation"},null,{"$f":"'SA1'!#REF!","v":{"$error":"#REF!"}},null,{"$f":"'SA1'!A59","v":"Long service awards"},{"$f":"'A6-FinPos'!A10","v":"Current portion of long-term receivables"},{"$f":"'A7-CFlow'!A10","v":"Dividends"},{"$f":"'A9-Asset'!A17","v":"Biological assets"}]
[{"$f":"'A2-FinPerf SC'!A12","v":"Public safety"},{"$f":"'A4-FinPerf RE'!A11","v":"Service charges - other"},null,null,{"$f":"'SA1'!A60","v":"Post-retirement benefit obligations"},{"$f":"'A6-FinPos'!A11","v":"Inventory"},{"$f":"'A7-CFlow'!A11","v":"Payments"}]
[{"$f":"'A2-FinPerf SC'!A13","v":"Housing"},{"$f":"'A4-FinPerf RE'!A12","v":"Rental of facilities and equipment"},null,null,{"$f":"'SA1'!A62","v":"Less: Employees costs capitalised to PPE"},{"$f":"'A6-FinPos'!A14","v":"Non current assets"},{"$f":"'A7-CFlow'!A12","v":"Suppliers and employees"}]
[{"$f":"'A2-FinPerf SC'!A14","v":"Health"},{"$f":"'A4-FinPerf RE'!A13","v":"Interest earned - external investments"},null,{"$f":"'A4-FinPerf RE'!A26","v":"Remuneration of councillors"},null,{"$f":"'A6-FinPos'!A15","v":"Long-term receivables"},{"$f":"'A7-CFlow'!A13","v":"Finance charges"}]
[{"$f":"'A2-FinPerf SC'!A20","v":"Electricity"},{"$f":"'A4-FinPerf RE'!A14","v":"Interest earned - outstanding debtors"},null,{"$f":"'A4-FinPerf RE'!A27","v":"Debt impairment"},null,{"$f":"'A6-FinPos'!A16","v":"Investments"},{"$f":"'A7-CFlow'!A14","v":"Transfers and Grants"}]
[{"$f":"'A2-FinPerf SC'!A21","v":"Water"},{"$f":"'A4-FinPerf RE'!A15","v":"Dividends received"},null,{"$f":"'A4-FinPerf RE'!A15","v":"Dividends received"},null,{"$f":"'A6-FinPos'!A17","v":"Investment property"},{"$f":"'A7-CFlow'!A17","v":"CASH FLOWS FROM INVESTING ACTIVITIES"}]
[{"$f":"'A2-FinPerf SC'!A22","v":"Waste water management"},{"$f":"'A4-FinPerf RE'!A16","v":"Fines"},null,{"$f":"'A4-FinPerf RE'!A28","v":"Depreciation & asset impairment"},{"$f":"'SA1'!A75","v":"Depreciation of Property, Plant & Equipment"},{"$f":"'A6-FinPos'!A18","v":"Investment in Associate"},{"$f":"'A7-CFlow'!A18","v":"Receipts"}]
[{"$f":"'A2-FinPerf SC'!A23","v":"Waste management"},{"$f":"'A4-FinPerf RE'!A17","v":"Licences and permits"},null,null,{"$f":"'SA1'!A77","v":"Capital asset impairment"},{"$f":"'A6-FinPos'!A19","v":"Property, plant and equipment"},{"$f":"'A7-CFlow'!A19","v":"Proceeds on disposal of PPE"}]
[{"$f":"'A2-FinPerf SC'!A24","v":"Other"},{"$f":"'A4-FinPerf RE'!A18","v":"Agency services"},null,{"$f":"'A4-FinPerf RE'!A29","v":"Finance charges"},null,{"$f":"'A6-FinPos'!A21","v":"Biological"}]
[null,{"$f":"'A4-FinPerf RE'!A19","v":"Transfers recognised - operational"},null,{"$f":"'A4-FinPerf RE'!A30","v":"Bulk purchases"},{"$f":"'SA1'!A82","v":"Electricity Bulk Purchases"},{"$f":"'A6-FinPos'!A22","v":"Intangible"},{"$f":"'A7-CFlow'!A20","v":"Decrease (Increase) in non-current debtors"}]
[null,{"$f":"'A4-FinPerf RE'!A20","v":"Other revenue"},{"$f":"'SA1'!A33","v":"Parking Bays"},null,{"$f":"'SA1'!A83","v":"Water Bulk Purchases"},{"$f":"'A6-FinPos'!A23","v":"Other non-current assets"},{"$f":"'A7-CFlow'!A21","v":"Decrease (increase) other non-current receivables"}]
[null,null,{"$f":"'SA1'!#REF!","v":{"$error":"#REF!"}},{"$f":"'A4-FinPerf RE'!A31","v":"Other materials"},null,{"$f":"'A6-FinPos'!A27","v":"LIABILITIES"}]
[null,null,{"$f":"'SA1'!A44","v":0},{"$f":"'A4-FinPerf RE'!A32","v":"Contracted services"},{"$f":"'SA1'!A119","v":"Electricity"},{"$f":"'A6-FinPos'!A28","v":"Current liabilities"},{"$f":"'A7-CFlow'!A22","v":"Decrease (increase) in non-current investments"}]
[null,{"$f":"'A4-FinPerf RE'!A21","v":"Gains on disposal of PPE"},null,null,{"$f":"'SA1'!A120","v":"Water"},{"$f":"'A6-FinPos'!A29","v":"Bank overdraft"},{"$f":"'A7-CFlow'!A23","v":"Payments"}]
[null,{"$f":"'A4-FinPerf RE'!A39","v":"Transfers recognised - capital"},null,null,{"$f":"'SA1'!A121","v":"Sanitation"},{"$f":"'A6-FinPos'!A30","v":"Borrowing"},{"$f":"'A7-CFlow'!A24","v":"Capital assets"}]
[null,{"$f":"'A4-FinPerf RE'!A40","v":"Contributions recognised - capital"},null,null,{"$f":"'SA1'!A122","v":"Other"},{"$f":"'A6-FinPos'!A31","v":"Consumer deposits"},{"$f":"'A7-CFlow'!A27","v":"CASH FLOWS FROM FINANCING ACTIVITIES"}]
[null,{"$f":"'A4-FinPerf RE'!A41","v":"Contributed assets"},null,{"$f":"'A4-FinPerf RE'!A33","v":"Transfers and grants"},null,{"$f":"'A6-FinPos'!A32","v":"Trade and other payables"},{"$f":"'A7-CFlow'!A28","v":"Receipts"}]
[null,{"$f":"'A4-FinPerf RE'!A43","v":"Taxation"},null,{"$f":"'A4-FinPerf RE'!A34","v":"Other expenditure"},{"$f":"'SA1'!A126","v":"Collection costs"},{"$f":"'A6-FinPos'!#REF!","v":{"$error":"#REF!"}},{"$f":"'A7-CFlow'!A29","v":"Short term loans"}]
[null,{"$f":"'A4-FinPerf RE'!A45","v":"Attributable to minorities"},null,null,{"$f":"'SA1'!A127","v":"Contributions to 'other' provisions"},{"$f":"'A6-FinPos'!A33","v":"Provisions"},{"$f":"'A7-CFlow'!A30","v":"Borrowing long term/refinancing"}]
[null,null,null,null,{"$f":"'SA1'!A128","v":"Consultant fees"},{"$f":"'A6-FinPos'!A36","v":"Non current liabilities"},{"$f":"'A7-CFlow'!A31","v":"Increase (decrease) in consumer deposits"}]
[null,null,null,null,{"$f":"'SA1'!A129","v":"Audit fees"},{"$f":"'A6-FinPos'!A37","v":"Borrowing"},{"$f":"'A7-CFlow'!A32","v":"Payments"}]
[null,null,null,null,{"$f":"'SA1'!A130","v":"General expenses"},{"$f":"'A6-FinPos'!A38","v":"Provisions"},{"$f":"'A7-CFlow'!A33","v":"Repayment of borrowing"}]
[null,null,null,{"$f":"'A4-FinPerf RE'!A35","v":"Loss on disposal of PPE"},null,{"$f":"'A6-FinPos'!A39","v":"Total non current liabilities"},{"$f":"'A7-CFlow'!A37","v":"Cash/cash equivalents at the year begin:"}]
[null,null,null,null,null,{"$f":"'A6-FinPos'!A42","v":"NET ASSETS"},{"$f":"'A7-CFlow'!A38","v":"Cash/cash equivalents at the year end:"}]
[null,null,null,null,null,{"$f":"'A6-FinPos'!A44","v":"COMMUNITY WEALTH/EQUITY"}]
[null,null,null,null,null,{"$f":"'A6-FinPos'!A45","v":"Accumulated Surplus/(Deficit)"}]
[null,null,null,null,null,{"$f":"'A6-FinPos'!A46","v":"Reserves"}]
[null,null,null,null,null,{"$f":"'A6-FinPos'!A47","v":"Minorities' interests"}]

{"sheet":"Compliance assessment","index":63,"n_rows":79,"n_cols":12,"rows_kept":79,"cut":false,"hidden":true,"merged":[[7,0,7,9],[8,4,8,7],[1,0,1,9]]}
["NOTE: This was an early preliminary suggestion aligned to the tables - it should be deleted before publishing"]
["Phase-in compliance assessment description rating"]
["3 = full compliance (schedule/table presented with all information completed)"]
["2 = partial compliance (schedule/table presented with approximately 50% of information displayed)"]
["1 = minimal compliance (schedule/table presented with minimal information)"]
["0 = non-compliance (schedule/table etc not presented)"]
["MHC = mandatory year 1 for high capacity, MMC for medium & MLC for low"]
["Phase-in compliance assessment example"]
["Rating","MHC YR1","MHC YR2","MHC YR3","Description/justification for rating",null,null,null,"Weight","Score *","Max score","Scaling"]
[3,"YES","YES","YES",{"$f":"IF(A10=3,\"Fully completed\",IF(A10=2,\"Substantially completed with missing information\",IF(A10=1,\"Presented but with numerous information gaps\",IF(A10=0,\"Not presented\",\"error\"))))","v":"Fully completed"},null,null,null,0.01,{"$f":"ROUND(((A10*I10)*100)/Scale,2)","v":0.98},3,{"$f":"ROUND((K10*I10)*100,0)","v":3}]
[3,"YES","YES","YES","Fully completed",null,null,null,0.06,5.9,3,18]
[3,"YES","YES","YES","Fully completed",null,null,null,0.03,2.95,3,9]
[3,"YES","YES","YES","Fully completed",null,null,null,0.04,3.93,3,12]
[3,"YES","YES","YES","Fully completed",null,null,null,0.06,5.9,3,18]
[3,"YES","YES","YES","Fully completed",null,null,null,0.03,2.95,3,9]
[3,"YES","YES","YES","Fully completed",null,null,null,0.04,3.93,3,12]
[2,"YES","YES","YES","Substantially completed with missing information",null,null,null,0.03,1.97,3,9]
[2,"NO","NO","YES","Substantially completed with missing information",null,null,null,0.02,1.31,3,6]
[1,"NO","YES","YES","Presented but with numerous information gaps",null,null,null,0.03,0.98,3,9]
[null,null,null,null,null,null,null,"Total score and weighting:",{"$f":"SUM(I10:I19)","v":0.35},{"$f":"SUM(J10:J19)","v":30.8}]
[3,"YES","YES","YES",{"$f":"IF(A21=3,\"Fully completed\",IF(A21=2,\"Substantially completed with missing information\",IF(A21=1,\"Presented but with numerous information gaps\",IF(A21=0,\"Not presented\",\"error\"))))","v":"Fully completed"},null,null,null,0.02,{"$f":"ROUND(((A21*I21)*100)/Scale,2)","v":1.97},3,{"$f":"ROUND((K21*I21)*100,0)","v":6}]
[1,"NO","NO","YES","Presented but with numerous information gaps",null,null,null,0.01,0.33,3,3]
[3,"YES","YES","YES","Fully completed",null,null,null,0.02,1.97,3,6]
[3,"NO","YES","YES","Fully completed",null,null,null,0.01,0.98,3,3]
[3,"NO","YES","YES","Fully completed",null,null,null,0.01,0.98,3,3]
[3,"NO","YES","YES","Fully completed",null,null,null,0.01,0.98,3,3]
[0,"NO","YES","YES","Not presented",null,null,null,0.01,0,3,3]
[2,"YES","YES","YES","Substantially completed with missing information",null,null,null,0.01,0.66,3,3]
[3,"NO","NO","YES","Fully completed",null,null,null,0.01,0.98,3,3]
[2,"YES","YES","YES","Substantially completed with missing information",null,null,null,0.03,1.97,3,9]
[3,"YES","YES","YES","Fully completed",null,null,null,0.01,0.98,3,3]
[3,"YES","YES","YES","Fully completed",null,null,null,0.01,0.98,3,3]
[3,"YES","YES","YES","Fully completed",null,null,null,0.01,0.98,3,3]
[0,"YES","YES","YES","Not presented",null,null,null,0.02,0,3,6]
[0,"NO","YES","YES","Not presented",null,null,null,0.02,0,3,6]
[]
[0,"NO","YES","YES",{"$f":"IF(A37=3,\"Fully completed\",IF(A37=2,\"Substantially completed with missing information\",IF(A37=1,\"Presented but with numerous information gaps\",IF(A37=0,\"Not presented\",\"error\"))))","v":"Not presented"},null,null,null,0.01,{"$f":"ROUND(((A37*I37)*100)/Scale,2)","v":0},3,{"$f":"ROUND((K37*I37)*100,0)","v":3}]
[3,"YES","YES","YES","Fully completed",null,null,null,0.01,0.98,3,3]
[2,"YES","YES","YES","Substantially completed with missing information",null,null,null,0.01,0.66,3,3]
[1,"NO","YES","YES","Presented but with numerous information gaps",null,null,null,0.01,0.33,3,3]
[3,"YES","YES","YES","Fully completed",null,null,null,0.01,0.98,3,3]
[3,"YES","YES","YES","Fully completed",null,null,null,0.01,0.98,3,3]
[3,"YES","YES","YES","Fully completed",null,null,null,0.01,0.98,3,3]
[3,"YES","YES","YES","Fully completed",null,null,null,0.01,0.98,3,3]
[1,"YES","YES","YES","Presented but with numerous information gaps",null,null,null,0.01,0.33,3,3]
[0,"YES","YES","YES","Not presented",null,null,null,0.01,0,3,3]
[0,"NO","YES","YES","Not presented",null,null,null,0.01,0,3,3]
[0,"NO","YES","YES","Not presented",null,null,null,0.01,0,3,3]
[0,"NO","YES","YES","Not presented",null,null,null,0.02,0,3,6]
[2,"NO","YES","YES","Substantially completed with missing information",null,null,null,0.01,0.66,3,3]
[1,"NO","YES","YES","Presented but with numerous information gaps",null,null,null,0.02,0.66,3,6]
[0,"YES","YES","YES","Not presented",null,null,null,0.01,0,3,3]
[0,"NO","YES","YES","Not presented",null,null,null,0.02,0,3,6]
[null,null,null,null,null,null,null,"Total score and weighting:",{"$f":"SUM(I21:I53)","v":0.41000000000000014},{"$f":"SUM(J21:J53)","v":21.300000000000004}]
[]
[3,"YES","YES","YES",{"$f":"IF(A56=3,\"Fully completed\",IF(A56=2,\"Substantially completed with missing information\",IF(A56=1,\"Presented but with numerous information gaps\",IF(A56=0,\"Not presented\",\"error\"))))","v":"Fully completed"},null,null,null,0.01,{"$f":"ROUND(((A56*I56)*100)/Scale,2)","v":0.98},3,{"$f":"ROUND((K56*I56)*100,0)","v":3}]
[3,"YES","YES","YES","Fully completed",null,null,null,0.01,0.98,3,3]
[3,"YES","YES","YES","Fully completed",null,null,null,0.01,0.98,3,3]
[3,"NO","NO","NO","Fully completed",null,null,null,5.0000000000000001E-3,0.49,3,2]
[3,"YES","YES","YES","Fully completed",null,null,null,0.01,0.98,3,3]
[3,"NO","NO","NO","Fully completed",null,null,null,5.0000000000000001E-3,0.49,3,2]
[3,"YES","YES","YES","Fully completed",null,null,null,0.01,0.98,3,3]
[3,"NO","NO","NO","Fully completed",null,null,null,5.0000000000000001E-3,0.49,3,2]
[3,"NO","NO","NO","Fully completed",null,null,null,5.0000000000000001E-3,0.49,3,2]
[3,"YES","YES","YES","Fully completed",null,null,null,0.01,0.98,3,3]
[3,"NO","NO","NO","Fully completed",null,null,null,5.0000000000000001E-3,0.49,3,2]
[3,"NO","NO","NO","Fully completed",null,null,null,5.0000000000000001E-3,0.49,3,2]
[3,"NO","NO","NO","Fully completed",null,null,null,5.0000000000000001E-3,0.49,3,2]
[3,"NO","NO","NO","Fully completed",null,null,null,5.0000000000000001E-3,0.49,3,2]
[3,"NO","NO","NO","Fully completed",null,null,null,5.0000000000000001E-3,0.49,3,2]
[3,"YES","YES","YES","Fully completed",null,null,null,0.01,0.98,3,3]
[1,"YES","YES","YES","Presented but with numerous information gaps",null,null,null,7.4999999999999997E-3,0.25,3,2]
[2,"YES","YES","YES","Substantially completed with missing information",null,null,null,7.4999999999999997E-3,0.49,3,2]
[3,"NO","NO","NO","Fully completed",null,null,null,5.0000000000000001E-3,0.49,3,2]
[3,"YES","YES","YES","Fully completed",null,null,null,1.4999999999999999E-2,1.48,3,5]
[null,null,null,null,null,null,null,"Total weighting and score:",{"$f":"SUM(I56:I75)","v":0.15000000000000002},{"$f":"SUM(J56:J75)","v":13.980000000000004},null,{"$f":"SUM(L10:L75)","v":278}]
[null,null,null,null,null,null,null,"TOTAL BUDGET PHASE-IN/COMPLIANCE ASSESSMENT SCORE:",{"$f":"I20+I54+I76","v":0.91000000000000014},{"$f":"J20+J54+J76","v":66.080000000000013},null,3.05]
[]
[null,null,null,null,null,null,null,"* scaled to score out of 100"]